Workbook
Name Alberta_20_No: Lists!$CQ$7:$CQ$58
Name Alberta_20_Yes: Lists!$CP$7:$CP$58
Name Alberta_25_No: Lists!$CS$7:$CS$58
Name Alberta_25_Yes: Lists!$CR$7:$CR$58
Name Alberta_30_No: Lists!$CU$7:$CU$58
Name Alberta_30_Yes: Lists!$CT$7:$CT$58
Name Alberta_32_No: Lists!$CW$7:$CW$58
Name Alberta_32_Yes: Lists!$CV$7:$CV$58
Name Alberta_35_No: Lists!$CY$7:$CY$58
Name Alberta_35_Yes: Lists!$CX$7:$CX$58
Name Alberta_40_Yes: Lists!$CZ$7:$CZ$58
Name Alberta_45_No: Lists!$DA$7:$DA$58
Name Alberta_45_Yes: Lists!$DB$7:$DB$58
Name Alberta_50_No: Lists!$DD$7:$DD$58
Name Alberta_50_Yes: Lists!$DC$7:$DC$58
Name Alberta_55_No: Lists!$DE$7:$DE$58
Name Alberta_No: Lists!$M$7:$M$17
Name Alberta_Yes: Lists!$L$7:$L$17
Name Atlantic_20_No: Lists!$AS$7:$AS$58
Name Atlantic_20_Yes: Lists!$AT$7:$AT$58
Name Atlantic_25_No: Lists!$AU$7:$AU$58
Name Atlantic_25_Yes: Lists!$AV$7:$AV$58
Name Atlantic_30_No: Lists!$AW$7:$AW$58
Name Atlantic_30_Yes: Lists!$AX$7:$AX$58
Name Atlantic_32_Yes: Lists!$AY$7:$AY$58
Name Atlantic_35_No: Lists!$AZ$7:$AZ$58
Name Atlantic_35_Yes: Lists!$BA$7:$BA$58
Name Atlantic_40_No: Lists!$BB$7:$BB$58
Name Atlantic_40_Yes: Lists!$BC$7:$BC$58
Name Atlantic_45_No: Lists!$BD$7:$BD$58
Name Atlantic_45_Yes: Lists!$BE$7:$BE$58
Name Atlantic_50_No: Lists!$BF$7:$BF$58
Name Atlantic_50_Yes: Lists!$BG$7:$BG$58
Name Atlantic_60_No: Lists!$BH$7:$BH$58
Name Atlantic_No: Lists!$W$7:$W$17
Name Atlantic_Yes: Lists!$V$7:$V$17
Name British_Columbia_15_No: Lists!$DF$7:$DF$58
Name British_Columbia_20_No: Lists!$DH$7:$DH$58
Name British_Columbia_20_Yes: Lists!$DG$7:$DG$58
Name British_Columbia_25_No: Lists!$DJ$7:$DJ$58
Name British_Columbia_25_Yes: Lists!$DI$7:$DI$58
Name British_Columbia_30_No: Lists!$DL$7:$DL$58
Name British_Columbia_30_Yes: Lists!$DK$7:$DK$58
Name British_Columbia_32_No: Lists!$DN$7:$DN$58
Name British_Columbia_32_Yes: Lists!$DM$7:$DM$58
Name British_Columbia_35_No: Lists!$DP$7:$DP$58
Name British_Columbia_35_Yes: Lists!$DO$7:$DO$58
Name British_Columbia_40_No: Lists!$DR$7:$DR$58
Name British_Columbia_40_Yes: Lists!$DQ$7:$DQ$58
Name British_Columbia_45_No: Lists!$DT$7:$DT$58
Name British_Columbia_45_Yes: Lists!$DS$7:$DS$58
Name British_Columbia_50_No: Lists!$DV$7:$DV$58
Name British_Columbia_50_Yes: Lists!$DU$7:$DU$58
Name British_Columbia_55_No: Lists!$DX$7:$DX$58
Name British_Columbia_55_Yes: Lists!$DW$7:$DW$58
Name British_Columbia_60_No: Lists!$DZ$7:$DZ$58
Name British_Columbia_60_Yes: Lists!$DY$7:$DY$58
Name British_Columbia_No: Lists!$K$7:$K$17
Name British_Columbia_Yes: Lists!$J$7:$J$17
Name ConcreteAirEntrained: [1]Lists!$H$7:$H$9

Sheet Instructions
G3: Embodied Carbon Project Materials Disclosure Template
C5: Introduction
C7: The Embodied Carbon Project Disclosure Template is part of a series of tools developed to support federal organizations organize the data required to calculate their GHG emissions and apply the quantification methods established by the Centre for Greening Government (CGG) with improvements included by Housing and Infrastructure Construction Canada (HICC).
C10: If you have any questions, please speak with your Government of Canada project management team and/or the department's greening operations team. If they are not able to answer the question, or if you have suggestions to improve this template, please have them contact the Centre for Greening Government at
C11: Greening-Vert@tbs-sct.gc.ca
C14: Structure
C16: This template includes eight workboooks for the user: "Instructions", "Project Summary Results", "Organization Information", "Project Information", "Concrete Reporting Example", "Concrete Reporting", "Steel Reporting Example", and "Steel Reporting".
C19: Tab & Cell Shading Conventions
C21: The colour of tabs at the bottom of the template indicates what type of information they contain and/or how the tab is used.
C23: Dark Grey | D23: Instructions, reporting example, background calculation inputs & lists
C24: Dark Red | D24: Summary of calculated results
C25: Light Blue | D25: Input worksheets
C27: The colour of cells in the template indicates what type of data they contain and/or how the data is used.
C29: White | D29: General text and unused cells, background calculation inputs
C30: Dark Grey | D30: Table headings, blank cells and conversion factors
C31: Light Grey | D31: Input fields
C32: Light Red | D32: Calculated results
C34: Guidance Document
C36: This Embodied Carbon Disclosure Template should be read with the Guide for implementing The Standard on Embodied Carbon in Construction.
C38: Key Steps for Embodied Carbon Data Entry
C40: Detailed guidance is provided in the Guide for implementing The Standard on Embodied Carbon in Construction. Key steps are summarized below. For ease of use and accurate accounting, it is recommended that the steps listed below be followed when using this template. Since the calculation functions have been automated, GHG accounting accuracy depends on the quality of the data input into the templates.
C43: 1 | D43: First, read the "Instructions" worksheet, and the Guide for implementing The Standard on Embodied Carbon in Construction
C44: 2 | D44: Next, input data requested in the "Organization Information" worksheet.
C45: 3 | D45: Next, input data requested in the "Project Information" worksheet.
D46: ! | E46: Before moving to the Steel Reporting tab, please inform if the project was exempted from observing the Standard on Embodied Carbon in Construction limits as this will impact future calculations by selecting Yes or No from the dropdown menu.
C48: 4 | D48: Next, input data requested in the "Concrete Reporting" worksheet, as applicable throughout the project reporting process.
D49: a. | E49: For concrete, enter each mix type provided on the project.
D50: b. | E50: Add/delete rows as necessary.
D51: c. | E51: When cutting and pasting data from other sources, note the following:
E52: · To avoid getting an error message, make sure the number and alignment of the data columns match the Template.
E53: · To avoid transferring formulas and formatting, use the Paste Special... | Values command.
C54: 5 | D54: Next, input data requested in the "Steel Reporting" worksheet, as applicable throughout the project reporting process.
D55: a. | E55: Enter all steel products categories used in the project, with a breakdown per structural element. Add/delete rows as necessary.
D56: b. | E56: Enter the weight (in tonnes)of procured steel to each line, relative to its product category and structural element.
D57: c. | E57: Under EPD/LCI Information, you will be requested to enter values from the EPD and/or LCI analysis for each steel product category:
D58: d. | E58: Provide information regaring the steel manufacturer, if you are collecting data from an EPD or a LCI assessment, and its reference number for eventual future consultations.
D59: e. | E59: Next, input the % of recycled steel (scrap steel) as stated in the EPD/LCI. This data will inform the calculation of the Primary Steel Credit, as define in the Guide for implementing The Standard on Embodied Carbon in Construction. If unknown, please add "100%", so the credit will not be factored in. ----> % Primary Steel = 100% - % Recycled Steel
D61: f. | E61: Next, select from the dropdown menu if the values informed by the EPD/LCI are Fabricated or Unfabricated products. If Unfabricated, the reporting template will automatically adjust the value using the adjustment factors defined in the Guide for implementing The Standard on Embodied Carbon in Construction.
D63: g. | E63: For the next three colums, inform the Embodied Carbon (reported in EPDs as GWP) values stated in the EPD/LCI for A1 (Extraction and Upstream Production), A2 (Transportation to Factory), and A3 (Manufacturing) life cycle stages, all in kg CO2 eq./tonne. If the EPD/LCI provides only the total amount of the combined A1 to A3 life cycle stages (Cradle to Gate values), please enter the total value to the A1 column and enter 0 for the remaining A2 and A3 columns.
D66: h. | E66: Please enter any relevant note to the Notes section.
...

Sheet Project Summary Results
F3: Embodied Carbon Project Materials Disclosure Template
C5: Summary Results - Embodied Carbon
C7: Organization: | E7: ='Organization Information'!E7 -> [Organization]
C10: Name of Project | E10: ='Project Information'!F9 -> [Name of Project]
C12: Project Number | E12: ='Project Information'!F10 -> [Project Number]
C14: ='Organization Information'!C10 -> Date of Submission | E14: ='Organization Information'!E10 -> [dd/mm/yyyy]
C16: Emissions from Concrete
C17: Total Emissions (tonnes CO2e) | E17: ='Concrete Reporting'!S44 -> 0
C18: Total Project Reduction Compared to Baselines (%) | E18: ='Concrete Reporting'!V44 -> -
C20: Emissions from Steel
C21: Total Emissions (tonnes CO2e) | E21: ='Steel Reporting'!T47 -> 0
C23: Project Narrative: | E23: ='Project Information'!F24 -> 0
C33: Description of Measures To Reduce Embodied Carbon from Concrete: | E33: ='Project Information'!F27 -> 0
C43: Description of Measures To Reduce Embodied Carbon from Steel: | E43: ='Project Information'!F31 -> 0

Sheet Project Information
F3: Embodied Carbon Project Materials Disclosure Template
D5: Project Overview
D6: =Organization_Name -> [Organization]
D7: =F9 -> [Name of Project]
D9: Project Information: | E9: Name of Project | F9: [Name of Project]
E10: Project Number | F10: [Project Number]
E11: Project Class of Estimate at Time of Submission
E12: Project Location Municipality | F12: [Project Municipality]
E13: Project Province/Territory | F13: [Select]
E14: Asset Archetype | F14: [Asset Archetype (Bridge, Office, Lab, Water Treatment Plant Building, etc.)]
D17: Is this project exempted of observing limits ON THE CONCRETE part of the Standard on Embodied Carbon in Construction? (Please select Yes or No from the Dropdown menu)
D19: Is this project exempted of observing limits ON THE STEEL part of the Standard on Embodied Carbon in Construction? (Please select Yes or No from the Dropdown menu) | F19: No
D21: Exemption Rationale:
D22: This section is to include the rationale behind the exemption - cost, location, etc. - for EITHER/OR CONCRETE AND STEEL. Please provide as many details as possible.
D24: Project Narrative (Designer Notes):
D25: This section is for additional information relating to the project. If necessary, additional notes may be submitted in a separate document
D27: Description of Measures To Reduce Embodied Carbon for CONCRETE:
D29: This section is to briefly describe design and material choice measures to reduce project embodied emissions for CONCRETE.
D31: Description of Measures To Reduce Embodied Carbon for STEEL:
D33: This section is to briefly describe design and material choice measures to reduce project embodied emissions for STEEL.

Sheet Organization Information
G3: Embodied Carbon Project Materials Disclosure Template
C5: Organizational information - Embodied Carbon
C7: Organization: | E7: [Organization]
C10: Date of Submission | E10: [dd/mm/yyyy]
C12: ConcreteSubmission Prepared by... | D12: Preparer Name: | E12: [Preparer Name]
D13: Preparer Title: | E13: [Preparer Title]
D14: Prepararer Organization: | E14: [Preparer Organization]
C16: Steel Submission Prepared by... | D16: Preparer Name: | E16: [Preparer Name]
D17: Preparer Title: | E17: [Preparer Title]
D18: Prepararer Organization: | E18: [Preparer Organization]
C20: Notes on embodied carbon disclosure:
C21: This section is for additional context relating to the disclosure. If necessary, additional notes may be submitted in a separate document.
E30: SIGNATURE | F30: NAME | G30: DATE
C31: SIGNATURE OF PREPARER:
C32: (Concrete Submission)
E33: SIGNATURE | F33: NAME | G33: DATE
C34: SIGNATURE OF PREPARER:
C35: (Steel Submission)

Sheet Concrete Reporting Example
W3: Embodied Carbon Project Materials Disclosure Template
D4: Ready-Mixed Concrete Reporting
E6: [Organization]
E7: [Name of Project]
E8: [dd/mm/yyyy]
E10: Ready-Mixed Concrete on Project | L10: Baseline GHG Calculations | P10: Actual Design GHG Calculations | U10: GHG Emissions Reduction
E11: Region | F11: Structural Element Description | G11: Special Application | H11: Volume Reduction | I11: Concrete Air Entrained | J11: Compressive Strength at 28 days | L11: Baseline GWP | M11: Baseline Volume | N11: Baseline GHG Emissions | P11: Actual Ready-Mixed Concrete Mix | Q11: Actual GWP | R11: Actual Volume | S11: Actual GHG Emissions | U11: GHG Emissions Reduced From the Baseline | W11: Notes
G12: Yes/No | H12: Yes/No | I12: Yes/No | J12: MPa | L12: kg CO2/m3 | M12: m3 | N12: tCO2 | Q12: kg CO2/m3 | R12: m3 | S12: tCO2 | U12: tCO2 | V12: %
E13: Ontario | F13: Floor Decks, Slabs | G13: No | H13: No | I13: No | J13: 40 | L13: =IFERROR(VLOOKUP(CONCATENATE(E13,",",J13,",",I13),'CAC EPDs'!$M$8:$O$126,3,FALSE),0) -> 326.25 | M13: 20 | N13: =IF(G13="Yes",M13*(L13*'Other Inputs'!$D$7)/1000,M13*L13/1000) -> 6.525 | P13: 40 MPa concrete without air GU | Q13: =IFERROR(VLOOKUP(CONCATENATE(E13,", ",P13),'CAC EPDs'!$G$8:$I$1500,3,FALSE), "-") -> 367.02 | S13: =IFERROR(IF(H13="Yes",R13*Q13/1000,M13*Q13/1000),"-") -> 7.3404 | U13: =IFERROR(N13-S13,"-") -> -0.8154 | V13: =IFERROR(U13/N13,"-") -> -0.12496552
E14: Ontario | F14: Floor Structural Frame | G14: Yes | H14: No | I14: No | J14: 60 | L14: =IFERROR(VLOOKUP(CONCATENATE(E14,",",J14,",",I14),'CAC EPDs'!$M$8:$O$126,3,FALSE),0) -> 361.25 | M14: 30 | N14: =IF(G14="Yes",M14*(L14*'Other Inputs'!$D$7)/1000,M14*L14/1000) -> 14.08875 | P14: Baseline 60 MPa concrete without air GUbSF 20 SL | Q14: =IFERROR(VLOOKUP(CONCATENATE(E14,", ",P14),'CAC EPDs'!$G$8:$I$1500,3,FALSE), "-") -> 361.25 | S14: =IFERROR(IF(H14="Yes",R14*Q14/1000,M14*Q14/1000),"-") -> 10.8375 | U14: =IFERROR(N14-S14,"-") -> 3.25125 | V14: =IFERROR(U14/N14,"-") -> 0.23076923
E15: Ontario | F15: Floor Decks, Slabs | G15: No | H15: Yes | I15: No | J15: 40 | L15: =IFERROR(VLOOKUP(CONCATENATE(E15,",",J15,",",I15),'CAC EPDs'!$M$8:$O$126,3,FALSE),0) -> 326.25 | M15: 10 | N15: =IF(G15="Yes",M15*(L15*'Other Inputs'!$D$7)/1000,M15*L15/1000) -> 3.2625 | P15: Baseline 40 MPa concrete without air GU 15 SL | Q15: =IFERROR(VLOOKUP(CONCATENATE(E15,", ",P15),'CAC EPDs'!$G$8:$I$1500,3,FALSE), "-") -> 326.25 | R15: 9 | S15: =IFERROR(IF(H15="Yes",R15*Q15/1000,M15*Q15/1000),"-") -> 2.93625 | U15: =IFERROR(N15-S15,"-") -> 0.32625 | V15: =IFERROR(U15/N15,"-") -> 0.1
E16: Ontario | F16: Floor Structural Frame | G16: No | H16: No | I16: Yes | J16: 50 | L16: =IFERROR(VLOOKUP(CONCATENATE(E16,",",J16,",",I16),'CAC EPDs'!$M$8:$O$126,3,FALSE),0) -> 456.93 | M16: 30 | N16: =IF(G16="Yes",M16*(L16*'Other Inputs'!$D$7)/1000,M16*L16/1000) -> 13.7079 | P16: 50 MPa concrete with air GUbSF 25 SL | Q16: =IFERROR(VLOOKUP(CONCATENATE(E16,", ",P16),'CAC EPDs'!$G$8:$I$1500,3,FALSE), "-") -> 437.25 | S16: =IFERROR(IF(H16="Yes",R16*Q16/1000,M16*Q16/1000),"-") -> 13.1175 | U16: =IFERROR(N16-S16,"-") -> 0.5904 | V16: =IFERROR(U16/N16,"-") -> 0.043070054
E17: Ontario | F17: Floor Decks, Slabs | G17: No | H17: No | I17: No | J17: 30 | L17: =IFERROR(VLOOKUP(CONCATENATE(E17,",",J17,",",I17),'CAC EPDs'!$M$8:$O$126,3,FALSE),0) -> 264.38 | M17: 20 | N17: =IF(G17="Yes",M17*(L17*'Other Inputs'!$D$7)/1000,M17*L17/1000) -> 5.2876 | P17: 30 MPa concrete without air GU 35 SL | Q17: =IFERROR(VLOOKUP(CONCATENATE(E17,", ",P17),'CAC EPDs'!$G$8:$I$1500,3,FALSE), "-") -> 221.39 | S17: =IFERROR(IF(H17="Yes",R17*Q17/1000,M17*Q17/1000),"-") -> 4.4278 | U17: =IFERROR(N17-S17,"-") -> 0.8598 | V17: =IFERROR(U17/N17,"-") -> 0.16260685
E18: Ontario | F18: Stair Construction | G18: Yes | H18: No | I18: No | J18: 60 | L18: =IFERROR(VLOOKUP(CONCATENATE(E18,",",J18,",",I18),'CAC EPDs'!$M$8:$O$126,3,FALSE),0) -> 361.25 | M18: 15 | N18: =IF(G18="Yes",M18*(L18*'Other Inputs'!$D$7)/1000,M18*L18/1000) -> 7.044375 | P18: Baseline 60 MPa concrete without air GUbSF 20 SL | Q18: =IFERROR(VLOOKUP(CONCATENATE(E18,", ",P18),'CAC EPDs'!$G$8:$I$1500,3,FALSE), "-") -> 361.25 | S18: =IFERROR(IF(H18="Yes",R18*Q18/1000,M18*Q18/1000),"-") -> 5.41875 | U18: =IFERROR(N18-S18,"-") -> 1.625625 | V18: =IFERROR(U18/N18,"-") -> 0.23076923
E19: Ontario | F19: Floor Decks, Slabs | G19: No | H19: No | I19: Yes | J19: 45 | L19: =IFERROR(VLOOKUP(CONCATENATE(E19,",",J19,",",I19),'CAC EPDs'!$M$8:$O$126,3,FALSE),0) -> 379.45 | M19: 10 | N19: =IF(G19="Yes",M19*(L19*'Other Inputs'!$D$7)/1000,M19*L19/1000) -> 3.7945 | P19: Baseline 45 MPa concrete with air GU 15 SL | Q19: =IFERROR(VLOOKUP(CONCATENATE(E19,", ",P19),'CAC EPDs'!$G$8:$I$1500,3,FALSE), "-") -> 379.45 | S19: =IFERROR(IF(H19="Yes",R19*Q19/1000,M19*Q19/1000),"-") -> 3.7945 | U19: =IFERROR(N19-S19,"-") -> 0 | V19: =IFERROR(U19/N19,"-") -> 0
E20: Ontario | F20: Pedestrian Pavement | G20: No | H20: No | I20: No | J20: 25 | L20: =IFERROR(VLOOKUP(CONCATENATE(E20,",",J20,",",I20),'CAC EPDs'!$M$8:$O$126,3,FALSE),0) -> 254.05 | M20: 10 | N20: =IF(G20="Yes",M20*(L20*'Other Inputs'!$D$7)/1000,M20*L20/1000) -> 2.5405 | P20: 25 MPa concrete without air GU 35 SL | Q20: =IFERROR(VLOOKUP(CONCATENATE(E20,", ",P20),'CAC EPDs'!$G$8:$I$1500,3,FALSE), "-") -> 205.01 | S20: =IFERROR(IF(H20="Yes",R20*Q20/1000,M20*Q20/1000),"-") -> 2.0501 | U20: =IFERROR(N20-S20,"-") -> 0.4904 | V20: =IFERROR(U20/N20,"-") -> 0.19303287
E22: Project Total (Design) | M22: =SUM(M13:M20) -> 145 | N22: =SUM(N13:N20) -> 56.251125 | S22: =SUM(S13:S20) -> 49.9228 | U22: =SUM(U13:U20) -> 6.328325 | V22: =IFERROR(U22/N22,"-") -> 0.11250131

Sheet Steel Reporting Example
D4: Steel Reporting | X4: Embodied Carbon Project Materials Disclosure Template - Steel
E6: =Organization_Name -> [Organization]
E7: ='Project Information'!F9 -> [Name of Project]
E8: ='Organization Information'!E10 -> [dd/mm/yyyy]
E10: Project Information | I10: EPD/LCI Information | Q10: Notes | T10: GHG Emissions | V10: EC With Primary Steel Credit and Tier Achieved
E11: Steel Product Category | F11: Structural Element | G11: Total Weight | I11: Manufacturer | J11: EPD or LCI | K11: EPD/LCI Number | L11: % Recycled Steel | M11: Fabricated / Unfabricated | N11: A1 | O11: A2 | P11: A3 | T11: Total Emissions | V11: % Primary Steel | W11: A1-A3 With Credit | X11: Tier Achieved With Primary Steel Credit
G12: tonnes | N12: ( kg CO2 eq./t) | O12: ( kg CO2 eq./t) | P12: ( kg CO2 eq./t) | T12: (tonnes CO2 eq.) | W12: ( kg CO2 eq./t)
E13: Rebar | F13: Substructure/Foundation | G13: 65 | I13: Manufacturer 1 | J13: EPD | K13: 345 | L13: 1 | M13: Unfabricated | N13: 620 | O13: 30 | P13: 41 | T13: =IF(E13="","",SUM(N13:P13)*10^-3*G13) -> 44.915 | V13: =IF('Project Information'!$F$17="Yes","Exempted",IF(L13="","",100%-L13)) -> 0 | W13: =IF('Project Information'!$F$17="Yes","Exempted",IF(OR(E13="",M13="",N13="",O13="",P13="",L13=""),"",IF((SUM(N13:P13)-(V13*585))<0,0,SUM(N13:P13)-(V13*585)))) -> 691 | X13: =IF('Project Information'!$F$17="Yes","Exempted",IF(W13="","",IF($W13<=VLOOKUP(_xlfn.CONCAT($E13,",",$M13),'Steel Tiers'!$K$8:$N$21,2,FALSE),"Best 20%",IF($W13<=VLOOKUP(_xlfn.CONCAT($E13,",",$M13),'Steel Tiers'!$K$8:$N$21,3,FALSE),"Best 40%",IF($W13<=VLOOKUP(_xlfn.CONCAT($E13,",",$M13),'Steel Tiers'!$K$8:$N$21,4,FALSE),"Better than average","Does not meet any criteria"))))) -> Better than average
E14: Rebar | F14: Superstructure | G14: 24 | I14: Manufacturer 2 | J14: EPD | K14: 346536 | L14: 0.98 | M14: Fabricated | N14: 500 | O14: 9 | P14: 0 | T14: =IF(E14="","",SUM(N14:P14)*10^-3*G14) -> 12.216 | V14: =IF('Project Information'!$F$17="Yes","Exempted",IF(L14="","",100%-L14)) -> 0.02 | W14: =IF('Project Information'!$F$17="Yes","Exempted",IF(OR(E14="",M14="",N14="",O14="",P14="",L14=""),"",IF((SUM(N14:P14)-(V14*585))<0,0,SUM(N14:P14)-(V14*585)))) -> 497.3 | X14: =IF('Project Information'!$F$17="Yes","Exempted",IF(W14="","",IF($W14<=VLOOKUP(_xlfn.CONCAT($E14,",",$M14),'Steel Tiers'!$K$8:$N$21,2,FALSE),"Best 20%",IF($W14<=VLOOKUP(_xlfn.CONCAT($E14,",",$M14),'Steel Tiers'!$K$8:$N$21,3,FALSE),"Best 40%",IF($W14<=VLOOKUP(_xlfn.CONCAT($E14,",",$M14),'Steel Tiers'!$K$8:$N$21,4,FALSE),"Better than average","Does not meet any criteria"))))) -> Best 20%
E15: Hollow Structural Sections | F15: Superstructure | G15: 34 | I15: Manufacturer 3 | J15: EPD | K15: 36241 | L15: 0.3 | M15: Fabricated | N15: 1847 | O15: 0 | P15: 0 | T15: =IF(E15="","",SUM(N15:P15)*10^-3*G15) -> 62.798 | V15: =IF('Project Information'!$F$17="Yes","Exempted",IF(L15="","",100%-L15)) -> 0.7 | W15: =IF('Project Information'!$F$17="Yes","Exempted",IF(OR(E15="",M15="",N15="",O15="",P15="",L15=""),"",IF((SUM(N15:P15)-(V15*585))<0,0,SUM(N15:P15)-(V15*585)))) -> 1437.5 | X15: =IF('Project Information'!$F$17="Yes","Exempted",IF(W15="","",IF($W15<=VLOOKUP(_xlfn.CONCAT($E15,",",$M15),'Steel Tiers'!$K$8:$N$21,2,FALSE),"Best 20%",IF($W15<=VLOOKUP(_xlfn.CONCAT($E15,",",$M15),'Steel Tiers'!$K$8:$N$21,3,FALSE),"Best 40%",IF($W15<=VLOOKUP(_xlfn.CONCAT($E15,",",$M15),'Steel Tiers'!$K$8:$N$21,4,FALSE),"Better than average","Does not meet any criteria"))))) -> Best 20%
E16: Hot-Rolled Sections | F16: Superstructure | G16: 54 | I16: Manufacturer 4 | J16: LCA | K16: 26246 | L16: 0.95 | M16: Fabricated | N16: 798 | O16: 39 | P16: 83.4 | T16: =IF(E16="","",SUM(N16:P16)*10^-3*G16) -> 49.7016 | V16: =IF('Project Information'!$F$17="Yes","Exempted",IF(L16="","",100%-L16)) -> 0.05 | W16: =IF('Project Information'!$F$17="Yes","Exempted",IF(OR(E16="",M16="",N16="",O16="",P16="",L16=""),"",IF((SUM(N16:P16)-(V16*585))<0,0,SUM(N16:P16)-(V16*585)))) -> 891.15 | X16: =IF('Project Information'!$F$17="Yes","Exempted",IF(W16="","",IF($W16<=VLOOKUP(_xlfn.CONCAT($E16,",",$M16),'Steel Tiers'!$K$8:$N$21,2,FALSE),"Best 20%",IF($W16<=VLOOKUP(_xlfn.CONCAT($E16,",",$M16),'Steel Tiers'!$K$8:$N$21,3,FALSE),"Best 40%",IF($W16<=VLOOKUP(_xlfn.CONCAT($E16,",",$M16),'Steel Tiers'!$K$8:$N$21,4,FALSE),"Better than average","Does not meet any criteria"))))) -> Best 20%
E17: Sheet Steel Decking | F17: Superstructure | G17: 17 | I17: Manufacturer 5 | J17: EPD | K17: 23524 | L17: 0.33 | M17: Fabricated | N17: 1982 | O17: 127.2 | P17: 178 | T17: =IF(E17="","",SUM(N17:P17)*10^-3*G17) -> 38.8824 | V17: =IF('Project Information'!$F$17="Yes","Exempted",IF(L17="","",100%-L17)) -> 0.67 | W17: =IF('Project Information'!$F$17="Yes","Exempted",IF(OR(E17="",M17="",N17="",O17="",P17="",L17=""),"",IF((SUM(N17:P17)-(V17*585))<0,0,SUM(N17:P17)-(V17*585)))) -> 1895.25 | X17: =IF('Project Information'!$F$17="Yes","Exempted",IF(W17="","",IF($W17<=VLOOKUP(_xlfn.CONCAT($E17,",",$M17),'Steel Tiers'!$K$8:$N$21,2,FALSE),"Best 20%",IF($W17<=VLOOKUP(_xlfn.CONCAT($E17,",",$M17),'Steel Tiers'!$K$8:$N$21,3,FALSE),"Best 40%",IF($W17<=VLOOKUP(_xlfn.CONCAT($E17,",",$M17),'Steel Tiers'!$K$8:$N$21,4,FALSE),"Better than average","Does not meet any criteria"))))) -> Best 40%
E18: Open Web Steel Joists | F18: Superstructure | G18: 2 | I18: Manufacturer 6 | J18: LCA | K18: 23524 | L18: 0.97 | M18: Fabricated | N18: 891 | O18: 43 | P18: 51.3 | T18: =IF(E18="","",SUM(N18:P18)*10^-3*G18) -> 1.9706 | V18: =IF('Project Information'!$F$17="Yes","Exempted",IF(L18="","",100%-L18)) -> 0.03 | W18: =IF('Project Information'!$F$17="Yes","Exempted",IF(OR(E18="",M18="",N18="",O18="",P18="",L18=""),"",IF((SUM(N18:P18)-(V18*585))<0,0,SUM(N18:P18)-(V18*585)))) -> 967.75 | X18: =IF('Project Information'!$F$17="Yes","Exempted",IF(W18="","",IF($W18<=VLOOKUP(_xlfn.CONCAT($E18,",",$M18),'Steel Tiers'!$K$8:$N$21,2,FALSE),"Best 20%",IF($W18<=VLOOKUP(_xlfn.CONCAT($E18,",",$M18),'Steel Tiers'!$K$8:$N$21,3,FALSE),"Best 40%",IF($W18<=VLOOKUP(_xlfn.CONCAT($E18,",",$M18),'Steel Tiers'!$K$8:$N$21,4,FALSE),"Better than average","Does not meet any criteria"))))) -> Best 20%
E19: Sheet Steel Decking | F19: Envelope & Roofing | G19: 48 | I19: Manufacturer 7 | J19: EPD | K19: 234165 | L19: 0 | M19: Fabricated | N19: 3265 | O19: 0 | P19: 0 | T19: =IF(E19="","",SUM(N19:P19)*10^-3*G19) -> 156.72 | V19: =IF('Project Information'!$F$17="Yes","Exempted",IF(L19="","",100%-L19)) -> 1 | W19: =IF('Project Information'!$F$17="Yes","Exempted",IF(OR(E19="",M19="",N19="",O19="",P19="",L19=""),"",IF((SUM(N19:P19)-(V19*585))<0,0,SUM(N19:P19)-(V19*585)))) -> 2680 | X19: =IF('Project Information'!$F$17="Yes","Exempted",IF(W19="","",IF($W19<=VLOOKUP(_xlfn.CONCAT($E19,",",$M19),'Steel Tiers'!$K$8:$N$21,2,FALSE),"Best 20%",IF($W19<=VLOOKUP(_xlfn.CONCAT($E19,",",$M19),'Steel Tiers'!$K$8:$N$21,3,FALSE),"Best 40%",IF($W19<=VLOOKUP(_xlfn.CONCAT($E19,",",$M19),'Steel Tiers'!$K$8:$N$21,4,FALSE),"Better than average","Does not meet any criteria"))))) -> Does not meet any criteria
T20: =IF(E20="","",SUM(N20:P20)*10^-3*G20) | V20: =IF('Project Information'!$F$17="Yes","Exempted",IF(L20="","",100%-L20)) | W20: =IF('Project Information'!$F$17="Yes","Exempted",IF(OR(E20="",M20="",N20="",O20="",P20="",L20=""),"",IF((SUM(N20:P20)-(V20*585))<0,0,SUM(N20:P20)-(V20*585)))) | X20: =IF('Project Information'!$F$17="Yes","Exempted",IF(W20="","",IF($W20<=VLOOKUP(_xlfn.CONCAT($E20,",",$M20),'Steel Tiers'!$K$8:$N$21,2,FALSE),"Best 20%",IF($W20<=VLOOKUP(_xlfn.CONCAT($E20,",",$M20),'Steel Tiers'!$K$8:$N$21,3,FALSE),"Best 40%",IF($W20<=VLOOKUP(_xlfn.CONCAT($E20,",",$M20),'Steel Tiers'!$K$8:$N$21,4,FALSE),"Better than average","Does not meet any criteria")))))
T21: =IF(E21="","",SUM(N21:P21)*10^-3*G21) | V21: =IF('Project Information'!$F$17="Yes","Exempted",IF(L21="","",100%-L21)) | W21: =IF('Project Information'!$F$17="Yes","Exempted",IF(OR(E21="",M21="",N21="",O21="",P21="",L21=""),"",IF((SUM(N21:P21)-(V21*585))<0,0,SUM(N21:P21)-(V21*585)))) | X21: =IF('Project Information'!$F$17="Yes","Exempted",IF(W21="","",IF($W21<=VLOOKUP(_xlfn.CONCAT($E21,",",$M21),'Steel Tiers'!$K$8:$N$21,2,FALSE),"Best 20%",IF($W21<=VLOOKUP(_xlfn.CONCAT($E21,",",$M21),'Steel Tiers'!$K$8:$N$21,3,FALSE),"Best 40%",IF($W21<=VLOOKUP(_xlfn.CONCAT($E21,",",$M21),'Steel Tiers'!$K$8:$N$21,4,FALSE),"Better than average","Does not meet any criteria")))))
T22: =IF(E22="","",SUM(N22:P22)*10^-3*G22) | V22: =IF('Project Information'!$F$17="Yes","Exempted",IF(L22="","",100%-L22)) | W22: =IF('Project Information'!$F$17="Yes","Exempted",IF(OR(E22="",M22="",N22="",O22="",P22="",L22=""),"",IF((SUM(N22:P22)-(V22*585))<0,0,SUM(N22:P22)-(V22*585)))) | X22: =IF('Project Information'!$F$17="Yes","Exempted",IF(W22="","",IF($W22<=VLOOKUP(_xlfn.CONCAT($E22,",",$M22),'Steel Tiers'!$K$8:$N$21,2,FALSE),"Best 20%",IF($W22<=VLOOKUP(_xlfn.CONCAT($E22,",",$M22),'Steel Tiers'!$K$8:$N$21,3,FALSE),"Best 40%",IF($W22<=VLOOKUP(_xlfn.CONCAT($E22,",",$M22),'Steel Tiers'!$K$8:$N$21,4,FALSE),"Better than average","Does not meet any criteria")))))
T23: =IF(E23="","",SUM(N23:P23)*10^-3*G23) | V23: =IF('Project Information'!$F$17="Yes","Exempted",IF(L23="","",100%-L23)) | W23: =IF('Project Information'!$F$17="Yes","Exempted",IF(OR(E23="",M23="",N23="",O23="",P23="",L23=""),"",IF((SUM(N23:P23)-(V23*585))<0,0,SUM(N23:P23)-(V23*585)))) | X23: =IF('Project Information'!$F$17="Yes","Exempted",IF(W23="","",IF($W23<=VLOOKUP(_xlfn.CONCAT($E23,",",$M23),'Steel Tiers'!$K$8:$N$21,2,FALSE),"Best 20%",IF($W23<=VLOOKUP(_xlfn.CONCAT($E23,",",$M23),'Steel Tiers'!$K$8:$N$21,3,FALSE),"Best 40%",IF($W23<=VLOOKUP(_xlfn.CONCAT($E23,",",$M23),'Steel Tiers'!$K$8:$N$21,4,FALSE),"Better than average","Does not meet any criteria")))))
T24: =IF(E24="","",SUM(N24:P24)*10^-3*G24) | V24: =IF('Project Information'!$F$17="Yes","Exempted",IF(L24="","",100%-L24)) | W24: =IF('Project Information'!$F$17="Yes","Exempted",IF(OR(E24="",M24="",N24="",O24="",P24="",L24=""),"",IF((SUM(N24:P24)-(V24*585))<0,0,SUM(N24:P24)-(V24*585)))) | X24: =IF('Project Information'!$F$17="Yes","Exempted",IF(W24="","",IF($W24<=VLOOKUP(_xlfn.CONCAT($E24,",",$M24),'Steel Tiers'!$K$8:$N$21,2,FALSE),"Best 20%",IF($W24<=VLOOKUP(_xlfn.CONCAT($E24,",",$M24),'Steel Tiers'!$K$8:$N$21,3,FALSE),"Best 40%",IF($W24<=VLOOKUP(_xlfn.CONCAT($E24,",",$M24),'Steel Tiers'!$K$8:$N$21,4,FALSE),"Better than average","Does not meet any criteria")))))
T25: =IF(E25="","",SUM(N25:P25)*10^-3*G25) | V25: =IF('Project Information'!$F$17="Yes","Exempted",IF(L25="","",100%-L25)) | W25: =IF('Project Information'!$F$17="Yes","Exempted",IF(OR(E25="",M25="",N25="",O25="",P25="",L25=""),"",IF((SUM(N25:P25)-(V25*585))<0,0,SUM(N25:P25)-(V25*585)))) | X25: =IF('Project Information'!$F$17="Yes","Exempted",IF(W25="","",IF($W25<=VLOOKUP(_xlfn.CONCAT($E25,",",$M25),'Steel Tiers'!$K$8:$N$21,2,FALSE),"Best 20%",IF($W25<=VLOOKUP(_xlfn.CONCAT($E25,",",$M25),'Steel Tiers'!$K$8:$N$21,3,FALSE),"Best 40%",IF($W25<=VLOOKUP(_xlfn.CONCAT($E25,",",$M25),'Steel Tiers'!$K$8:$N$21,4,FALSE),"Better than average","Does not meet any criteria")))))
T26: =IF(E26="","",SUM(N26:P26)*10^-3*G26) | V26: =IF('Project Information'!$F$17="Yes","Exempted",IF(L26="","",100%-L26)) | W26: =IF('Project Information'!$F$17="Yes","Exempted",IF(OR(E26="",M26="",N26="",O26="",P26="",L26=""),"",IF((SUM(N26:P26)-(V26*585))<0,0,SUM(N26:P26)-(V26*585)))) | X26: =IF('Project Information'!$F$17="Yes","Exempted",IF(W26="","",IF($W26<=VLOOKUP(_xlfn.CONCAT($E26,",",$M26),'Steel Tiers'!$K$8:$N$21,2,FALSE),"Best 20%",IF($W26<=VLOOKUP(_xlfn.CONCAT($E26,",",$M26),'Steel Tiers'!$K$8:$N$21,3,FALSE),"Best 40%",IF($W26<=VLOOKUP(_xlfn.CONCAT($E26,",",$M26),'Steel Tiers'!$K$8:$N$21,4,FALSE),"Better than average","Does not meet any criteria")))))
T27: =IF(E27="","",SUM(N27:P27)*10^-3*G27) | V27: =IF('Project Information'!$F$17="Yes","Exempted",IF(L27="","",100%-L27)) | W27: =IF('Project Information'!$F$17="Yes","Exempted",IF(OR(E27="",M27="",N27="",O27="",P27="",L27=""),"",IF((SUM(N27:P27)-(V27*585))<0,0,SUM(N27:P27)-(V27*585)))) | X27: =IF('Project Information'!$F$17="Yes","Exempted",IF(W27="","",IF($W27<=VLOOKUP(_xlfn.CONCAT($E27,",",$M27),'Steel Tiers'!$K$8:$N$21,2,FALSE),"Best 20%",IF($W27<=VLOOKUP(_xlfn.CONCAT($E27,",",$M27),'Steel Tiers'!$K$8:$N$21,3,FALSE),"Best 40%",IF($W27<=VLOOKUP(_xlfn.CONCAT($E27,",",$M27),'Steel Tiers'!$K$8:$N$21,4,FALSE),"Better than average","Does not meet any criteria")))))
T28: =IF(E28="","",SUM(N28:P28)*10^-3*G28) | V28: =IF('Project Information'!$F$17="Yes","Exempted",IF(L28="","",100%-L28)) | W28: =IF('Project Information'!$F$17="Yes","Exempted",IF(OR(E28="",M28="",N28="",O28="",P28="",L28=""),"",IF((SUM(N28:P28)-(V28*585))<0,0,SUM(N28:P28)-(V28*585)))) | X28: =IF('Project Information'!$F$17="Yes","Exempted",IF(W28="","",IF($W28<=VLOOKUP(_xlfn.CONCAT($E28,",",$M28),'Steel Tiers'!$K$8:$N$21,2,FALSE),"Best 20%",IF($W28<=VLOOKUP(_xlfn.CONCAT($E28,",",$M28),'Steel Tiers'!$K$8:$N$21,3,FALSE),"Best 40%",IF($W28<=VLOOKUP(_xlfn.CONCAT($E28,",",$M28),'Steel Tiers'!$K$8:$N$21,4,FALSE),"Better than average","Does not meet any criteria")))))
T29: =IF(E29="","",SUM(N29:P29)*10^-3*G29) | V29: =IF('Project Information'!$F$17="Yes","Exempted",IF(L29="","",100%-L29)) | W29: =IF('Project Information'!$F$17="Yes","Exempted",IF(OR(E29="",M29="",N29="",O29="",P29="",L29=""),"",IF((SUM(N29:P29)-(V29*585))<0,0,SUM(N29:P29)-(V29*585)))) | X29: =IF('Project Information'!$F$17="Yes","Exempted",IF(W29="","",IF($W29<=VLOOKUP(_xlfn.CONCAT($E29,",",$M29),'Steel Tiers'!$K$8:$N$21,2,FALSE),"Best 20%",IF($W29<=VLOOKUP(_xlfn.CONCAT($E29,",",$M29),'Steel Tiers'!$K$8:$N$21,3,FALSE),"Best 40%",IF($W29<=VLOOKUP(_xlfn.CONCAT($E29,",",$M29),'Steel Tiers'!$K$8:$N$21,4,FALSE),"Better than average","Does not meet any criteria")))))
T30: =IF(E30="","",SUM(N30:P30)*10^-3*G30) | V30: =IF('Project Information'!$F$17="Yes","Exempted",IF(L30="","",100%-L30)) | W30: =IF('Project Information'!$F$17="Yes","Exempted",IF(OR(E30="",M30="",N30="",O30="",P30="",L30=""),"",IF((SUM(N30:P30)-(V30*585))<0,0,SUM(N30:P30)-(V30*585)))) | X30: =IF('Project Information'!$F$17="Yes","Exempted",IF(W30="","",IF($W30<=VLOOKUP(_xlfn.CONCAT($E30,",",$M30),'Steel Tiers'!$K$8:$N$21,2,FALSE),"Best 20%",IF($W30<=VLOOKUP(_xlfn.CONCAT($E30,",",$M30),'Steel Tiers'!$K$8:$N$21,3,FALSE),"Best 40%",IF($W30<=VLOOKUP(_xlfn.CONCAT($E30,",",$M30),'Steel Tiers'!$K$8:$N$21,4,FALSE),"Better than average","Does not meet any criteria")))))
T31: =IF(E31="","",SUM(N31:P31)*10^-3*G31) | V31: =IF('Project Information'!$F$17="Yes","Exempted",IF(L31="","",100%-L31)) | W31: =IF('Project Information'!$F$17="Yes","Exempted",IF(OR(E31="",M31="",N31="",O31="",P31="",L31=""),"",IF((SUM(N31:P31)-(V31*585))<0,0,SUM(N31:P31)-(V31*585)))) | X31: =IF('Project Information'!$F$17="Yes","Exempted",IF(W31="","",IF($W31<=VLOOKUP(_xlfn.CONCAT($E31,",",$M31),'Steel Tiers'!$K$8:$N$21,2,FALSE),"Best 20%",IF($W31<=VLOOKUP(_xlfn.CONCAT($E31,",",$M31),'Steel Tiers'!$K$8:$N$21,3,FALSE),"Best 40%",IF($W31<=VLOOKUP(_xlfn.CONCAT($E31,",",$M31),'Steel Tiers'!$K$8:$N$21,4,FALSE),"Better than average","Does not meet any criteria")))))
... T45: =IF(E45="","",SUM(N45:P45)*10^-3*G45) | V45: =IF('Project Information'!$F$17="Yes","Exempted",IF(L45="","",100%-L45)) | W45: =IF('Project Information'!$F$17="Yes","Exempted",IF(OR(E45="",M45="",N45="",O45="",P45="",L45=""),"",IF((SUM(N45:P45)-(V45*585))<0,0,SUM(N45:P45)-(V45*585)))) | X45: =IF('Project Information'!$F$17="Yes","Exempted",IF(W45="","",IF($W45<=VLOOKUP(_xlfn.CONCAT($E45,",",$M45),'Steel Tiers'!$K$8:$N$21,2,FALSE),"Best 20%",IF($W45<=VLOOKUP(_xlfn.CONCAT($E45,",",$M45),'Steel Tiers'!$K$8:$N$21,3,FALSE),"Best 40%",IF($W45<=VLOOKUP(_xlfn.CONCAT($E45,",",$M45),'Steel Tiers'!$K$8:$N$21,4,FALSE),"Better than average","Does not meet any criteria")))))
F47: Total Weight of Steel Used in the Project: | G47: =SUM(G13:G45) -> 244 | H47: tonnes | Q47: Total Emissions: | T47: =SUM(T13:T45) -> 367.2036 | U47: tonnes CO2 eq.

Sheet Concrete Reporting
W3: Embodied Carbon Project Materials Disclosure Template - Concrete
D4: Ready-Mixed Concrete Reporting
E6: [Organization]
E7: [Name of Project]
E8: [dd/mm/yyyy]
E10: Ready-Mixed Concrete on Project | L10: Baseline GHG Calculations | P10: Actual Design GHG Calculations | U10: GHG Emissions Reduction
E11: Region | F11: Structural Element Description | G11: Special Application | H11: Volume Reduction | I11: Concrete Air Entrained | J11: Compressive Strength at 28 days | L11: Baseline GWP | M11: Baseline Volume | N11: Baseline GHG Emissions | P11: Actual Ready-Mixed Concrete Mix | Q11: Actual GWP | R11: Actual Volume | S11: Actual GHG Emissions | U11: GHG Emissions Reduced From the Baseline | W11: Notes
G12: Yes/No | H12: Yes/No | I12: Yes/No | J12: MPa | L12: kg CO2/m3 | M12: m3 | N12: tCO2 | Q12: kg CO2/m3 | R12: m3 | S12: tCO2 | U12: tCO2 | V12: %
E13: ='Project Information'!$F$13 -> [Select] | L13: =IFERROR(VLOOKUP(CONCATENATE(E13,",",J13,",",I13),'CAC EPDs'!$M$8:$O$126,3,FALSE),0) -> 0 | N13: =IF(G13="Yes",M13*(L13*'Other Inputs'!$D$7)/1000,M13*L13/1000) -> 0 | Q13: =IFERROR(VLOOKUP(CONCATENATE(E13,", ",P13),'CAC EPDs'!$G$8:$I$1500,3,FALSE), "-") -> - | S13: =IFERROR(IF(H13="Yes",R13*Q13/1000,M13*Q13/1000),"-") -> - | U13: =IFERROR(N13-S13,"-") -> - | V13: =IFERROR(U13/N13,"-") -> -
E14: ='Project Information'!$F$13 -> [Select] | L14: =IFERROR(VLOOKUP(CONCATENATE(E14,",",J14,",",I14),'CAC EPDs'!$M$8:$O$126,3,FALSE),0) -> 0 | N14: =IF(G14="Yes",M14*(L14*'Other Inputs'!$D$7)/1000,M14*L14/1000) -> 0 | Q14: =IFERROR(VLOOKUP(CONCATENATE(E14,", ",P14),'CAC EPDs'!$G$8:$I$1500,3,FALSE), "-") -> - | S14: =IFERROR(IF(H14="Yes",R14*Q14/1000,M14*Q14/1000),"-") -> - | U14: =IFERROR(N14-S14,"-") -> - | V14: =IFERROR(U14/N14,"-") -> -
E15: ='Project Information'!$F$13 -> [Select] | L15: =IFERROR(VLOOKUP(CONCATENATE(E15,",",J15,",",I15),'CAC EPDs'!$M$8:$O$126,3,FALSE),0) -> 0 | N15: =IF(G15="Yes",M15*(L15*'Other Inputs'!$D$7)/1000,M15*L15/1000) -> 0 | Q15: =IFERROR(VLOOKUP(CONCATENATE(E15,", ",P15),'CAC EPDs'!$G$8:$I$1500,3,FALSE), "-") -> - | S15: =IFERROR(IF(H15="Yes",R15*Q15/1000,M15*Q15/1000),"-") -> - | U15: =IFERROR(N15-S15,"-") -> - | V15: =IFERROR(U15/N15,"-") -> -
E16: ='Project Information'!$F$13 -> [Select] | L16: =IFERROR(VLOOKUP(CONCATENATE(E16,",",J16,",",I16),'CAC EPDs'!$M$8:$O$126,3,FALSE),0) -> 0 | N16: =IF(G16="Yes",M16*(L16*'Other Inputs'!$D$7)/1000,M16*L16/1000) -> 0 | Q16: =IFERROR(VLOOKUP(CONCATENATE(E16,", ",P16),'CAC EPDs'!$G$8:$I$1500,3,FALSE), "-") -> - | S16: =IFERROR(IF(H16="Yes",R16*Q16/1000,M16*Q16/1000),"-") -> - | U16: =IFERROR(N16-S16,"-") -> - | V16: =IFERROR(U16/N16,"-") -> -
E17: ='Project Information'!$F$13 -> [Select] | L17: =IFERROR(VLOOKUP(CONCATENATE(E17,",",J17,",",I17),'CAC EPDs'!$M$8:$O$126,3,FALSE),0) -> 0 | N17: =IF(G17="Yes",M17*(L17*'Other Inputs'!$D$7)/1000,M17*L17/1000) -> 0 | Q17: =IFERROR(VLOOKUP(CONCATENATE(E17,", ",P17),'CAC EPDs'!$G$8:$I$1500,3,FALSE), "-") -> - | S17: =IFERROR(IF(H17="Yes",R17*Q17/1000,M17*Q17/1000),"-") -> - | U17: =IFERROR(N17-S17,"-") -> - | V17: =IFERROR(U17/N17,"-") -> -
E18: ='Project Information'!$F$13 -> [Select] | L18: =IFERROR(VLOOKUP(CONCATENATE(E18,",",J18,",",I18),'CAC EPDs'!$M$8:$O$126,3,FALSE),0) -> 0 | N18: =IF(G18="Yes",M18*(L18*'Other Inputs'!$D$7)/1000,M18*L18/1000) -> 0 | Q18: =IFERROR(VLOOKUP(CONCATENATE(E18,", ",P18),'CAC EPDs'!$G$8:$I$1500,3,FALSE), "-") -> - | S18: =IFERROR(IF(H18="Yes",R18*Q18/1000,M18*Q18/1000),"-") -> - | U18: =IFERROR(N18-S18,"-") -> - | V18: =IFERROR(U18/N18,"-") -> -
E19: ='Project Information'!$F$13 -> [Select] | L19: =IFERROR(VLOOKUP(CONCATENATE(E19,",",J19,",",I19),'CAC EPDs'!$M$8:$O$126,3,FALSE),0) -> 0 | N19: =IF(G19="Yes",M19*(L19*'Other Inputs'!$D$7)/1000,M19*L19/1000) -> 0 | Q19: =IFERROR(VLOOKUP(CONCATENATE(E19,", ",P19),'CAC EPDs'!$G$8:$I$1500,3,FALSE), "-") -> - | S19: =IFERROR(IF(H19="Yes",R19*Q19/1000,M19*Q19/1000),"-") -> - | U19: =IFERROR(N19-S19,"-") -> - | V19: =IFERROR(U19/N19,"-") -> -
E20: ='Project Information'!$F$13 -> [Select] | L20: =IFERROR(VLOOKUP(CONCATENATE(E20,",",J20,",",I20),'CAC EPDs'!$M$8:$O$126,3,FALSE),0) -> 0 | N20: =IF(G20="Yes",M20*(L20*'Other Inputs'!$D$7)/1000,M20*L20/1000) -> 0 | Q20: =IFERROR(VLOOKUP(CONCATENATE(E20,", ",P20),'CAC EPDs'!$G$8:$I$1500,3,FALSE), "-") -> - | S20: =IFERROR(IF(H20="Yes",R20*Q20/1000,M20*Q20/1000),"-") -> - | U20: =IFERROR(N20-S20,"-") -> - | V20: =IFERROR(U20/N20,"-") -> -
E21: ='Project Information'!$F$13 -> [Select] | L21: =IFERROR(VLOOKUP(CONCATENATE(E21,",",J21,",",I21),'CAC EPDs'!$M$8:$O$126,3,FALSE),0) -> 0 | N21: =IF(G21="Yes",M21*(L21*'Other Inputs'!$D$7)/1000,M21*L21/1000) -> 0 | Q21: =IFERROR(VLOOKUP(CONCATENATE(E21,", ",P21),'CAC EPDs'!$G$8:$I$1500,3,FALSE), "-") -> - | S21: =IFERROR(IF(H21="Yes",R21*Q21/1000,M21*Q21/1000),"-") -> - | U21: =IFERROR(N21-S21,"-") -> - | V21: =IFERROR(U21/N21,"-") -> -
E22: ='Project Information'!$F$13 -> [Select] | L22: =IFERROR(VLOOKUP(CONCATENATE(E22,",",J22,",",I22),'CAC EPDs'!$M$8:$O$126,3,FALSE),0) -> 0 | N22: =IF(G22="Yes",M22*(L22*'Other Inputs'!$D$7)/1000,M22*L22/1000) -> 0 | Q22: =IFERROR(VLOOKUP(CONCATENATE(E22,", ",P22),'CAC EPDs'!$G$8:$I$1500,3,FALSE), "-") -> - | S22: =IFERROR(IF(H22="Yes",R22*Q22/1000,M22*Q22/1000),"-") -> - | U22: =IFERROR(N22-S22,"-") -> - | V22: =IFERROR(U22/N22,"-") -> -
E23: ='Project Information'!$F$13 -> [Select] | L23: =IFERROR(VLOOKUP(CONCATENATE(E23,",",J23,",",I23),'CAC EPDs'!$M$8:$O$126,3,FALSE),0) -> 0 | N23: =IF(G23="Yes",M23*(L23*'Other Inputs'!$D$7)/1000,M23*L23/1000) -> 0 | Q23: =IFERROR(VLOOKUP(CONCATENATE(E23,", ",P23),'CAC EPDs'!$G$8:$I$1500,3,FALSE), "-") -> - | S23: =IFERROR(IF(H23="Yes",R23*Q23/1000,M23*Q23/1000),"-") -> - | U23: =IFERROR(N23-S23,"-") -> - | V23: =IFERROR(U23/N23,"-") -> -
E24: ='Project Information'!$F$13 -> [Select] | L24: =IFERROR(VLOOKUP(CONCATENATE(E24,",",J24,",",I24),'CAC EPDs'!$M$8:$O$126,3,FALSE),0) -> 0 | N24: =IF(G24="Yes",M24*(L24*'Other Inputs'!$D$7)/1000,M24*L24/1000) -> 0 | Q24: =IFERROR(VLOOKUP(CONCATENATE(E24,", ",P24),'CAC EPDs'!$G$8:$I$1500,3,FALSE), "-") -> - | S24: =IFERROR(IF(H24="Yes",R24*Q24/1000,M24*Q24/1000),"-") -> - | U24: =IFERROR(N24-S24,"-") -> - | V24: =IFERROR(U24/N24,"-") -> -
... E42: ='Project Information'!$F$13 -> [Select] | L42: =IFERROR(VLOOKUP(CONCATENATE(E42,",",J42,",",I42),'CAC EPDs'!$M$8:$O$126,3,FALSE),0) -> 0 | N42: =IF(G42="Yes",M42*(L42*'Other Inputs'!$D$7)/1000,M42*L42/1000) -> 0 | Q42: =IFERROR(VLOOKUP(CONCATENATE(E42,", ",P42),'CAC EPDs'!$G$8:$I$1500,3,FALSE), "-") -> - | S42: =IFERROR(IF(H42="Yes",R42*Q42/1000,M42*Q42/1000),"-") -> - | U42: =IFERROR(N42-S42,"-") -> - | V42: =IFERROR(U42/N42,"-") -> -
E44: Project Total (Design) | M44: =SUM(M13:M42) -> 0 | N44: =SUM(N13:N42) -> 0 | S44: =SUM(S13:S42) -> 0 | U44: =SUM(U13:U42) -> 0 | V44: =IFERROR(U44/N44,"-") -> -

Sheet Steel Reporting
D4: Steel Reporting | X4: Embodied Carbon Project Materials Disclosure Template - Steel
E6: =Organization_Name -> [Organization]
E7: ='Project Information'!F9 -> [Name of Project]
E8: ='Organization Information'!E10 -> [dd/mm/yyyy]
E10: Project Information | I10: EPD/LCI Information | Q10: Notes | T10: GHG Emissions | V10: EC With Primary Steel Credit and Tier Achieved
E11: Steel Product Category | F11: Structural Element | G11: Total Weight | I11: Manufacturer | J11: EPD or LCI | K11: EPD/LCI Number | L11: % Recycled Steel | M11: Fabricated / Unfabricated | N11: A1 | O11: A2 | P11: A3 | T11: Total Emissions | V11: % Primary Steel | W11: A1-A3 With Credit | X11: Tier Achieved With Primary Steel Credit
G12: tonnes | N12: (kg CO2 eq./t) | O12: (kg CO2 eq./t) | P12: (kg CO2 eq./t) | T12: (tonnes CO2 eq.) | W12: ( kg CO2 eq./t)
T13: =IF(E13="","",SUM(N13:P13)*10^-3*G13) | V13: =IF('Project Information'!$F$17="Yes","Exempted",IF(L13="","",100%-L13)) | W13: =IF('Project Information'!$F$17="Yes","Exempted",IF(OR(E13="",M13="",N13="",O13="",P13="",L13=""),"",IF((SUM(N13:P13)-(V13*585))<0,0,SUM(N13:P13)-(V13*585)))) | X13: =IF('Project Information'!$F$17="Yes","Exempted",IF(W13="","",IF($W13<=VLOOKUP(_xlfn.CONCAT($E13,",",$M13),'Steel Tiers'!$K$8:$N$21,2,FALSE),"Best 20%",IF($W13<=VLOOKUP(_xlfn.CONCAT($E13,",",$M13),'Steel Tiers'!$K$8:$N$21,3,FALSE),"Best 40%",IF($W13<=VLOOKUP(_xlfn.CONCAT($E13,",",$M13),'Steel Tiers'!$K$8:$N$21,4,FALSE),"Better than average","Does not meet any criteria")))))
T14: =IF(E14="","",SUM(N14:P14)*10^-3*G14) | V14: =IF('Project Information'!$F$17="Yes","Exempted",IF(L14="","",100%-L14)) | W14: =IF('Project Information'!$F$17="Yes","Exempted",IF(OR(E14="",M14="",N14="",O14="",P14="",L14=""),"",IF((SUM(N14:P14)-(V14*585))<0,0,SUM(N14:P14)-(V14*585)))) | X14: =IF('Project Information'!$F$17="Yes","Exempted",IF(W14="","",IF($W14<=VLOOKUP(_xlfn.CONCAT($E14,",",$M14),'Steel Tiers'!$K$8:$N$21,2,FALSE),"Best 20%",IF($W14<=VLOOKUP(_xlfn.CONCAT($E14,",",$M14),'Steel Tiers'!$K$8:$N$21,3,FALSE),"Best 40%",IF($W14<=VLOOKUP(_xlfn.CONCAT($E14,",",$M14),'Steel Tiers'!$K$8:$N$21,4,FALSE),"Better than average","Does not meet any criteria")))))
T15: =IF(E15="","",SUM(N15:P15)*10^-3*G15) | V15: =IF('Project Information'!$F$17="Yes","Exempted",IF(L15="","",100%-L15)) | W15: =IF('Project Information'!$F$17="Yes","Exempted",IF(OR(E15="",M15="",N15="",O15="",P15="",L15=""),"",IF((SUM(N15:P15)-(V15*585))<0,0,SUM(N15:P15)-(V15*585)))) | X15: =IF('Project Information'!$F$17="Yes","Exempted",IF(W15="","",IF($W15<=VLOOKUP(_xlfn.CONCAT($E15,",",$M15),'Steel Tiers'!$K$8:$N$21,2,FALSE),"Best 20%",IF($W15<=VLOOKUP(_xlfn.CONCAT($E15,",",$M15),'Steel Tiers'!$K$8:$N$21,3,FALSE),"Best 40%",IF($W15<=VLOOKUP(_xlfn.CONCAT($E15,",",$M15),'Steel Tiers'!$K$8:$N$21,4,FALSE),"Better than average","Does not meet any criteria")))))
T16: =IF(E16="","",SUM(N16:P16)*10^-3*G16) | V16: =IF('Project Information'!$F$17="Yes","Exempted",IF(L16="","",100%-L16)) | W16: =IF('Project Information'!$F$17="Yes","Exempted",IF(OR(E16="",M16="",N16="",O16="",P16="",L16=""),"",IF((SUM(N16:P16)-(V16*585))<0,0,SUM(N16:P16)-(V16*585)))) | X16: =IF('Project Information'!$F$17="Yes","Exempted",IF(W16="","",IF($W16<=VLOOKUP(_xlfn.CONCAT($E16,",",$M16),'Steel Tiers'!$K$8:$N$21,2,FALSE),"Best 20%",IF($W16<=VLOOKUP(_xlfn.CONCAT($E16,",",$M16),'Steel Tiers'!$K$8:$N$21,3,FALSE),"Best 40%",IF($W16<=VLOOKUP(_xlfn.CONCAT($E16,",",$M16),'Steel Tiers'!$K$8:$N$21,4,FALSE),"Better than average","Does not meet any criteria")))))
T17: =IF(E17="","",SUM(N17:P17)*10^-3*G17) | V17: =IF('Project Information'!$F$17="Yes","Exempted",IF(L17="","",100%-L17)) | W17: =IF('Project Information'!$F$17="Yes","Exempted",IF(OR(E17="",M17="",N17="",O17="",P17="",L17=""),"",IF((SUM(N17:P17)-(V17*585))<0,0,SUM(N17:P17)-(V17*585)))) | X17: =IF('Project Information'!$F$17="Yes","Exempted",IF(W17="","",IF($W17<=VLOOKUP(_xlfn.CONCAT($E17,",",$M17),'Steel Tiers'!$K$8:$N$21,2,FALSE),"Best 20%",IF($W17<=VLOOKUP(_xlfn.CONCAT($E17,",",$M17),'Steel Tiers'!$K$8:$N$21,3,FALSE),"Best 40%",IF($W17<=VLOOKUP(_xlfn.CONCAT($E17,",",$M17),'Steel Tiers'!$K$8:$N$21,4,FALSE),"Better than average","Does not meet any criteria")))))
T18: =IF(E18="","",SUM(N18:P18)*10^-3*G18) | V18: =IF('Project Information'!$F$17="Yes","Exempted",IF(L18="","",100%-L18)) | W18: =IF('Project Information'!$F$17="Yes","Exempted",IF(OR(E18="",M18="",N18="",O18="",P18="",L18=""),"",IF((SUM(N18:P18)-(V18*585))<0,0,SUM(N18:P18)-(V18*585)))) | X18: =IF('Project Information'!$F$17="Yes","Exempted",IF(W18="","",IF($W18<=VLOOKUP(_xlfn.CONCAT($E18,",",$M18),'Steel Tiers'!$K$8:$N$21,2,FALSE),"Best 20%",IF($W18<=VLOOKUP(_xlfn.CONCAT($E18,",",$M18),'Steel Tiers'!$K$8:$N$21,3,FALSE),"Best 40%",IF($W18<=VLOOKUP(_xlfn.CONCAT($E18,",",$M18),'Steel Tiers'!$K$8:$N$21,4,FALSE),"Better than average","Does not meet any criteria")))))
T19: =IF(E19="","",SUM(N19:P19)*10^-3*G19) | V19: =IF('Project Information'!$F$17="Yes","Exempted",IF(L19="","",100%-L19)) | W19: =IF('Project Information'!$F$17="Yes","Exempted",IF(OR(E19="",M19="",N19="",O19="",P19="",L19=""),"",IF((SUM(N19:P19)-(V19*585))<0,0,SUM(N19:P19)-(V19*585)))) | X19: =IF('Project Information'!$F$17="Yes","Exempted",IF(W19="","",IF($W19<=VLOOKUP(_xlfn.CONCAT($E19,",",$M19),'Steel Tiers'!$K$8:$N$21,2,FALSE),"Best 20%",IF($W19<=VLOOKUP(_xlfn.CONCAT($E19,",",$M19),'Steel Tiers'!$K$8:$N$21,3,FALSE),"Best 40%",IF($W19<=VLOOKUP(_xlfn.CONCAT($E19,",",$M19),'Steel Tiers'!$K$8:$N$21,4,FALSE),"Better than average","Does not meet any criteria")))))
T20: =IF(E20="","",SUM(N20:P20)*10^-3*G20) | V20: =IF('Project Information'!$F$17="Yes","Exempted",IF(L20="","",100%-L20)) | W20: =IF('Project Information'!$F$17="Yes","Exempted",IF(OR(E20="",M20="",N20="",O20="",P20="",L20=""),"",IF((SUM(N20:P20)-(V20*585))<0,0,SUM(N20:P20)-(V20*585)))) | X20: =IF('Project Information'!$F$17="Yes","Exempted",IF(W20="","",IF($W20<=VLOOKUP(_xlfn.CONCAT($E20,",",$M20),'Steel Tiers'!$K$8:$N$21,2,FALSE),"Best 20%",IF($W20<=VLOOKUP(_xlfn.CONCAT($E20,",",$M20),'Steel Tiers'!$K$8:$N$21,3,FALSE),"Best 40%",IF($W20<=VLOOKUP(_xlfn.CONCAT($E20,",",$M20),'Steel Tiers'!$K$8:$N$21,4,FALSE),"Better than average","Does not meet any criteria")))))
T21: =IF(E21="","",SUM(N21:P21)*10^-3*G21) | V21: =IF('Project Information'!$F$17="Yes","Exempted",IF(L21="","",100%-L21)) | W21: =IF('Project Information'!$F$17="Yes","Exempted",IF(OR(E21="",M21="",N21="",O21="",P21="",L21=""),"",IF((SUM(N21:P21)-(V21*585))<0,0,SUM(N21:P21)-(V21*585)))) | X21: =IF('Project Information'!$F$17="Yes","Exempted",IF(W21="","",IF($W21<=VLOOKUP(_xlfn.CONCAT($E21,",",$M21),'Steel Tiers'!$K$8:$N$21,2,FALSE),"Best 20%",IF($W21<=VLOOKUP(_xlfn.CONCAT($E21,",",$M21),'Steel Tiers'!$K$8:$N$21,3,FALSE),"Best 40%",IF($W21<=VLOOKUP(_xlfn.CONCAT($E21,",",$M21),'Steel Tiers'!$K$8:$N$21,4,FALSE),"Better than average","Does not meet any criteria")))))
T22: =IF(E22="","",SUM(N22:P22)*10^-3*G22) | V22: =IF('Project Information'!$F$17="Yes","Exempted",IF(L22="","",100%-L22)) | W22: =IF('Project Information'!$F$17="Yes","Exempted",IF(OR(E22="",M22="",N22="",O22="",P22="",L22=""),"",IF((SUM(N22:P22)-(V22*585))<0,0,SUM(N22:P22)-(V22*585)))) | X22: =IF('Project Information'!$F$17="Yes","Exempted",IF(W22="","",IF($W22<=VLOOKUP(_xlfn.CONCAT($E22,",",$M22),'Steel Tiers'!$K$8:$N$21,2,FALSE),"Best 20%",IF($W22<=VLOOKUP(_xlfn.CONCAT($E22,",",$M22),'Steel Tiers'!$K$8:$N$21,3,FALSE),"Best 40%",IF($W22<=VLOOKUP(_xlfn.CONCAT($E22,",",$M22),'Steel Tiers'!$K$8:$N$21,4,FALSE),"Better than average","Does not meet any criteria")))))
T23: =IF(E23="","",SUM(N23:P23)*10^-3*G23) | V23: =IF('Project Information'!$F$17="Yes","Exempted",IF(L23="","",100%-L23)) | W23: =IF('Project Information'!$F$17="Yes","Exempted",IF(OR(E23="",M23="",N23="",O23="",P23="",L23=""),"",IF((SUM(N23:P23)-(V23*585))<0,0,SUM(N23:P23)-(V23*585)))) | X23: =IF('Project Information'!$F$17="Yes","Exempted",IF(W23="","",IF($W23<=VLOOKUP(_xlfn.CONCAT($E23,",",$M23),'Steel Tiers'!$K$8:$N$21,2,FALSE),"Best 20%",IF($W23<=VLOOKUP(_xlfn.CONCAT($E23,",",$M23),'Steel Tiers'!$K$8:$N$21,3,FALSE),"Best 40%",IF($W23<=VLOOKUP(_xlfn.CONCAT($E23,",",$M23),'Steel Tiers'!$K$8:$N$21,4,FALSE),"Better than average","Does not meet any criteria")))))
T24: =IF(E24="","",SUM(N24:P24)*10^-3*G24) | V24: =IF('Project Information'!$F$17="Yes","Exempted",IF(L24="","",100%-L24)) | W24: =IF('Project Information'!$F$17="Yes","Exempted",IF(OR(E24="",M24="",N24="",O24="",P24="",L24=""),"",IF((SUM(N24:P24)-(V24*585))<0,0,SUM(N24:P24)-(V24*585)))) | X24: =IF('Project Information'!$F$17="Yes","Exempted",IF(W24="","",IF($W24<=VLOOKUP(_xlfn.CONCAT($E24,",",$M24),'Steel Tiers'!$K$8:$N$21,2,FALSE),"Best 20%",IF($W24<=VLOOKUP(_xlfn.CONCAT($E24,",",$M24),'Steel Tiers'!$K$8:$N$21,3,FALSE),"Best 40%",IF($W24<=VLOOKUP(_xlfn.CONCAT($E24,",",$M24),'Steel Tiers'!$K$8:$N$21,4,FALSE),"Better than average","Does not meet any criteria")))))
... T45: =IF(E45="","",SUM(N45:P45)*10^-3*G45) | V45: =IF('Project Information'!$F$17="Yes","Exempted",IF(L45="","",100%-L45)) | W45: =IF('Project Information'!$F$17="Yes","Exempted",IF(OR(E45="",M45="",N45="",O45="",P45="",L45=""),"",IF((SUM(N45:P45)-(V45*585))<0,0,SUM(N45:P45)-(V45*585)))) | X45: =IF('Project Information'!$F$17="Yes","Exempted",IF(W45="","",IF($W45<=VLOOKUP(_xlfn.CONCAT($E45,",",$M45),'Steel Tiers'!$K$8:$N$21,2,FALSE),"Best 20%",IF($W45<=VLOOKUP(_xlfn.CONCAT($E45,",",$M45),'Steel Tiers'!$K$8:$N$21,3,FALSE),"Best 40%",IF($W45<=VLOOKUP(_xlfn.CONCAT($E45,",",$M45),'Steel Tiers'!$K$8:$N$21,4,FALSE),"Better than average","Does not meet any criteria")))))
F47: Total Weight of Steel Used in the Project: | G47: =SUM(G13:G45) -> 0 | H47: tonnes | Q47: Total Emissions: | T47: =SUM(T13:T45) -> 0 | U47: tonnes CO2 eq.

Sheet Steel Tiers
B2: Sheet Title: | C2: Steel Tiers
B3: Sheet Reference:
B4: Sheet Purpose: | C4: To calculate where within the tiers the steel material used is placed. | J4: DO NOT CHANGE!!!!!!!!!!!!!!!!!!!!!!!!!!!!!!!!!!
B6: Product Category | C6: Declared Unit | D6: Fabricated/ Unfabricated | E6: Best 20% GWP Limit | F6: Best 40% GWP Limit | G6: Best 50% GWP Limit | L6: Best 20% GWP Limit | M6: Best 40% GWP Limit | N6: Best 50% GWP Limit
C7: tonne | E7: kg CO2e/t | F7: kg CO2e/t | G7: kg CO2e/t | K7: Concatenated Key Words | L7: kg CO2e/t | M7: kg CO2e/t | N7: kg CO2e/t
B8: Rebar | C8: 1 | D8: Unfabricated | E8: 622 | F8: 684 | G8: 702 | K8: =_xlfn.CONCAT(B8,",",D8) -> Rebar,Unfabricated | L8: =E8 -> 622 | M8: =F8 -> 684 | N8: =G8 -> 702
B9: Hot-Rolled Sections | C9: 1 | D9: Unfabricated | E9: 820 | F9: 898 | G9: 927 | K9: =_xlfn.CONCAT(B9,",",D9) -> Hot-Rolled Sections,Unfabricated | L9: =E9 -> 820 | M9: =F9 -> 898 | N9: =G9 -> 927
B10: Hollow Structural Sections | C10: 1 | D10: Unfabricated | E10: 1329 | F10: 1560 | G10: 1645 | K10: =_xlfn.CONCAT(B10,",",D10) -> Hollow Structural Sections,Unfabricated | L10: =E10 -> 1329 | M10: =F10 -> 1560 | N10: =G10 -> 1645
B11: Structural Plate | C11: 1 | D11: Unfabricated | E11: 1262 | F11: 1407 | G11: 1461 | K11: =_xlfn.CONCAT(B11,",",D11) -> Structural Plate,Unfabricated | L11: =E11 -> 1262 | M11: =F11 -> 1407 | N11: =G11 -> 1461
B12: Cold-Formed Steel Framing & Panels | C12: 1 | D12: Fabricated | E12: 1721 | F12: 2242 | G12: 2355 | K12: =_xlfn.CONCAT(B12,",",D12) -> Cold-Formed Steel Framing & Panels,Fabricated | L12: =E12 -> 1721 | M12: =F12 -> 2242 | N12: =G12 -> 2355
B13: Sheet Steel Decking | C13: 1 | D13: Fabricated | E13: 1860 | F13: 2034 | G13: 2213 | K13: =_xlfn.CONCAT(B13,",",D13) -> Sheet Steel Decking,Fabricated | L13: =E13 -> 1860 | M13: =F13 -> 2034 | N13: =G13 -> 2213
B14: Open Web Steel Joists | C14: 1 | D14: Fabricated | E14: 1239 | F14: 1344 | G14: 1394 | K14: =_xlfn.CONCAT(B14,",",D14) -> Open Web Steel Joists,Fabricated | L14: =E14 -> 1239 | M14: =F14 -> 1344 | N14: =G14 -> 1394
B15: Merchant Bar | C15: 1 | D15: Fabricated | E15: 625 | F15: 720 | G15: 740 | K15: =_xlfn.CONCAT(B15,",",D15) -> Merchant Bar,Fabricated | L15: =E15 -> 625 | M15: =F15 -> 720 | N15: =G15 -> 740
B16: Hot-Rolled Sheet, Strip, Plate | C16: 1 | D16: Fabricated | E16: 1158 | F16: 1401 | G16: 1505 | K16: =_xlfn.CONCAT(B16,",",D16) -> Hot-Rolled Sheet, Strip, Plate,Fabricated | L16: =E16 -> 1158 | M16: =F16 -> 1401 | N16: =G16 -> 1505
B17: Cold-Rolled Sheet, Strip, Plate | C17: 1 | D17: Fabricated | E17: 1848 | F17: 2021 | G17: 2102 | K17: =_xlfn.CONCAT(B17,",",D17) -> Cold-Rolled Sheet, Strip, Plate,Fabricated | L17: =E17 -> 1848 | M17: =F17 -> 2021 | N17: =G17 -> 2102
B18: Rebar | C18: 1 | D18: Fabricated | E18: 703 | F18: 773 | G18: 793 | K18: =_xlfn.CONCAT(B18,",",D18) -> Rebar,Fabricated | L18: =E18 -> 703 | M18: =F18 -> 773 | N18: =G18 -> 793
B19: Hot-Rolled Sections | C19: 1 | D19: Fabricated | E19: 1008 | F19: 1105 | G19: 1140 | K19: =_xlfn.CONCAT(B19,",",D19) -> Hot-Rolled Sections,Fabricated | L19: =E19 -> 1008 | M19: =F19 -> 1105 | N19: =G19 -> 1140
... B21: Structural Plate | C21: 1 | D21: Fabricated | E21: 1476 | F21: 1646 | G21: 1709 | K21: =_xlfn.CONCAT(B21,",",D21) -> Structural Plate,Fabricated | L21: =E21 -> 1476 | M21: =F21 -> 1646 | N21: =G21 -> 1709
E23: *Limits to be change if there are any updates

Sheet CAC EPDs
B2: Sheet Title: | C2: Industry Wide - Concrete GWP by Region, Compressive Strength, Air Entrained, and Concrete Classification. | I2: no | J2: 314
B3: Sheet Reference: | C3: Concrete Canada | G3: Valid until July 2027 | I3: yes | J3: 332
B4: Sheet Purpose: | C4: To collect concrete verified GWP databases published through Concrete Canada. These inform the project GWP of ready-mix concrete.
H5: BASELINES ONLY | M5: BASELINES ONLY | N5: BASELINES ONLY | O5: BASELINES ONLY
B6: Province | C6: Strength | D6: AEAs | F6: Concrete Classification | G6: Concatenate Province and Concrete Classification for Vlookup | H6: Isolate For Baselines Only | I6: GWP | J6: Reference Link | K6: Reference Table | M6: Idenify Unique PT, Strength, Air | N6: Identify 1st Baseline for Each | O6: Identify GWP for 1st Baseline
B7: (unit) | C7: (MPa) | D7: (Yes/No) | I7: (kg CO2eq / m3) | N7: Category
B8: Ontario | C8: 20 | D8: No | E8: =CONCATENATE(B8,",",C8,",",D8) -> Ontario,20,No | F8: Baseline 20 MPa concrete without air GU 10 SL | G8: =CONCATENATE(B8,", ",F8) -> Ontario, Baseline 20 MPa concrete without air GU 10 SL | H8: =IF(ISNUMBER(SEARCH("Baseline",F8)),CONCATENATE(B8,", ",F8),"") -> Ontario, Baseline 20 MPa concrete without air GU 10 SL | I8: 220.29 | J8: https://www.rmcao.org/wp-content/uploads/2023/04/CRMCA-EPD-Ontario-20220803.pdf | K8: Table 6 | M8: {=_xlfn.UNIQUE(E8:E1500)} -> Ontario,20,No | N8: =VLOOKUP(M8,$E$8:$H$1500,4,FALSE) -> Ontario, Baseline 20 MPa concrete without air GU 10 SL | O8: =VLOOKUP(N8,$H$8:$I$1500,2,FALSE) -> 220.29
B9: Ontario | C9: 20 | D9: No | E9: =CONCATENATE(B9,",",C9,",",D9) -> Ontario,20,No | F9: 20 MPa concrete without air GU | G9: =CONCATENATE(B9,", ",F9) -> Ontario, 20 MPa concrete without air GU | H9: =IF(ISNUMBER(SEARCH("Baseline",F9)),CONCATENATE(B9,", ",F9),"") | I9: 236.9 | J9: https://www.rmcao.org/wp-content/uploads/2023/04/CRMCA-EPD-Ontario-20220803.pdf | K9: Table 6 | M9: Ontario,25,No | N9: =VLOOKUP(M9,$E$8:$H$1500,4,FALSE) -> Ontario, Baseline 25 MPa concrete without air GU 10 SL | O9: =VLOOKUP(N9,$H$8:$I$1500,2,FALSE) -> 254.05
B10: Ontario | C10: 20 | D10: No | E10: =CONCATENATE(B10,",",C10,",",D10) -> Ontario,20,No | F10: 20 MPa concrete without air GU 15 SL | G10: =CONCATENATE(B10,", ",F10) -> Ontario, 20 MPa concrete without air GU 15 SL | H10: =IF(ISNUMBER(SEARCH("Baseline",F10)),CONCATENATE(B10,", ",F10),"") | I10: 211.99 | J10: https://www.rmcao.org/wp-content/uploads/2023/04/CRMCA-EPD-Ontario-20220803.pdf | K10: Table 6 | M10: Ontario,30,No | N10: =VLOOKUP(M10,$E$8:$H$1500,4,FALSE) -> Ontario, Baseline 30 MPa concrete without air GU 15 SL | O10: =VLOOKUP(N10,$H$8:$I$1500,2,FALSE) -> 264.38
B11: Ontario | C11: 20 | D11: No | E11: =CONCATENATE(B11,",",C11,",",D11) -> Ontario,20,No | F11: 20 MPa concrete without air GU 25 SL | G11: =CONCATENATE(B11,", ",F11) -> Ontario, 20 MPa concrete without air GU 25 SL | H11: =IF(ISNUMBER(SEARCH("Baseline",F11)),CONCATENATE(B11,", ",F11),"") | I11: 195.38 | J11: https://www.rmcao.org/wp-content/uploads/2023/04/CRMCA-EPD-Ontario-20220803.pdf | K11: Table 6 | M11: Ontario,35,No | N11: =VLOOKUP(M11,$E$8:$H$1500,4,FALSE) -> Ontario, Baseline 35 MPa concrete without air GU 15 SL | O11: =VLOOKUP(N11,$H$8:$I$1500,2,FALSE) -> 295.46
B12: Ontario | C12: 20 | D12: No | E12: =CONCATENATE(B12,",",C12,",",D12) -> Ontario,20,No | F12: 20 MPa concrete without air GU 35 SL | G12: =CONCATENATE(B12,", ",F12) -> Ontario, 20 MPa concrete without air GU 35 SL | H12: =IF(ISNUMBER(SEARCH("Baseline",F12)),CONCATENATE(B12,", ",F12),"") | I12: 178.77 | J12: https://www.rmcao.org/wp-content/uploads/2023/04/CRMCA-EPD-Ontario-20220803.pdf | K12: Table 6 | M12: Ontario,40,No | N12: =VLOOKUP(M12,$E$8:$H$1500,4,FALSE) -> Ontario, Baseline 40 MPa concrete without air GU 15 SL | O12: =VLOOKUP(N12,$H$8:$I$1500,2,FALSE) -> 326.25
B13: Ontario | C13: 20 | D13: No | E13: =CONCATENATE(B13,",",C13,",",D13) -> Ontario,20,No | F13: 20 MPa concrete without air GU 50 SL | G13: =CONCATENATE(B13,", ",F13) -> Ontario, 20 MPa concrete without air GU 50 SL | H13: =IF(ISNUMBER(SEARCH("Baseline",F13)),CONCATENATE(B13,", ",F13),"") | I13: 153.85 | J13: https://www.rmcao.org/wp-content/uploads/2023/04/CRMCA-EPD-Ontario-20220803.pdf | K13: Table 6 | M13: Ontario,45,No | N13: =VLOOKUP(M13,$E$8:$H$1500,4,FALSE) -> Ontario, Baseline 45 MPa concrete without air GU 15 SL | O13: =VLOOKUP(N13,$H$8:$I$1500,2,FALSE) -> 349.88
B14: Ontario | C14: 20 | D14: No | E14: =CONCATENATE(B14,",",C14,",",D14) -> Ontario,20,No | F14: 20 MPa concrete without air GUL | G14: =CONCATENATE(B14,", ",F14) -> Ontario, 20 MPa concrete without air GUL | H14: =IF(ISNUMBER(SEARCH("Baseline",F14)),CONCATENATE(B14,", ",F14),"") | I14: 221.84 | J14: https://www.rmcao.org/wp-content/uploads/2023/04/CRMCA-EPD-Ontario-20220803.pdf | K14: Table 6 | M14: Ontario,50,No | N14: =VLOOKUP(M14,$E$8:$H$1500,4,FALSE) -> Ontario, Baseline 50 MPa concrete without air GUbSF 20 SL | O14: =VLOOKUP(N14,$H$8:$I$1500,2,FALSE) -> 335.76
B15: Ontario | C15: 20 | D15: No | E15: =CONCATENATE(B15,",",C15,",",D15) -> Ontario,20,No | F15: 20 MPa concrete without air GUL 15 SL | G15: =CONCATENATE(B15,", ",F15) -> Ontario, 20 MPa concrete without air GUL 15 SL | H15: =IF(ISNUMBER(SEARCH("Baseline",F15)),CONCATENATE(B15,", ",F15),"") | I15: 199.19 | J15: https://www.rmcao.org/wp-content/uploads/2023/04/CRMCA-EPD-Ontario-20220803.pdf | K15: Table 6 | M15: Ontario,55,No | N15: =VLOOKUP(M15,$E$8:$H$1500,4,FALSE) -> Ontario, Baseline 55 MPa concrete without air GUbSF 20 SL | O15: =VLOOKUP(N15,$H$8:$I$1500,2,FALSE) -> 354.67
B16: Ontario | C16: 20 | D16: No | E16: =CONCATENATE(B16,",",C16,",",D16) -> Ontario,20,No | F16: 20 MPa concrete without air GUL 25 SL | G16: =CONCATENATE(B16,", ",F16) -> Ontario, 20 MPa concrete without air GUL 25 SL | H16: =IF(ISNUMBER(SEARCH("Baseline",F16)),CONCATENATE(B16,", ",F16),"") | I16: 184.08 | J16: https://www.rmcao.org/wp-content/uploads/2023/04/CRMCA-EPD-Ontario-20220803.pdf | K16: Table 6 | M16: Ontario,60,No | N16: =VLOOKUP(M16,$E$8:$H$1500,4,FALSE) -> Ontario, Baseline 60 MPa concrete without air GUbSF 20 SL | O16: =VLOOKUP(N16,$H$8:$I$1500,2,FALSE) -> 361.25
