Workbook
Name Alberta_20_No: Lists!$CQ$7:$CQ$58
Name Alberta_20_Yes: Lists!$CP$7:$CP$58
Name Alberta_25_No: Lists!$CS$7:$CS$58
Name Alberta_25_Yes: Lists!$CR$7:$CR$58
Name Alberta_30_No: Lists!$CU$7:$CU$58
Name Alberta_30_Yes: Lists!$CT$7:$CT$58
Name Alberta_32_No: Lists!$CW$7:$CW$58
Name Alberta_32_Yes: Lists!$CV$7:$CV$58
Name Alberta_35_No: Lists!$CY$7:$CY$58
Name Alberta_35_Yes: Lists!$CX$7:$CX$58
Name Alberta_40_Yes: Lists!$CZ$7:$CZ$58
Name Alberta_45_No: Lists!$DA$7:$DA$58
Name Alberta_45_Yes: Lists!$DB$7:$DB$58
Name Alberta_50_No: Lists!$DD$7:$DD$58
Name Alberta_50_Yes: Lists!$DC$7:$DC$58
Name Alberta_55_No: Lists!$DE$7:$DE$58
Name Alberta_No: Lists!$M$7:$M$17
Name Alberta_Yes: Lists!$L$7:$L$17
Name Atlantic_20_No: Lists!$AS$7:$AS$58
Name Atlantic_20_Yes: Lists!$AT$7:$AT$58
Name Atlantic_25_No: Lists!$AU$7:$AU$58
Name Atlantic_25_Yes: Lists!$AV$7:$AV$58
Name Atlantic_30_No: Lists!$AW$7:$AW$58
Name Atlantic_30_Yes: Lists!$AX$7:$AX$58
Name Atlantic_32_Yes: Lists!$AY$7:$AY$58
Name Atlantic_35_No: Lists!$AZ$7:$AZ$58
Name Atlantic_35_Yes: Lists!$BA$7:$BA$58
Name Atlantic_40_No: Lists!$BB$7:$BB$58
Name Atlantic_40_Yes: Lists!$BC$7:$BC$58
Name Atlantic_45_No: Lists!$BD$7:$BD$58
Name Atlantic_45_Yes: Lists!$BE$7:$BE$58
Name Atlantic_50_No: Lists!$BF$7:$BF$58
Name Atlantic_50_Yes: Lists!$BG$7:$BG$58
Name Atlantic_60_No: Lists!$BH$7:$BH$58
Name Atlantic_No: Lists!$W$7:$W$17
Name Atlantic_Yes: Lists!$V$7:$V$17
Name British_Columbia_15_No: Lists!$DF$7:$DF$58
Name British_Columbia_20_No: Lists!$DH$7:$DH$58
Name British_Columbia_20_Yes: Lists!$DG$7:$DG$58
Name British_Columbia_25_No: Lists!$DJ$7:$DJ$58
Name British_Columbia_25_Yes: Lists!$DI$7:$DI$58
Name British_Columbia_30_No: Lists!$DL$7:$DL$58
Name British_Columbia_30_Yes: Lists!$DK$7:$DK$58
Name British_Columbia_32_No: Lists!$DN$7:$DN$58
Name British_Columbia_32_Yes: Lists!$DM$7:$DM$58
Name British_Columbia_35_No: Lists!$DP$7:$DP$58
Name British_Columbia_35_Yes: Lists!$DO$7:$DO$58
Name British_Columbia_40_No: Lists!$DR$7:$DR$58
Name British_Columbia_40_Yes: Lists!$DQ$7:$DQ$58
Name British_Columbia_45_No: Lists!$DT$7:$DT$58
Name British_Columbia_45_Yes: Lists!$DS$7:$DS$58
Name British_Columbia_50_No: Lists!$DV$7:$DV$58
Name British_Columbia_50_Yes: Lists!$DU$7:$DU$58
Name British_Columbia_55_No: Lists!$DX$7:$DX$58
Name British_Columbia_55_Yes: Lists!$DW$7:$DW$58
Name British_Columbia_60_No: Lists!$DZ$7:$DZ$58
Name British_Columbia_60_Yes: Lists!$DY$7:$DY$58
Name British_Columbia_No: Lists!$K$7:$K$17
Name British_Columbia_Yes: Lists!$J$7:$J$17
Name ConcreteAirEntrained: [1]Lists!$H$7:$H$9

Sheet Instructions
G3: Embodied Carbon Project Materials Disclosure Template
C5: Introduction
C7: The Embodied Carbon Project Disclosure Template is part of a series of tools developed to support federal organizations organize the data required to calculate their GHG emissions and apply the quantification methods established by the Centre for Greening Government (CGG) with improvements included by Housing and Infrastructure Construction Canada (HICC).
C10: If you have any questions, please speak with your Government of Canada project management team and/or the department's greening operations team. If they are not able to answer the question, or if you have suggestions to improve this template, please have them contact the Centre for Greening Government at
C11: Greening-Vert@tbs-sct.gc.ca
C14: Structure
C16: This template includes eight workboooks for the user: "Instructions", "Project Summary Results", "Organization Information", "Project Information", "Concrete Reporting Example", "Concrete Reporting", "Steel Reporting Example", and "Steel Reporting".
C19: Tab & Cell Shading Conventions
C21: The colour of tabs at the bottom of the template indicates what type of information they contain and/or how the tab is used.
C23: Dark Grey | D23: Instructions, reporting example, background calculation inputs & lists
C24: Dark Red | D24: Summary of calculated results
C25: Light Blue | D25: Input worksheets
C27: The colour of cells in the template indicates what type of data they contain and/or how the data is used.
C29: White | D29: General text and unused cells, background calculation inputs
C30: Dark Grey | D30: Table headings, blank cells and conversion factors
C31: Light Grey | D31: Input fields
C32: Light Red | D32: Calculated results
C34: Guidance Document
C36: This Embodied Carbon Disclosure Template should be read with the Guide for implementing The Standard on Embodied Carbon in Construction.
C38: Key Steps for Embodied Carbon Data Entry
C40: Detailed guidance is provided in the Guide for implementing The Standard on Embodied Carbon in Construction. Key steps are summarized below. For ease of use and accurate accounting, it is recommended that the steps listed below be followed when using this template. Since the calculation functions have been automated, GHG accounting accuracy depends on the quality of the data input into the templates.
C43: 1 | D43: First, read the "Instructions" worksheet, and the Guide for implementing The Standard on Embodied Carbon in Construction
C44: 2 | D44: Next, input data requested in the "Organization Information" worksheet.
C45: 3 | D45: Next, input data requested in the "Project Information" worksheet.
D46: ! | E46: Before moving to the Steel Reporting tab, please inform if the project was exempted from observing the Standard on Embodied Carbon in Construction limits as this will impact future calculations by selecting Yes or No from the dropdown menu.
C48: 4 | D48: Next, input data requested in the "Concrete Reporting" worksheet, as applicable throughout the project reporting process.
D49: a. | E49: For concrete, enter each mix type provided on the project.
D50: b. | E50: Add/delete rows as necessary.
D51: c. | E51: When cutting and pasting data from other sources, note the following:
E52: · To avoid getting an error message, make sure the number and alignment of the data columns match the Template.
E53: · To avoid transferring formulas and formatting, use the Paste Special... | Values command.
C54: 5 | D54: Next, input data requested in the "Steel Reporting" worksheet, as applicable throughout the project reporting process.
D55: a. | E55: Enter all steel products categories used in the project, with a breakdown per structural element. Add/delete rows as necessary.
D56: b. | E56: Enter the weight (in tonnes)of procured steel to each line, relative to its product category and structural element.
D57: c. | E57: Under EPD/LCI Information, you will be requested to enter values from the EPD and/or LCI analysis for each steel product category:
D58: d. | E58: Provide information regaring the steel manufacturer, if you are collecting data from an EPD or a LCI assessment, and its reference number for eventual future consultations.
D59: e. | E59: Next, input the % of recycled steel (scrap steel) as stated in the EPD/LCI. This data will inform the calculation of the Primary Steel Credit, as define in the Guide for implementing The Standard on Embodied Carbon in Construction. If unknown, please add "100%", so the credit will not be factored in. ----> % Primary Steel = 100% - % Recycled Steel
D61: f. | E61: Next, select from the dropdown menu if the values informed by the EPD/LCI are Fabricated or Unfabricated products. If Unfabricated, the reporting template will automatically adjust the value using the adjustment factors defined in the Guide for implementing The Standard on Embodied Carbon in Construction.
D63: g. | E63: For the next three colums, inform the Embodied Carbon (reported in EPDs as GWP) values stated in the EPD/LCI for A1 (Extraction and Upstream Production), A2 (Transportation to Factory), and A3 (Manufacturing) life cycle stages, all in kg CO2 eq./tonne. If the EPD/LCI provides only the total amount of the combined A1 to A3 life cycle stages (Cradle to Gate values), please enter the total value to the A1 column and enter 0 for the remaining A2 and A3 columns.
D66: h. | E66: Please enter any relevant note to the Notes section.
D67: i. | E67: You can now check the amounts of GHG emissions for each Steel Product Category, as well as the final GWP information calculated with or without the Adjustment Factor. The tool will also inform the tier achieved for each category reported, according to the steel limits table from National Tiered Greenhouse Gas Emissions Limits for Steel Construction Products.
E69: .----> A1-A3 With Primary Credit = (EC A1 + EC A2 + EC A3) – (% Primary Steel * 585)
C70: 6 | D70: Once data entry in steps 2 through 5 is complete, review the worksheet "Project Summary Results" for overall soundness and potential errors. An inspection of emission details should help identify potential errors and guide the user towards erroneous input.

Sheet Project Summary Results
F3: Embodied Carbon Project Materials Disclosure Template
C5: Summary Results - Embodied Carbon
C7: Organization: | E7: ='Organization Information'!E7 -> [Organization]
C10: Name of Project | E10: ='Project Information'!F9 -> [Name of Project]
C12: Project Number | E12: ='Project Information'!F10 -> [Project Number]
C14: ='Organization Information'!C10 -> Date of Submission | E14: ='Organization Information'!E10 -> [dd/mm/yyyy]
C16: Emissions from Concrete
C17: Total Emissions (tonnes CO2e) | E17: ='Concrete Reporting'!S44 -> 0
C18: Total Project Reduction Compared to Baselines (%) | E18: ='Concrete Reporting'!V44 -> -
C20: Emissions from Steel
C21: Total Emissions (tonnes CO2e) | E21: ='Steel Reporting'!T47 -> 0
C23: Project Narrative: | E23: ='Project Information'!F24 -> 0
C33: Description of Measures To Reduce Embodied Carbon from Concrete: | E33: ='Project Information'!F27 -> 0
C43: Description of Measures To Reduce Embodied Carbon from Steel: | E43: ='Project Information'!F31 -> 0

Sheet Project Information
F3: Embodied Carbon Project Materials Disclosure Template
D5: Project Overview
D6: =Organization_Name -> [Organization]
D7: =F9 -> [Name of Project]
D9: Project Information: | E9: Name of Project | F9: [Name of Project]
E10: Project Number | F10: [Project Number]
E11: Project Class of Estimate at Time of Submission
E12: Project Location Municipality | F12: [Project Municipality]
E13: Project Province/Territory | F13: [Select]
E14: Asset Archetype | F14: [Asset Archetype (Bridge, Office, Lab, Water Treatment Plant Building, etc.)]
D17: Is this project exempted of observing limits ON THE CONCRETE part of the Standard on Embodied Carbon in Construction? (Please select Yes or No from the Dropdown menu)
D19: Is this project exempted of observing limits ON THE STEEL part of the Standard on Embodied Carbon in Construction? (Please select Yes or No from the Dropdown menu) | F19: No
D21: Exemption Rationale:
D22: This section is to include the rationale behind the exemption - cost, location, etc. - for EITHER/OR CONCRETE AND STEEL. Please provide as many details as possible.
D24: Project Narrative (Designer Notes):
D25: This section is for additional information relating to the project. If necessary, additional notes may be submitted in a separate document
D27: Description of Measures To Reduce Embodied Carbon for CONCRETE:
D29: This section is to briefly describe design and material choice measures to reduce project embodied emissions for CONCRETE.
D31: Description of Measures To Reduce Embodied Carbon for STEEL:
D33: This section is to briefly describe design and material choice measures to reduce project embodied emissions for STEEL.

Sheet Organization Information
G3: Embodied Carbon Project Materials Disclosure Template
C5: Organizational information - Embodied Carbon
C7: Organization: | E7: [Organization]
C10: Date of Submission | E10: [dd/mm/yyyy]
C12: ConcreteSubmission Prepared by... | D12: Preparer Name: | E12: [Preparer Name]
D13: Preparer Title: | E13: [Preparer Title]
D14: Prepararer Organization: | E14: [Preparer Organization]
C16: Steel Submission Prepared by... | D16: Preparer Name: | E16: [Preparer Name]
D17: Preparer Title: | E17: [Preparer Title]
D18: Prepararer Organization: | E18: [Preparer Organization]
C20: Notes on embodied carbon disclosure:
C21: This section is for additional context relating to the disclosure. If necessary, additional notes may be submitted in a separate document.
E30: SIGNATURE | F30: NAME | G30: DATE
C31: SIGNATURE OF PREPARER:
C32: (Concrete Submission)
E33: SIGNATURE | F33: NAME | G33: DATE
C34: SIGNATURE OF PREPARER:
C35: (Steel Submission)

Sheet Concrete Reporting Example
W3: Embodied Carbon Project Materials Disclosure Template
D4: Ready-Mixed Concrete Reporting
E6: [Organization]
E7: [Name of Project]
E8: [dd/mm/yyyy]
E10: Ready-Mixed Concrete on Project | L10: Baseline GHG Calculations | P10: Actual Design GHG Calculations | U10: GHG Emissions Reduction
E11: Region | F11: Structural Element Description | G11: Special Application | H11: Volume Reduction | I11: Concrete Air Entrained | J11: Compressive Strength at 28 days | L11: Baseline GWP | M11: Baseline Volume | N11: Baseline GHG Emissions | P11: Actual Ready-Mixed Concrete Mix | Q11: Actual GWP | R11: Actual Volume | S11: Actual GHG Emissions | U11: GHG Emissions Reduced From the Baseline | W11: Notes
G12: Yes/No | H12: Yes/No | I12: Yes/No | J12: MPa | L12: kg CO2/m3 | M12: m3 | N12: tCO2 | Q12: kg CO2/m3 | R12: m3 | S12: tCO2 | U12: tCO2 | V12: %
E13: Ontario | F13: Floor Decks, Slabs | G13: No | H13: No | I13: No | J13: 40 | L13: =IFERROR(VLOOKUP(CONCATENATE(E13,",",J13,",",I13),'CAC EPDs'!$M$8:$O$126,3,FALSE),0) -> 326.25 | M13: 20 | N13: =IF(G13="Yes",M13*(L13*'Other Inputs'!$D$7)/1000,M13*L13/1000) -> 6.525 | P13: 40 MPa concrete without air GU | Q13: =IFERROR(VLOOKUP(CONCATENATE(E13,", ",P13),'CAC EPDs'!$G$8:$I$1500,3,FALSE), "-") -> 367.02 | S13: =IFERROR(IF(H13="Yes",R13*Q13/1000,M13*Q13/1000),"-") -> 7.3404 | U13: =IFERROR(N13-S13,"-") -> -0.8154 | V13: =IFERROR(U13/N13,"-") -> -0.12496552
E14: Ontario | F14: Floor Structural Frame | G14: Yes | H14: No | I14: No | J14: 60 | L14: =IFERROR(VLOOKUP(CONCATENATE(E14,",",J14,",",I14),'CAC EPDs'!$M$8:$O$126,3,FALSE),0) -> 361.25 | M14: 30 | N14: =IF(G14="Yes",M14*(L14*'Other Inputs'!$D$7)/1000,M14*L14/1000) -> 14.08875 | P14: Baseline 60 MPa concrete without air GUbSF 20 SL | Q14: =IFERROR(VLOOKUP(CONCATENATE(E14,", ",P14),'CAC EPDs'!$G$8:$I$1500,3,FALSE), "-") -> 361.25 | S14: =IFERROR(IF(H14="Yes",R14*Q14/1000,M14*Q14/1000),"-") -> 10.8375 | U14: =IFERROR(N14-S14,"-") -> 3.25125 | V14: =IFERROR(U14/N14,"-") -> 0.23076923
E15: Ontario | F15: Floor Decks, Slabs | G15: No | H15: Yes | I15: No | J15: 40 | L15: =IFERROR(VLOOKUP(CONCATENATE(E15,",",J15,",",I15),'CAC EPDs'!$M$8:$O$126,3,FALSE),0) -> 326.25 | M15: 10 | N15: =IF(G15="Yes",M15*(L15*'Other Inputs'!$D$7)/1000,M15*L15/1000) -> 3.2625 | P15: Baseline 40 MPa concrete without air GU 15 SL | Q15: =IFERROR(VLOOKUP(CONCATENATE(E15,", ",P15),'CAC EPDs'!$G$8:$I$1500,3,FALSE), "-") -> 326.25 | R15: 9 | S15: =IFERROR(IF(H15="Yes",R15*Q15/1000,M15*Q15/1000),"-") -> 2.93625 | U15: =IFERROR(N15-S15,"-") -> 0.32625 | V15: =IFERROR(U15/N15,"-") -> 0.1
E16: Ontario | F16: Floor Structural Frame | G16: No | H16: No | I16: Yes | J16: 50 | L16: =IFERROR(VLOOKUP(CONCATENATE(E16,",",J16,",",I16),'CAC EPDs'!$M$8:$O$126,3,FALSE),0) -> 456.93 | M16: 30 | N16: =IF(G16="Yes",M16*(L16*'Other Inputs'!$D$7)/1000,M16*L16/1000) -> 13.7079 | P16: 50 MPa concrete with air GUbSF 25 SL | Q16: =IFERROR(VLOOKUP(CONCATENATE(E16,", ",P16),'CAC EPDs'!$G$8:$I$1500,3,FALSE), "-") -> 437.25 | S16: =IFERROR(IF(H16="Yes",R16*Q16/1000,M16*Q16/1000),"-") -> 13.1175 | U16: =IFERROR(N16-S16,"-") -> 0.5904 | V16: =IFERROR(U16/N16,"-") -> 0.043070054
E17: Ontario | F17: Floor Decks, Slabs | G17: No | H17: No | I17: No | J17: 30 | L17: =IFERROR(VLOOKUP(CONCATENATE(E17,",",J17,",",I17),'CAC EPDs'!$M$8:$O$126,3,FALSE),0) -> 264.38 | M17: 20 | N17: =IF(G17="Yes",M17*(L17*'Other Inputs'!$D$7)/1000,M17*L17/1000) -> 5.2876 | P17: 30 MPa concrete without air GU 35 SL | Q17: =IFERROR(VLOOKUP(CONCATENATE(E17,", ",P17),'CAC EPDs'!$G$8:$I$1500,3,FALSE), "-") -> 221.39 | S17: =IFERROR(IF(H17="Yes",R17*Q17/1000,M17*Q17/1000),"-") -> 4.4278 | U17: =IFERROR(N17-S17,"-") -> 0.8598 | V17: =IFERROR(U17/N17,"-") -> 0.16260685
E18: Ontario | F18: Stair Construction | G18: Yes | H18: No | I18: No | J18: 60 | L18: =IFERROR(VLOOKUP(CONCATENATE(E18,",",J18,",",I18),'CAC EPDs'!$M$8:$O$126,3,FALSE),0) -> 361.25 | M18: 15 | N18: =IF(G18="Yes",M18*(L18*'Other Inputs'!$D$7)/1000,M18*L18/1000) -> 7.044375 | P18: Baseline 60 MPa concrete without air GUbSF 20 SL | Q18: =IFERROR(VLOOKUP(CONCATENATE(E18,", ",P18),'CAC EPDs'!$G$8:$I$1500,3,FALSE), "-") -> 361.25 | S18: =IFERROR(IF(H18="Yes",R18*Q18/1000,M18*Q18/1000),"-") -> 5.41875 | U18: =IFERROR(N18-S18,"-") -> 1.625625 | V18: =IFERROR(U18/N18,"-") -> 0.23076923
E19: Ontario | F19: Floor Decks, Slabs | G19: No | H19: No | I19: Yes | J19: 45 | L19: =IFERROR(VLOOKUP(CONCATENATE(E19,",",J19,",",I19),'CAC EPDs'!$M$8:$O$126,3,FALSE),0) -> 379.45 | M19: 10 | N19: =IF(G19="Yes",M19*(L19*'Other Inputs'!$D$7)/1000,M19*L19/1000) -> 3.7945 | P19: Baseline 45 MPa concrete with air GU 15 SL | Q19: =IFERROR(VLOOKUP(CONCATENATE(E19,", ",P19),'CAC EPDs'!$G$8:$I$1500,3,FALSE), "-") -> 379.45 | S19: =IFERROR(IF(H19="Yes",R19*Q19/1000,M19*Q19/1000),"-") -> 3.7945 | U19: =IFERROR(N19-S19,"-") -> 0 | V19: =IFERROR(U19/N19,"-") -> 0
E20: Ontario | F20: Pedestrian Pavement | G20: No | H20: No | I20: No | J20: 25 | L20: =IFERROR(VLOOKUP(CONCATENATE(E20,",",J20,",",I20),'CAC EPDs'!$M$8:$O$126,3,FALSE),0) -> 254.05 | M20: 10 | N20: =IF(G20="Yes",M20*(L20*'Other Inputs'!$D$7)/1000,M20*L20/1000) -> 2.5405 | P20: 25 MPa concrete without air GU 35 SL | Q20: =IFERROR(VLOOKUP(CONCATENATE(E20,", ",P20),'CAC EPDs'!$G$8:$I$1500,3,FALSE), "-") -> 205.01 | S20: =IFERROR(IF(H20="Yes",R20*Q20/1000,M20*Q20/1000),"-") -> 2.0501 | U20: =IFERROR(N20-S20,"-") -> 0.4904 | V20: =IFERROR(U20/N20,"-") -> 0.19303287
E22: Project Total (Design) | M22: =SUM(M13:M20) -> 145 | N22: =SUM(N13:N20) -> 56.251125 | S22: =SUM(S13:S20) -> 49.9228 | U22: =SUM(U13:U20) -> 6.328325 | V22: =IFERROR(U22/N22,"-") -> 0.11250131

Sheet Steel Reporting Example
D4: Steel Reporting | X4: Embodied Carbon Project Materials Disclosure Template - Steel
E6: =Organization_Name -> [Organization]
E7: ='Project Information'!F9 -> [Name of Project]
E8: ='Organization Information'!E10 -> [dd/mm/yyyy]
E10: Project Information | I10: EPD/LCI Information | Q10: Notes | T10: GHG Emissions | V10: EC With Primary Steel Credit and Tier Achieved
E11: Steel Product Category | F11: Structural Element | G11: Total Weight | I11: Manufacturer | J11: EPD or LCI | K11: EPD/LCI Number | L11: % Recycled Steel | M11: Fabricated / Unfabricated | N11: A1 | O11: A2 | P11: A3 | T11: Total Emissions | V11: % Primary Steel | W11: A1-A3 With Credit | X11: Tier Achieved With Primary Steel Credit
G12: tonnes | N12: ( kg CO2 eq./t) | O12: ( kg CO2 eq./t) | P12: ( kg CO2 eq./t) | T12: (tonnes CO2 eq.) | W12: ( kg CO2 eq./t)
E13: Rebar | F13: Substructure/Foundation | G13: 65 | I13: Manufacturer 1 | J13: EPD | K13: 345 | L13: 1 | M13: Unfabricated | N13: 620 | O13: 30 | P13: 41 | T13: =IF(E13="","",SUM(N13:P13)*10^-3*G13) -> 44.915 | V13: =IF('Project Information'!$F$17="Yes","Exempted",IF(L13="","",100%-L13)) -> 0 | W13: =IF('Project Information'!$F$17="Yes","Exempted",IF(OR(E13="",M13="",N13="",O13="",P13="",L13=""),"",IF((SUM(N13:P13)-(V13*585))<0,0,SUM(N13:P13)-(V13*585)))) -> 691 | X13: =IF('Project Information'!$F$17="Yes","Exempted",IF(W13="","",IF($W13<=VLOOKUP(_xlfn.CONCAT($E13,",",$M13),'Steel Tiers'!$K$8:$N$21,2,FALSE),"Best 20%",IF($W13<=VLOOKUP(_xlfn.CONCAT($E13,",",$M13),'Steel Tiers'!$K$8:$N$21,3,FALSE),"Best 40%",IF($W13<=VLOOKUP(_xlfn.CONCAT($E13,",",$M13),'Steel Tiers'!$K$8:$N$21,4,FALSE),"Better than average","Does not meet any criteria"))))) -> Better than average
E14: Rebar | F14: Superstructure | G14: 24 | I14: Manufacturer 2 | J14: EPD | K14: 346536 | L14: 0.98 | M14: Fabricated | N14: 500 | O14: 9 | P14: 0 | T14: =IF(E14="","",SUM(N14:P14)*10^-3*G14) -> 12.216 | V14: =IF('Project Information'!$F$17="Yes","Exempted",IF(L14="","",100%-L14)) -> 0.02 | W14: =IF('Project Information'!$F$17="Yes","Exempted",IF(OR(E14="",M14="",N14="",O14="",P14="",L14=""),"",IF((SUM(N14:P14)-(V14*585))<0,0,SUM(N14:P14)-(V14*585)))) -> 497.3 | X14: =IF('Project Information'!$F$17="Yes","Exempted",IF(W14="","",IF($W14<=VLOOKUP(_xlfn.CONCAT($E14,",",$M14),'Steel Tiers'!$K$8:$N$21,2,FALSE),"Best 20%",IF($W14<=VLOOKUP(_xlfn.CONCAT($E14,",",$M14),'Steel Tiers'!$K$8:$N$21,3,FALSE),"Best 40%",IF($W14<=VLOOKUP(_xlfn.CONCAT($E14,",",$M14),'Steel Tiers'!$K$8:$N$21,4,FALSE),"Better than average","Does not meet any criteria"))))) -> Best 20%
E15: Hollow Structural Sections | F15: Superstructure | G15: 34 | I15: Manufacturer 3 | J15: EPD | K15: 36241 | L15: 0.3 | M15: Fabricated | N15: 1847 | O15: 0 | P15: 0 | T15: =IF(E15="","",SUM(N15:P15)*10^-3*G15) -> 62.798 | V15: =IF('Project Information'!$F$17="Yes","Exempted",IF(L15="","",100%-L15)) -> 0.7 | W15: =IF('Project Information'!$F$17="Yes","Exempted",IF(OR(E15="",M15="",N15="",O15="",P15="",L15=""),"",IF((SUM(N15:P15)-(V15*585))<0,0,SUM(N15:P15)-(V15*585)))) -> 1437.5 | X15: =IF('Project Information'!$F$17="Yes","Exempted",IF(W15="","",IF($W15<=VLOOKUP(_xlfn.CONCAT($E15,",",$M15),'Steel Tiers'!$K$8:$N$21,2,FALSE),"Best 20%",IF($W15<=VLOOKUP(_xlfn.CONCAT($E15,",",$M15),'Steel Tiers'!$K$8:$N$21,3,FALSE),"Best 40%",IF($W15<=VLOOKUP(_xlfn.CONCAT($E15,",",$M15),'Steel Tiers'!$K$8:$N$21,4,FALSE),"Better than average","Does not meet any criteria"))))) -> Best 20%
E16: Hot-Rolled Sections | F16: Superstructure | G16: 54 | I16: Manufacturer 4 | J16: LCA | K16: 26246 | L16: 0.95 | M16: Fabricated | N16: 798 | O16: 39 | P16: 83.4 | T16: =IF(E16="","",SUM(N16:P16)*10^-3*G16) -> 49.7016 | V16: =IF('Project Information'!$F$17="Yes","Exempted",IF(L16="","",100%-L16)) -> 0.05 | W16: =IF('Project Information'!$F$17="Yes","Exempted",IF(OR(E16="",M16="",N16="",O16="",P16="",L16=""),"",IF((SUM(N16:P16)-(V16*585))<0,0,SUM(N16:P16)-(V16*585)))) -> 891.15 | X16: =IF('Project Information'!$F$17="Yes","Exempted",IF(W16="","",IF($W16<=VLOOKUP(_xlfn.CONCAT($E16,",",$M16),'Steel Tiers'!$K$8:$N$21,2,FALSE),"Best 20%",IF($W16<=VLOOKUP(_xlfn.CONCAT($E16,",",$M16),'Steel Tiers'!$K$8:$N$21,3,FALSE),"Best 40%",IF($W16<=VLOOKUP(_xlfn.CONCAT($E16,",",$M16),'Steel Tiers'!$K$8:$N$21,4,FALSE),"Better than average","Does not meet any criteria"))))) -> Best 20%
E17: Sheet Steel Decking | F17: Superstructure | G17: 17 | I17: Manufacturer 5 | J17: EPD | K17: 23524 | L17: 0.33 | M17: Fabricated | N17: 1982 | O17: 127.2 | P17: 178 | T17: =IF(E17="","",SUM(N17:P17)*10^-3*G17) -> 38.8824 | V17: =IF('Project Information'!$F$17="Yes","Exempted",IF(L17="","",100%-L17)) -> 0.67 | W17: =IF('Project Information'!$F$17="Yes","Exempted",IF(OR(E17="",M17="",N17="",O17="",P17="",L17=""),"",IF((SUM(N17:P17)-(V17*585))<0,0,SUM(N17:P17)-(V17*585)))) -> 1895.25 | X17: =IF('Project Information'!$F$17="Yes","Exempted",IF(W17="","",IF($W17<=VLOOKUP(_xlfn.CONCAT($E17,",",$M17),'Steel Tiers'!$K$8:$N$21,2,FALSE),"Best 20%",IF($W17<=VLOOKUP(_xlfn.CONCAT($E17,",",$M17),'Steel Tiers'!$K$8:$N$21,3,FALSE),"Best 40%",IF($W17<=VLOOKUP(_xlfn.CONCAT($E17,",",$M17),'Steel Tiers'!$K$8:$N$21,4,FALSE),"Better than average","Does not meet any criteria"))))) -> Best 40%
E18: Open Web Steel Joists | F18: Superstructure | G18: 2 | I18: Manufacturer 6 | J18: LCA | K18: 23524 | L18: 0.97 | M18: Fabricated | N18: 891 | O18: 43 | P18: 51.3 | T18: =IF(E18="","",SUM(N18:P18)*10^-3*G18) -> 1.9706 | V18: =IF('Project Information'!$F$17="Yes","Exempted",IF(L18="","",100%-L18)) -> 0.03 | W18: =IF('Project Information'!$F$17="Yes","Exempted",IF(OR(E18="",M18="",N18="",O18="",P18="",L18=""),"",IF((SUM(N18:P18)-(V18*585))<0,0,SUM(N18:P18)-(V18*585)))) -> 967.75 | X18: =IF('Project Information'!$F$17="Yes","Exempted",IF(W18="","",IF($W18<=VLOOKUP(_xlfn.CONCAT($E18,",",$M18),'Steel Tiers'!$K$8:$N$21,2,FALSE),"Best 20%",IF($W18<=VLOOKUP(_xlfn.CONCAT($E18,",",$M18),'Steel Tiers'!$K$8:$N$21,3,FALSE),"Best 40%",IF($W18<=VLOOKUP(_xlfn.CONCAT($E18,",",$M18),'Steel Tiers'!$K$8:$N$21,4,FALSE),"Better than average","Does not meet any criteria"))))) -> Best 20%
E19: Sheet Steel Decking | F19: Envelope & Roofing | G19: 48 | I19: Manufacturer 7 | J19: EPD | K19: 234165 | L19: 0 | M19: Fabricated | N19: 3265 | O19: 0 | P19: 0 | T19: =IF(E19="","",SUM(N19:P19)*10^-3*G19) -> 156.72 | V19: =IF('Project Information'!$F$17="Yes","Exempted",IF(L19="","",100%-L19)) -> 1 | W19: =IF('Project Information'!$F$17="Yes","Exempted",IF(OR(E19="",M19="",N19="",O19="",P19="",L19=""),"",IF((SUM(N19:P19)-(V19*585))<0,0,SUM(N19:P19)-(V19*585)))) -> 2680 | X19: =IF('Project Information'!$F$17="Yes","Exempted",IF(W19="","",IF($W19<=VLOOKUP(_xlfn.CONCAT($E19,",",$M19),'Steel Tiers'!$K$8:$N$21,2,FALSE),"Best 20%",IF($W19<=VLOOKUP(_xlfn.CONCAT($E19,",",$M19),'Steel Tiers'!$K$8:$N$21,3,FALSE),"Best 40%",IF($W19<=VLOOKUP(_xlfn.CONCAT($E19,",",$M19),'Steel Tiers'!$K$8:$N$21,4,FALSE),"Better than average","Does not meet any criteria"))))) -> Does not meet any criteria
T20: =IF(E20="","",SUM(N20:P20)*10^-3*G20) | V20: =IF('Project Information'!$F$17="Yes","Exempted",IF(L20="","",100%-L20)) | W20: =IF('Project Information'!$F$17="Yes","Exempted",IF(OR(E20="",M20="",N20="",O20="",P20="",L20=""),"",IF((SUM(N20:P20)-(V20*585))<0,0,SUM(N20:P20)-(V20*585)))) | X20: =IF('Project Information'!$F$17="Yes","Exempted",IF(W20="","",IF($W20<=VLOOKUP(_xlfn.CONCAT($E20,",",$M20),'Steel Tiers'!$K$8:$N$21,2,FALSE),"Best 20%",IF($W20<=VLOOKUP(_xlfn.CONCAT($E20,",",$M20),'Steel Tiers'!$K$8:$N$21,3,FALSE),"Best 40%",IF($W20<=VLOOKUP(_xlfn.CONCAT($E20,",",$M20),'Steel Tiers'!$K$8:$N$21,4,FALSE),"Better than average","Does not meet any criteria")))))
T21: =IF(E21="","",SUM(N21:P21)*10^-3*G21) | V21: =IF('Project Information'!$F$17="Yes","Exempted",IF(L21="","",100%-L21)) | W21: =IF('Project Information'!$F$17="Yes","Exempted",IF(OR(E21="",M21="",N21="",O21="",P21="",L21=""),"",IF((SUM(N21:P21)-(V21*585))<0,0,SUM(N21:P21)-(V21*585)))) | X21: =IF('Project Information'!$F$17="Yes","Exempted",IF(W21="","",IF($W21<=VLOOKUP(_xlfn.CONCAT($E21,",",$M21),'Steel Tiers'!$K$8:$N$21,2,FALSE),"Best 20%",IF($W21<=VLOOKUP(_xlfn.CONCAT($E21,",",$M21),'Steel Tiers'!$K$8:$N$21,3,FALSE),"Best 40%",IF($W21<=VLOOKUP(_xlfn.CONCAT($E21,",",$M21),'Steel Tiers'!$K$8:$N$21,4,FALSE),"Better than average","Does not meet any criteria")))))
T22: =IF(E22="","",SUM(N22:P22)*10^-3*G22) | V22: =IF('Project Information'!$F$17="Yes","Exempted",IF(L22="","",100%-L22)) | W22: =IF('Project Information'!$F$17="Yes","Exempted",IF(OR(E22="",M22="",N22="",O22="",P22="",L22=""),"",IF((SUM(N22:P22)-(V22*585))<0,0,SUM(N22:P22)-(V22*585)))) | X22: =IF('Project Information'!$F$17="Yes","Exempted",IF(W22="","",IF($W22<=VLOOKUP(_xlfn.CONCAT($E22,",",$M22),'Steel Tiers'!$K$8:$N$21,2,FALSE),"Best 20%",IF($W22<=VLOOKUP(_xlfn.CONCAT($E22,",",$M22),'Steel Tiers'!$K$8:$N$21,3,FALSE),"Best 40%",IF($W22<=VLOOKUP(_xlfn.CONCAT($E22,",",$M22),'Steel Tiers'!$K$8:$N$21,4,FALSE),"Better than average","Does not meet any criteria")))))
T23: =IF(E23="","",SUM(N23:P23)*10^-3*G23) | V23: =IF('Project Information'!$F$17="Yes","Exempted",IF(L23="","",100%-L23)) | W23: =IF('Project Information'!$F$17="Yes","Exempted",IF(OR(E23="",M23="",N23="",O23="",P23="",L23=""),"",IF((SUM(N23:P23)-(V23*585))<0,0,SUM(N23:P23)-(V23*585)))) | X23: =IF('Project Information'!$F$17="Yes","Exempted",IF(W23="","",IF($W23<=VLOOKUP(_xlfn.CONCAT($E23,",",$M23),'Steel Tiers'!$K$8:$N$21,2,FALSE),"Best 20%",IF($W23<=VLOOKUP(_xlfn.CONCAT($E23,",",$M23),'Steel Tiers'!$K$8:$N$21,3,FALSE),"Best 40%",IF($W23<=VLOOKUP(_xlfn.CONCAT($E23,",",$M23),'Steel Tiers'!$K$8:$N$21,4,FALSE),"Better than average","Does not meet any criteria")))))
T24: =IF(E24="","",SUM(N24:P24)*10^-3*G24) | V24: =IF('Project Information'!$F$17="Yes","Exempted",IF(L24="","",100%-L24)) | W24: =IF('Project Information'!$F$17="Yes","Exempted",IF(OR(E24="",M24="",N24="",O24="",P24="",L24=""),"",IF((SUM(N24:P24)-(V24*585))<0,0,SUM(N24:P24)-(V24*585)))) | X24: =IF('Project Information'!$F$17="Yes","Exempted",IF(W24="","",IF($W24<=VLOOKUP(_xlfn.CONCAT($E24,",",$M24),'Steel Tiers'!$K$8:$N$21,2,FALSE),"Best 20%",IF($W24<=VLOOKUP(_xlfn.CONCAT($E24,",",$M24),'Steel Tiers'!$K$8:$N$21,3,FALSE),"Best 40%",IF($W24<=VLOOKUP(_xlfn.CONCAT($E24,",",$M24),'Steel Tiers'!$K$8:$N$21,4,FALSE),"Better than average","Does not meet any criteria")))))
T25: =IF(E25="","",SUM(N25:P25)*10^-3*G25) | V25: =IF('Project Information'!$F$17="Yes","Exempted",IF(L25="","",100%-L25)) | W25: =IF('Project Information'!$F$17="Yes","Exempted",IF(OR(E25="",M25="",N25="",O25="",P25="",L25=""),"",IF((SUM(N25:P25)-(V25*585))<0,0,SUM(N25:P25)-(V25*585)))) | X25: =IF('Project Information'!$F$17="Yes","Exempted",IF(W25="","",IF($W25<=VLOOKUP(_xlfn.CONCAT($E25,",",$M25),'Steel Tiers'!$K$8:$N$21,2,FALSE),"Best 20%",IF($W25<=VLOOKUP(_xlfn.CONCAT($E25,",",$M25),'Steel Tiers'!$K$8:$N$21,3,FALSE),"Best 40%",IF($W25<=VLOOKUP(_xlfn.CONCAT($E25,",",$M25),'Steel Tiers'!$K$8:$N$21,4,FALSE),"Better than average","Does not meet any criteria")))))
T26: =IF(E26="","",SUM(N26:P26)*10^-3*G26) | V26: =IF('Project Information'!$F$17="Yes","Exempted",IF(L26="","",100%-L26)) | W26: =IF('Project Information'!$F$17="Yes","Exempted",IF(OR(E26="",M26="",N26="",O26="",P26="",L26=""),"",IF((SUM(N26:P26)-(V26*585))<0,0,SUM(N26:P26)-(V26*585)))) | X26: =IF('Project Information'!$F$17="Yes","Exempted",IF(W26="","",IF($W26<=VLOOKUP(_xlfn.CONCAT($E26,",",$M26),'Steel Tiers'!$K$8:$N$21,2,FALSE),"Best 20%",IF($W26<=VLOOKUP(_xlfn.CONCAT($E26,",",$M26),'Steel Tiers'!$K$8:$N$21,3,FALSE),"Best 40%",IF($W26<=VLOOKUP(_xlfn.CONCAT($E26,",",$M26),'Steel Tiers'!$K$8:$N$21,4,FALSE),"Better than average","Does not meet any criteria")))))
T27: =IF(E27="","",SUM(N27:P27)*10^-3*G27) | V27: =IF('Project Information'!$F$17="Yes","Exempted",IF(L27="","",100%-L27)) | W27: =IF('Project Information'!$F$17="Yes","Exempted",IF(OR(E27="",M27="",N27="",O27="",P27="",L27=""),"",IF((SUM(N27:P27)-(V27*585))<0,0,SUM(N27:P27)-(V27*585)))) | X27: =IF('Project Information'!$F$17="Yes","Exempted",IF(W27="","",IF($W27<=VLOOKUP(_xlfn.CONCAT($E27,",",$M27),'Steel Tiers'!$K$8:$N$21,2,FALSE),"Best 20%",IF($W27<=VLOOKUP(_xlfn.CONCAT($E27,",",$M27),'Steel Tiers'!$K$8:$N$21,3,FALSE),"Best 40%",IF($W27<=VLOOKUP(_xlfn.CONCAT($E27,",",$M27),'Steel Tiers'!$K$8:$N$21,4,FALSE),"Better than average","Does not meet any criteria")))))
T28: =IF(E28="","",SUM(N28:P28)*10^-3*G28) | V28: =IF('Project Information'!$F$17="Yes","Exempted",IF(L28="","",100%-L28)) | W28: =IF('Project Information'!$F$17="Yes","Exempted",IF(OR(E28="",M28="",N28="",O28="",P28="",L28=""),"",IF((SUM(N28:P28)-(V28*585))<0,0,SUM(N28:P28)-(V28*585)))) | X28: =IF('Project Information'!$F$17="Yes","Exempted",IF(W28="","",IF($W28<=VLOOKUP(_xlfn.CONCAT($E28,",",$M28),'Steel Tiers'!$K$8:$N$21,2,FALSE),"Best 20%",IF($W28<=VLOOKUP(_xlfn.CONCAT($E28,",",$M28),'Steel Tiers'!$K$8:$N$21,3,FALSE),"Best 40%",IF($W28<=VLOOKUP(_xlfn.CONCAT($E28,",",$M28),'Steel Tiers'!$K$8:$N$21,4,FALSE),"Better than average","Does not meet any criteria")))))
T29: =IF(E29="","",SUM(N29:P29)*10^-3*G29) | V29: =IF('Project Information'!$F$17="Yes","Exempted",IF(L29="","",100%-L29)) | W29: =IF('Project Information'!$F$17="Yes","Exempted",IF(OR(E29="",M29="",N29="",O29="",P29="",L29=""),"",IF((SUM(N29:P29)-(V29*585))<0,0,SUM(N29:P29)-(V29*585)))) | X29: =IF('Project Information'!$F$17="Yes","Exempted",IF(W29="","",IF($W29<=VLOOKUP(_xlfn.CONCAT($E29,",",$M29),'Steel Tiers'!$K$8:$N$21,2,FALSE),"Best 20%",IF($W29<=VLOOKUP(_xlfn.CONCAT($E29,",",$M29),'Steel Tiers'!$K$8:$N$21,3,FALSE),"Best 40%",IF($W29<=VLOOKUP(_xlfn.CONCAT($E29,",",$M29),'Steel Tiers'!$K$8:$N$21,4,FALSE),"Better than average","Does not meet any criteria")))))
T30: =IF(E30="","",SUM(N30:P30)*10^-3*G30) | V30: =IF('Project Information'!$F$17="Yes","Exempted",IF(L30="","",100%-L30)) | W30: =IF('Project Information'!$F$17="Yes","Exempted",IF(OR(E30="",M30="",N30="",O30="",P30="",L30=""),"",IF((SUM(N30:P30)-(V30*585))<0,0,SUM(N30:P30)-(V30*585)))) | X30: =IF('Project Information'!$F$17="Yes","Exempted",IF(W30="","",IF($W30<=VLOOKUP(_xlfn.CONCAT($E30,",",$M30),'Steel Tiers'!$K$8:$N$21,2,FALSE),"Best 20%",IF($W30<=VLOOKUP(_xlfn.CONCAT($E30,",",$M30),'Steel Tiers'!$K$8:$N$21,3,FALSE),"Best 40%",IF($W30<=VLOOKUP(_xlfn.CONCAT($E30,",",$M30),'Steel Tiers'!$K$8:$N$21,4,FALSE),"Better than average","Does not meet any criteria")))))
T31: =IF(E31="","",SUM(N31:P31)*10^-3*G31) | V31: =IF('Project Information'!$F$17="Yes","Exempted",IF(L31="","",100%-L31)) | W31: =IF('Project Information'!$F$17="Yes","Exempted",IF(OR(E31="",M31="",N31="",O31="",P31="",L31=""),"",IF((SUM(N31:P31)-(V31*585))<0,0,SUM(N31:P31)-(V31*585)))) | X31: =IF('Project Information'!$F$17="Yes","Exempted",IF(W31="","",IF($W31<=VLOOKUP(_xlfn.CONCAT($E31,",",$M31),'Steel Tiers'!$K$8:$N$21,2,FALSE),"Best 20%",IF($W31<=VLOOKUP(_xlfn.CONCAT($E31,",",$M31),'Steel Tiers'!$K$8:$N$21,3,FALSE),"Best 40%",IF($W31<=VLOOKUP(_xlfn.CONCAT($E31,",",$M31),'Steel Tiers'!$K$8:$N$21,4,FALSE),"Better than average","Does not meet any criteria")))))
... T45: =IF(E45="","",SUM(N45:P45)*10^-3*G45) | V45: =IF('Project Information'!$F$17="Yes","Exempted",IF(L45="","",100%-L45)) | W45: =IF('Project Information'!$F$17="Yes","Exempted",IF(OR(E45="",M45="",N45="",O45="",P45="",L45=""),"",IF((SUM(N45:P45)-(V45*585))<0,0,SUM(N45:P45)-(V45*585)))) | X45: =IF('Project Information'!$F$17="Yes","Exempted",IF(W45="","",IF($W45<=VLOOKUP(_xlfn.CONCAT($E45,",",$M45),'Steel Tiers'!$K$8:$N$21,2,FALSE),"Best 20%",IF($W45<=VLOOKUP(_xlfn.CONCAT($E45,",",$M45),'Steel Tiers'!$K$8:$N$21,3,FALSE),"Best 40%",IF($W45<=VLOOKUP(_xlfn.CONCAT($E45,",",$M45),'Steel Tiers'!$K$8:$N$21,4,FALSE),"Better than average","Does not meet any criteria")))))
F47: Total Weight of Steel Used in the Project: | G47: =SUM(G13:G45) -> 244 | H47: tonnes | Q47: Total Emissions: | T47: =SUM(T13:T45) -> 367.2036 | U47: tonnes CO2 eq.

Sheet Concrete Reporting
W3: Embodied Carbon Project Materials Disclosure Template - Concrete
D4: Ready-Mixed Concrete Reporting
E6: [Organization]
E7: [Name of Project]
E8: [dd/mm/yyyy]
E10: Ready-Mixed Concrete on Project | L10: Baseline GHG Calculations | P10: Actual Design GHG Calculations | U10: GHG Emissions Reduction
E11: Region | F11: Structural Element Description | G11: Special Application | H11: Volume Reduction | I11: Concrete Air Entrained | J11: Compressive Strength at 28 days | L11: Baseline GWP | M11: Baseline Volume | N11: Baseline GHG Emissions | P11: Actual Ready-Mixed Concrete Mix | Q11: Actual GWP | R11: Actual Volume | S11: Actual GHG Emissions | U11: GHG Emissions Reduced From the Baseline | W11: Notes
G12: Yes/No | H12: Yes/No | I12: Yes/No | J12: MPa | L12: kg CO2/m3 | M12: m3 | N12: tCO2 | Q12: kg CO2/m3 | R12: m3 | S12: tCO2 | U12: tCO2 | V12: %
E13: ='Project Information'!$F$13 -> [Select] | L13: =IFERROR(VLOOKUP(CONCATENATE(E13,",",J13,",",I13),'CAC EPDs'!$M$8:$O$126,3,FALSE),0) -> 0 | N13: =IF(G13="Yes",M13*(L13*'Other Inputs'!$D$7)/1000,M13*L13/1000) -> 0 | Q13: =IFERROR(VLOOKUP(CONCATENATE(E13,", ",P13),'CAC EPDs'!$G$8:$I$1500,3,FALSE), "-") -> - | S13: =IFERROR(IF(H13="Yes",R13*Q13/1000,M13*Q13/1000),"-") -> - | U13: =IFERROR(N13-S13,"-") -> - | V13: =IFERROR(U13/N13,"-") -> -
E14: ='Project Information'!$F$13 -> [Select] | L14: =IFERROR(VLOOKUP(CONCATENATE(E14,",",J14,",",I14),'CAC EPDs'!$M$8:$O$126,3,FALSE),0) -> 0 | N14: =IF(G14="Yes",M14*(L14*'Other Inputs'!$D$7)/1000,M14*L14/1000) -> 0 | Q14: =IFERROR(VLOOKUP(CONCATENATE(E14,", ",P14),'CAC EPDs'!$G$8:$I$1500,3,FALSE), "-") -> - | S14: =IFERROR(IF(H14="Yes",R14*Q14/1000,M14*Q14/1000),"-") -> - | U14: =IFERROR(N14-S14,"-") -> - | V14: =IFERROR(U14/N14,"-") -> -
E15: ='Project Information'!$F$13 -> [Select] | L15: =IFERROR(VLOOKUP(CONCATENATE(E15,",",J15,",",I15),'CAC EPDs'!$M$8:$O$126,3,FALSE),0) -> 0 | N15: =IF(G15="Yes",M15*(L15*'Other Inputs'!$D$7)/1000,M15*L15/1000) -> 0 | Q15: =IFERROR(VLOOKUP(CONCATENATE(E15,", ",P15),'CAC EPDs'!$G$8:$I$1500,3,FALSE), "-") -> - | S15: =IFERROR(IF(H15="Yes",R15*Q15/1000,M15*Q15/1000),"-") -> - | U15: =IFERROR(N15-S15,"-") -> - | V15: =IFERROR(U15/N15,"-") -> -
E16: ='Project Information'!$F$13 -> [Select] | L16: =IFERROR(VLOOKUP(CONCATENATE(E16,",",J16,",",I16),'CAC EPDs'!$M$8:$O$126,3,FALSE),0) -> 0 | N16: =IF(G16="Yes",M16*(L16*'Other Inputs'!$D$7)/1000,M16*L16/1000) -> 0 | Q16: =IFERROR(VLOOKUP(CONCATENATE(E16,", ",P16),'CAC EPDs'!$G$8:$I$1500,3,FALSE), "-") -> - | S16: =IFERROR(IF(H16="Yes",R16*Q16/1000,M16*Q16/1000),"-") -> - | U16: =IFERROR(N16-S16,"-") -> - | V16: =IFERROR(U16/N16,"-") -> -
E17: ='Project Information'!$F$13 -> [Select] | L17: =IFERROR(VLOOKUP(CONCATENATE(E17,",",J17,",",I17),'CAC EPDs'!$M$8:$O$126,3,FALSE),0) -> 0 | N17: =IF(G17="Yes",M17*(L17*'Other Inputs'!$D$7)/1000,M17*L17/1000) -> 0 | Q17: =IFERROR(VLOOKUP(CONCATENATE(E17,", ",P17),'CAC EPDs'!$G$8:$I$1500,3,FALSE), "-") -> - | S17: =IFERROR(IF(H17="Yes",R17*Q17/1000,M17*Q17/1000),"-") -> - | U17: =IFERROR(N17-S17,"-") -> - | V17: =IFERROR(U17/N17,"-") -> -
E18: ='Project Information'!$F$13 -> [Select] | L18: =IFERROR(VLOOKUP(CONCATENATE(E18,",",J18,",",I18),'CAC EPDs'!$M$8:$O$126,3,FALSE),0) -> 0 | N18: =IF(G18="Yes",M18*(L18*'Other Inputs'!$D$7)/1000,M18*L18/1000) -> 0 | Q18: =IFERROR(VLOOKUP(CONCATENATE(E18,", ",P18),'CAC EPDs'!$G$8:$I$1500,3,FALSE), "-") -> - | S18: =IFERROR(IF(H18="Yes",R18*Q18/1000,M18*Q18/1000),"-") -> - | U18: =IFERROR(N18-S18,"-") -> - | V18: =IFERROR(U18/N18,"-") -> -
E19: ='Project Information'!$F$13 -> [Select] | L19: =IFERROR(VLOOKUP(CONCATENATE(E19,",",J19,",",I19),'CAC EPDs'!$M$8:$O$126,3,FALSE),0) -> 0 | N19: =IF(G19="Yes",M19*(L19*'Other Inputs'!$D$7)/1000,M19*L19/1000) -> 0 | Q19: =IFERROR(VLOOKUP(CONCATENATE(E19,", ",P19),'CAC EPDs'!$G$8:$I$1500,3,FALSE), "-") -> - | S19: =IFERROR(IF(H19="Yes",R19*Q19/1000,M19*Q19/1000),"-") -> - | U19: =IFERROR(N19-S19,"-") -> - | V19: =IFERROR(U19/N19,"-") -> -
E20: ='Project Information'!$F$13 -> [Select] | L20: =IFERROR(VLOOKUP(CONCATENATE(E20,",",J20,",",I20),'CAC EPDs'!$M$8:$O$126,3,FALSE),0) -> 0 | N20: =IF(G20="Yes",M20*(L20*'Other Inputs'!$D$7)/1000,M20*L20/1000) -> 0 | Q20: =IFERROR(VLOOKUP(CONCATENATE(E20,", ",P20),'CAC EPDs'!$G$8:$I$1500,3,FALSE), "-") -> - | S20: =IFERROR(IF(H20="Yes",R20*Q20/1000,M20*Q20/1000),"-") -> - | U20: =IFERROR(N20-S20,"-") -> - | V20: =IFERROR(U20/N20,"-") -> -
E21: ='Project Information'!$F$13 -> [Select] | L21: =IFERROR(VLOOKUP(CONCATENATE(E21,",",J21,",",I21),'CAC EPDs'!$M$8:$O$126,3,FALSE),0) -> 0 | N21: =IF(G21="Yes",M21*(L21*'Other Inputs'!$D$7)/1000,M21*L21/1000) -> 0 | Q21: =IFERROR(VLOOKUP(CONCATENATE(E21,", ",P21),'CAC EPDs'!$G$8:$I$1500,3,FALSE), "-") -> - | S21: =IFERROR(IF(H21="Yes",R21*Q21/1000,M21*Q21/1000),"-") -> - | U21: =IFERROR(N21-S21,"-") -> - | V21: =IFERROR(U21/N21,"-") -> -
E22: ='Project Information'!$F$13 -> [Select] | L22: =IFERROR(VLOOKUP(CONCATENATE(E22,",",J22,",",I22),'CAC EPDs'!$M$8:$O$126,3,FALSE),0) -> 0 | N22: =IF(G22="Yes",M22*(L22*'Other Inputs'!$D$7)/1000,M22*L22/1000) -> 0 | Q22: =IFERROR(VLOOKUP(CONCATENATE(E22,", ",P22),'CAC EPDs'!$G$8:$I$1500,3,FALSE), "-") -> - | S22: =IFERROR(IF(H22="Yes",R22*Q22/1000,M22*Q22/1000),"-") -> - | U22: =IFERROR(N22-S22,"-") -> - | V22: =IFERROR(U22/N22,"-") -> -
E23: ='Project Information'!$F$13 -> [Select] | L23: =IFERROR(VLOOKUP(CONCATENATE(E23,",",J23,",",I23),'CAC EPDs'!$M$8:$O$126,3,FALSE),0) -> 0 | N23: =IF(G23="Yes",M23*(L23*'Other Inputs'!$D$7)/1000,M23*L23/1000) -> 0 | Q23: =IFERROR(VLOOKUP(CONCATENATE(E23,", ",P23),'CAC EPDs'!$G$8:$I$1500,3,FALSE), "-") -> - | S23: =IFERROR(IF(H23="Yes",R23*Q23/1000,M23*Q23/1000),"-") -> - | U23: =IFERROR(N23-S23,"-") -> - | V23: =IFERROR(U23/N23,"-") -> -
E24: ='Project Information'!$F$13 -> [Select] | L24: =IFERROR(VLOOKUP(CONCATENATE(E24,",",J24,",",I24),'CAC EPDs'!$M$8:$O$126,3,FALSE),0) -> 0 | N24: =IF(G24="Yes",M24*(L24*'Other Inputs'!$D$7)/1000,M24*L24/1000) -> 0 | Q24: =IFERROR(VLOOKUP(CONCATENATE(E24,", ",P24),'CAC EPDs'!$G$8:$I$1500,3,FALSE), "-") -> - | S24: =IFERROR(IF(H24="Yes",R24*Q24/1000,M24*Q24/1000),"-") -> - | U24: =IFERROR(N24-S24,"-") -> - | V24: =IFERROR(U24/N24,"-") -> -
... E42: ='Project Information'!$F$13 -> [Select] | L42: =IFERROR(VLOOKUP(CONCATENATE(E42,",",J42,",",I42),'CAC EPDs'!$M$8:$O$126,3,FALSE),0) -> 0 | N42: =IF(G42="Yes",M42*(L42*'Other Inputs'!$D$7)/1000,M42*L42/1000) -> 0 | Q42: =IFERROR(VLOOKUP(CONCATENATE(E42,", ",P42),'CAC EPDs'!$G$8:$I$1500,3,FALSE), "-") -> - | S42: =IFERROR(IF(H42="Yes",R42*Q42/1000,M42*Q42/1000),"-") -> - | U42: =IFERROR(N42-S42,"-") -> - | V42: =IFERROR(U42/N42,"-") -> -
E44: Project Total (Design) | M44: =SUM(M13:M42) -> 0 | N44: =SUM(N13:N42) -> 0 | S44: =SUM(S13:S42) -> 0 | U44: =SUM(U13:U42) -> 0 | V44: =IFERROR(U44/N44,"-") -> -

Sheet Steel Reporting
D4: Steel Reporting | X4: Embodied Carbon Project Materials Disclosure Template - Steel
E6: =Organization_Name -> [Organization]
E7: ='Project Information'!F9 -> [Name of Project]
E8: ='Organization Information'!E10 -> [dd/mm/yyyy]
E10: Project Information | I10: EPD/LCI Information | Q10: Notes | T10: GHG Emissions | V10: EC With Primary Steel Credit and Tier Achieved
E11: Steel Product Category | F11: Structural Element | G11: Total Weight | I11: Manufacturer | J11: EPD or LCI | K11: EPD/LCI Number | L11: % Recycled Steel | M11: Fabricated / Unfabricated | N11: A1 | O11: A2 | P11: A3 | T11: Total Emissions | V11: % Primary Steel | W11: A1-A3 With Credit | X11: Tier Achieved With Primary Steel Credit
G12: tonnes | N12: (kg CO2 eq./t) | O12: (kg CO2 eq./t) | P12: (kg CO2 eq./t) | T12: (tonnes CO2 eq.) | W12: ( kg CO2 eq./t)
T13: =IF(E13="","",SUM(N13:P13)*10^-3*G13) | V13: =IF('Project Information'!$F$17="Yes","Exempted",IF(L13="","",100%-L13)) | W13: =IF('Project Information'!$F$17="Yes","Exempted",IF(OR(E13="",M13="",N13="",O13="",P13="",L13=""),"",IF((SUM(N13:P13)-(V13*585))<0,0,SUM(N13:P13)-(V13*585)))) | X13: =IF('Project Information'!$F$17="Yes","Exempted",IF(W13="","",IF($W13<=VLOOKUP(_xlfn.CONCAT($E13,",",$M13),'Steel Tiers'!$K$8:$N$21,2,FALSE),"Best 20%",IF($W13<=VLOOKUP(_xlfn.CONCAT($E13,",",$M13),'Steel Tiers'!$K$8:$N$21,3,FALSE),"Best 40%",IF($W13<=VLOOKUP(_xlfn.CONCAT($E13,",",$M13),'Steel Tiers'!$K$8:$N$21,4,FALSE),"Better than average","Does not meet any criteria")))))
T14: =IF(E14="","",SUM(N14:P14)*10^-3*G14) | V14: =IF('Project Information'!$F$17="Yes","Exempted",IF(L14="","",100%-L14)) | W14: =IF('Project Information'!$F$17="Yes","Exempted",IF(OR(E14="",M14="",N14="",O14="",P14="",L14=""),"",IF((SUM(N14:P14)-(V14*585))<0,0,SUM(N14:P14)-(V14*585)))) | X14: =IF('Project Information'!$F$17="Yes","Exempted",IF(W14="","",IF($W14<=VLOOKUP(_xlfn.CONCAT($E14,",",$M14),'Steel Tiers'!$K$8:$N$21,2,FALSE),"Best 20%",IF($W14<=VLOOKUP(_xlfn.CONCAT($E14,",",$M14),'Steel Tiers'!$K$8:$N$21,3,FALSE),"Best 40%",IF($W14<=VLOOKUP(_xlfn.CONCAT($E14,",",$M14),'Steel Tiers'!$K$8:$N$21,4,FALSE),"Better than average","Does not meet any criteria")))))
T15: =IF(E15="","",SUM(N15:P15)*10^-3*G15) | V15: =IF('Project Information'!$F$17="Yes","Exempted",IF(L15="","",100%-L15)) | W15: =IF('Project Information'!$F$17="Yes","Exempted",IF(OR(E15="",M15="",N15="",O15="",P15="",L15=""),"",IF((SUM(N15:P15)-(V15*585))<0,0,SUM(N15:P15)-(V15*585)))) | X15: =IF('Project Information'!$F$17="Yes","Exempted",IF(W15="","",IF($W15<=VLOOKUP(_xlfn.CONCAT($E15,",",$M15),'Steel Tiers'!$K$8:$N$21,2,FALSE),"Best 20%",IF($W15<=VLOOKUP(_xlfn.CONCAT($E15,",",$M15),'Steel Tiers'!$K$8:$N$21,3,FALSE),"Best 40%",IF($W15<=VLOOKUP(_xlfn.CONCAT($E15,",",$M15),'Steel Tiers'!$K$8:$N$21,4,FALSE),"Better than average","Does not meet any criteria")))))
T16: =IF(E16="","",SUM(N16:P16)*10^-3*G16) | V16: =IF('Project Information'!$F$17="Yes","Exempted",IF(L16="","",100%-L16)) | W16: =IF('Project Information'!$F$17="Yes","Exempted",IF(OR(E16="",M16="",N16="",O16="",P16="",L16=""),"",IF((SUM(N16:P16)-(V16*585))<0,0,SUM(N16:P16)-(V16*585)))) | X16: =IF('Project Information'!$F$17="Yes","Exempted",IF(W16="","",IF($W16<=VLOOKUP(_xlfn.CONCAT($E16,",",$M16),'Steel Tiers'!$K$8:$N$21,2,FALSE),"Best 20%",IF($W16<=VLOOKUP(_xlfn.CONCAT($E16,",",$M16),'Steel Tiers'!$K$8:$N$21,3,FALSE),"Best 40%",IF($W16<=VLOOKUP(_xlfn.CONCAT($E16,",",$M16),'Steel Tiers'!$K$8:$N$21,4,FALSE),"Better than average","Does not meet any criteria")))))
T17: =IF(E17="","",SUM(N17:P17)*10^-3*G17) | V17: =IF('Project Information'!$F$17="Yes","Exempted",IF(L17="","",100%-L17)) | W17: =IF('Project Information'!$F$17="Yes","Exempted",IF(OR(E17="",M17="",N17="",O17="",P17="",L17=""),"",IF((SUM(N17:P17)-(V17*585))<0,0,SUM(N17:P17)-(V17*585)))) | X17: =IF('Project Information'!$F$17="Yes","Exempted",IF(W17="","",IF($W17<=VLOOKUP(_xlfn.CONCAT($E17,",",$M17),'Steel Tiers'!$K$8:$N$21,2,FALSE),"Best 20%",IF($W17<=VLOOKUP(_xlfn.CONCAT($E17,",",$M17),'Steel Tiers'!$K$8:$N$21,3,FALSE),"Best 40%",IF($W17<=VLOOKUP(_xlfn.CONCAT($E17,",",$M17),'Steel Tiers'!$K$8:$N$21,4,FALSE),"Better than average","Does not meet any criteria")))))
T18: =IF(E18="","",SUM(N18:P18)*10^-3*G18) | V18: =IF('Project Information'!$F$17="Yes","Exempted",IF(L18="","",100%-L18)) | W18: =IF('Project Information'!$F$17="Yes","Exempted",IF(OR(E18="",M18="",N18="",O18="",P18="",L18=""),"",IF((SUM(N18:P18)-(V18*585))<0,0,SUM(N18:P18)-(V18*585)))) | X18: =IF('Project Information'!$F$17="Yes","Exempted",IF(W18="","",IF($W18<=VLOOKUP(_xlfn.CONCAT($E18,",",$M18),'Steel Tiers'!$K$8:$N$21,2,FALSE),"Best 20%",IF($W18<=VLOOKUP(_xlfn.CONCAT($E18,",",$M18),'Steel Tiers'!$K$8:$N$21,3,FALSE),"Best 40%",IF($W18<=VLOOKUP(_xlfn.CONCAT($E18,",",$M18),'Steel Tiers'!$K$8:$N$21,4,FALSE),"Better than average","Does not meet any criteria")))))
T19: =IF(E19="","",SUM(N19:P19)*10^-3*G19) | V19: =IF('Project Information'!$F$17="Yes","Exempted",IF(L19="","",100%-L19)) | W19: =IF('Project Information'!$F$17="Yes","Exempted",IF(OR(E19="",M19="",N19="",O19="",P19="",L19=""),"",IF((SUM(N19:P19)-(V19*585))<0,0,SUM(N19:P19)-(V19*585)))) | X19: =IF('Project Information'!$F$17="Yes","Exempted",IF(W19="","",IF($W19<=VLOOKUP(_xlfn.CONCAT($E19,",",$M19),'Steel Tiers'!$K$8:$N$21,2,FALSE),"Best 20%",IF($W19<=VLOOKUP(_xlfn.CONCAT($E19,",",$M19),'Steel Tiers'!$K$8:$N$21,3,FALSE),"Best 40%",IF($W19<=VLOOKUP(_xlfn.CONCAT($E19,",",$M19),'Steel Tiers'!$K$8:$N$21,4,FALSE),"Better than average","Does not meet any criteria")))))
T20: =IF(E20="","",SUM(N20:P20)*10^-3*G20) | V20: =IF('Project Information'!$F$17="Yes","Exempted",IF(L20="","",100%-L20)) | W20: =IF('Project Information'!$F$17="Yes","Exempted",IF(OR(E20="",M20="",N20="",O20="",P20="",L20=""),"",IF((SUM(N20:P20)-(V20*585))<0,0,SUM(N20:P20)-(V20*585)))) | X20: =IF('Project Information'!$F$17="Yes","Exempted",IF(W20="","",IF($W20<=VLOOKUP(_xlfn.CONCAT($E20,",",$M20),'Steel Tiers'!$K$8:$N$21,2,FALSE),"Best 20%",IF($W20<=VLOOKUP(_xlfn.CONCAT($E20,",",$M20),'Steel Tiers'!$K$8:$N$21,3,FALSE),"Best 40%",IF($W20<=VLOOKUP(_xlfn.CONCAT($E20,",",$M20),'Steel Tiers'!$K$8:$N$21,4,FALSE),"Better than average","Does not meet any criteria")))))
T21: =IF(E21="","",SUM(N21:P21)*10^-3*G21) | V21: =IF('Project Information'!$F$17="Yes","Exempted",IF(L21="","",100%-L21)) | W21: =IF('Project Information'!$F$17="Yes","Exempted",IF(OR(E21="",M21="",N21="",O21="",P21="",L21=""),"",IF((SUM(N21:P21)-(V21*585))<0,0,SUM(N21:P21)-(V21*585)))) | X21: =IF('Project Information'!$F$17="Yes","Exempted",IF(W21="","",IF($W21<=VLOOKUP(_xlfn.CONCAT($E21,",",$M21),'Steel Tiers'!$K$8:$N$21,2,FALSE),"Best 20%",IF($W21<=VLOOKUP(_xlfn.CONCAT($E21,",",$M21),'Steel Tiers'!$K$8:$N$21,3,FALSE),"Best 40%",IF($W21<=VLOOKUP(_xlfn.CONCAT($E21,",",$M21),'Steel Tiers'!$K$8:$N$21,4,FALSE),"Better than average","Does not meet any criteria")))))
T22: =IF(E22="","",SUM(N22:P22)*10^-3*G22) | V22: =IF('Project Information'!$F$17="Yes","Exempted",IF(L22="","",100%-L22)) | W22: =IF('Project Information'!$F$17="Yes","Exempted",IF(OR(E22="",M22="",N22="",O22="",P22="",L22=""),"",IF((SUM(N22:P22)-(V22*585))<0,0,SUM(N22:P22)-(V22*585)))) | X22: =IF('Project Information'!$F$17="Yes","Exempted",IF(W22="","",IF($W22<=VLOOKUP(_xlfn.CONCAT($E22,",",$M22),'Steel Tiers'!$K$8:$N$21,2,FALSE),"Best 20%",IF($W22<=VLOOKUP(_xlfn.CONCAT($E22,",",$M22),'Steel Tiers'!$K$8:$N$21,3,FALSE),"Best 40%",IF($W22<=VLOOKUP(_xlfn.CONCAT($E22,",",$M22),'Steel Tiers'!$K$8:$N$21,4,FALSE),"Better than average","Does not meet any criteria")))))
T23: =IF(E23="","",SUM(N23:P23)*10^-3*G23) | V23: =IF('Project Information'!$F$17="Yes","Exempted",IF(L23="","",100%-L23)) | W23: =IF('Project Information'!$F$17="Yes","Exempted",IF(OR(E23="",M23="",N23="",O23="",P23="",L23=""),"",IF((SUM(N23:P23)-(V23*585))<0,0,SUM(N23:P23)-(V23*585)))) | X23: =IF('Project Information'!$F$17="Yes","Exempted",IF(W23="","",IF($W23<=VLOOKUP(_xlfn.CONCAT($E23,",",$M23),'Steel Tiers'!$K$8:$N$21,2,FALSE),"Best 20%",IF($W23<=VLOOKUP(_xlfn.CONCAT($E23,",",$M23),'Steel Tiers'!$K$8:$N$21,3,FALSE),"Best 40%",IF($W23<=VLOOKUP(_xlfn.CONCAT($E23,",",$M23),'Steel Tiers'!$K$8:$N$21,4,FALSE),"Better than average","Does not meet any criteria")))))
T24: =IF(E24="","",SUM(N24:P24)*10^-3*G24) | V24: =IF('Project Information'!$F$17="Yes","Exempted",IF(L24="","",100%-L24)) | W24: =IF('Project Information'!$F$17="Yes","Exempted",IF(OR(E24="",M24="",N24="",O24="",P24="",L24=""),"",IF((SUM(N24:P24)-(V24*585))<0,0,SUM(N24:P24)-(V24*585)))) | X24: =IF('Project Information'!$F$17="Yes","Exempted",IF(W24="","",IF($W24<=VLOOKUP(_xlfn.CONCAT($E24,",",$M24),'Steel Tiers'!$K$8:$N$21,2,FALSE),"Best 20%",IF($W24<=VLOOKUP(_xlfn.CONCAT($E24,",",$M24),'Steel Tiers'!$K$8:$N$21,3,FALSE),"Best 40%",IF($W24<=VLOOKUP(_xlfn.CONCAT($E24,",",$M24),'Steel Tiers'!$K$8:$N$21,4,FALSE),"Better than average","Does not meet any criteria")))))
... T45: =IF(E45="","",SUM(N45:P45)*10^-3*G45) | V45: =IF('Project Information'!$F$17="Yes","Exempted",IF(L45="","",100%-L45)) | W45: =IF('Project Information'!$F$17="Yes","Exempted",IF(OR(E45="",M45="",N45="",O45="",P45="",L45=""),"",IF((SUM(N45:P45)-(V45*585))<0,0,SUM(N45:P45)-(V45*585)))) | X45: =IF('Project Information'!$F$17="Yes","Exempted",IF(W45="","",IF($W45<=VLOOKUP(_xlfn.CONCAT($E45,",",$M45),'Steel Tiers'!$K$8:$N$21,2,FALSE),"Best 20%",IF($W45<=VLOOKUP(_xlfn.CONCAT($E45,",",$M45),'Steel Tiers'!$K$8:$N$21,3,FALSE),"Best 40%",IF($W45<=VLOOKUP(_xlfn.CONCAT($E45,",",$M45),'Steel Tiers'!$K$8:$N$21,4,FALSE),"Better than average","Does not meet any criteria")))))
F47: Total Weight of Steel Used in the Project: | G47: =SUM(G13:G45) -> 0 | H47: tonnes | Q47: Total Emissions: | T47: =SUM(T13:T45) -> 0 | U47: tonnes CO2 eq.

Sheet Steel Tiers
B2: Sheet Title: | C2: Steel Tiers
B3: Sheet Reference:
B4: Sheet Purpose: | C4: To calculate where within the tiers the steel material used is placed. | J4: DO NOT CHANGE!!!!!!!!!!!!!!!!!!!!!!!!!!!!!!!!!!
B6: Product Category | C6: Declared Unit | D6: Fabricated/ Unfabricated | E6: Best 20% GWP Limit | F6: Best 40% GWP Limit | G6: Best 50% GWP Limit | L6: Best 20% GWP Limit | M6: Best 40% GWP Limit | N6: Best 50% GWP Limit
C7: tonne | E7: kg CO2e/t | F7: kg CO2e/t | G7: kg CO2e/t | K7: Concatenated Key Words | L7: kg CO2e/t | M7: kg CO2e/t | N7: kg CO2e/t
B8: Rebar | C8: 1 | D8: Unfabricated | E8: 622 | F8: 684 | G8: 702 | K8: =_xlfn.CONCAT(B8,",",D8) -> Rebar,Unfabricated | L8: =E8 -> 622 | M8: =F8 -> 684 | N8: =G8 -> 702
B9: Hot-Rolled Sections | C9: 1 | D9: Unfabricated | E9: 820 | F9: 898 | G9: 927 | K9: =_xlfn.CONCAT(B9,",",D9) -> Hot-Rolled Sections,Unfabricated | L9: =E9 -> 820 | M9: =F9 -> 898 | N9: =G9 -> 927
B10: Hollow Structural Sections | C10: 1 | D10: Unfabricated | E10: 1329 | F10: 1560 | G10: 1645 | K10: =_xlfn.CONCAT(B10,",",D10) -> Hollow Structural Sections,Unfabricated | L10: =E10 -> 1329 | M10: =F10 -> 1560 | N10: =G10 -> 1645
B11: Structural Plate | C11: 1 | D11: Unfabricated | E11: 1262 | F11: 1407 | G11: 1461 | K11: =_xlfn.CONCAT(B11,",",D11) -> Structural Plate,Unfabricated | L11: =E11 -> 1262 | M11: =F11 -> 1407 | N11: =G11 -> 1461
B12: Cold-Formed Steel Framing & Panels | C12: 1 | D12: Fabricated | E12: 1721 | F12: 2242 | G12: 2355 | K12: =_xlfn.CONCAT(B12,",",D12) -> Cold-Formed Steel Framing & Panels,Fabricated | L12: =E12 -> 1721 | M12: =F12 -> 2242 | N12: =G12 -> 2355
B13: Sheet Steel Decking | C13: 1 | D13: Fabricated | E13: 1860 | F13: 2034 | G13: 2213 | K13: =_xlfn.CONCAT(B13,",",D13) -> Sheet Steel Decking,Fabricated | L13: =E13 -> 1860 | M13: =F13 -> 2034 | N13: =G13 -> 2213
B14: Open Web Steel Joists | C14: 1 | D14: Fabricated | E14: 1239 | F14: 1344 | G14: 1394 | K14: =_xlfn.CONCAT(B14,",",D14) -> Open Web Steel Joists,Fabricated | L14: =E14 -> 1239 | M14: =F14 -> 1344 | N14: =G14 -> 1394
B15: Merchant Bar | C15: 1 | D15: Fabricated | E15: 625 | F15: 720 | G15: 740 | K15: =_xlfn.CONCAT(B15,",",D15) -> Merchant Bar,Fabricated | L15: =E15 -> 625 | M15: =F15 -> 720 | N15: =G15 -> 740
B16: Hot-Rolled Sheet, Strip, Plate | C16: 1 | D16: Fabricated | E16: 1158 | F16: 1401 | G16: 1505 | K16: =_xlfn.CONCAT(B16,",",D16) -> Hot-Rolled Sheet, Strip, Plate,Fabricated | L16: =E16 -> 1158 | M16: =F16 -> 1401 | N16: =G16 -> 1505
B17: Cold-Rolled Sheet, Strip, Plate | C17: 1 | D17: Fabricated | E17: 1848 | F17: 2021 | G17: 2102 | K17: =_xlfn.CONCAT(B17,",",D17) -> Cold-Rolled Sheet, Strip, Plate,Fabricated | L17: =E17 -> 1848 | M17: =F17 -> 2021 | N17: =G17 -> 2102
B18: Rebar | C18: 1 | D18: Fabricated | E18: 703 | F18: 773 | G18: 793 | K18: =_xlfn.CONCAT(B18,",",D18) -> Rebar,Fabricated | L18: =E18 -> 703 | M18: =F18 -> 773 | N18: =G18 -> 793
B19: Hot-Rolled Sections | C19: 1 | D19: Fabricated | E19: 1008 | F19: 1105 | G19: 1140 | K19: =_xlfn.CONCAT(B19,",",D19) -> Hot-Rolled Sections,Fabricated | L19: =E19 -> 1008 | M19: =F19 -> 1105 | N19: =G19 -> 1140
... B21: Structural Plate | C21: 1 | D21: Fabricated | E21: 1476 | F21: 1646 | G21: 1709 | K21: =_xlfn.CONCAT(B21,",",D21) -> Structural Plate,Fabricated | L21: =E21 -> 1476 | M21: =F21 -> 1646 | N21: =G21 -> 1709
E23: *Limits to be change if there are any updates

Sheet CAC EPDs
B2: Sheet Title: | C2: Industry Wide - Concrete GWP by Region, Compressive Strength, Air Entrained, and Concrete Classification. | I2: no | J2: 314
B3: Sheet Reference: | C3: Concrete Canada | G3: Valid until July 2027 | I3: yes | J3: 332
B4: Sheet Purpose: | C4: To collect concrete verified GWP databases published through Concrete Canada. These inform the project GWP of ready-mix concrete.
H5: BASELINES ONLY | M5: BASELINES ONLY | N5: BASELINES ONLY | O5: BASELINES ONLY
B6: Province | C6: Strength | D6: AEAs | F6: Concrete Classification | G6: Concatenate Province and Concrete Classification for Vlookup | H6: Isolate For Baselines Only | I6: GWP | J6: Reference Link | K6: Reference Table | M6: Idenify Unique PT, Strength, Air | N6: Identify 1st Baseline for Each | O6: Identify GWP for 1st Baseline
B7: (unit) | C7: (MPa) | D7: (Yes/No) | I7: (kg CO2eq / m3) | N7: Category
B8: Ontario | C8: 20 | D8: No | E8: =CONCATENATE(B8,",",C8,",",D8) -> Ontario,20,No | F8: Baseline 20 MPa concrete without air GU 10 SL | G8: =CONCATENATE(B8,", ",F8) -> Ontario, Baseline 20 MPa concrete without air GU 10 SL | H8: =IF(ISNUMBER(SEARCH("Baseline",F8)),CONCATENATE(B8,", ",F8),"") -> Ontario, Baseline 20 MPa concrete without air GU 10 SL | I8: 220.29 | J8: https://www.rmcao.org/wp-content/uploads/2023/04/CRMCA-EPD-Ontario-20220803.pdf | K8: Table 6 | M8: {=_xlfn.UNIQUE(E8:E1500)} -> Ontario,20,No | N8: =VLOOKUP(M8,$E$8:$H$1500,4,FALSE) -> Ontario, Baseline 20 MPa concrete without air GU 10 SL | O8: =VLOOKUP(N8,$H$8:$I$1500,2,FALSE) -> 220.29
B9: Ontario | C9: 20 | D9: No | E9: =CONCATENATE(B9,",",C9,",",D9) -> Ontario,20,No | F9: 20 MPa concrete without air GU | G9: =CONCATENATE(B9,", ",F9) -> Ontario, 20 MPa concrete without air GU | H9: =IF(ISNUMBER(SEARCH("Baseline",F9)),CONCATENATE(B9,", ",F9),"") | I9: 236.9 | J9: https://www.rmcao.org/wp-content/uploads/2023/04/CRMCA-EPD-Ontario-20220803.pdf | K9: Table 6 | M9: Ontario,25,No | N9: =VLOOKUP(M9,$E$8:$H$1500,4,FALSE) -> Ontario, Baseline 25 MPa concrete without air GU 10 SL | O9: =VLOOKUP(N9,$H$8:$I$1500,2,FALSE) -> 254.05
B10: Ontario | C10: 20 | D10: No | E10: =CONCATENATE(B10,",",C10,",",D10) -> Ontario,20,No | F10: 20 MPa concrete without air GU 15 SL | G10: =CONCATENATE(B10,", ",F10) -> Ontario, 20 MPa concrete without air GU 15 SL | H10: =IF(ISNUMBER(SEARCH("Baseline",F10)),CONCATENATE(B10,", ",F10),"") | I10: 211.99 | J10: https://www.rmcao.org/wp-content/uploads/2023/04/CRMCA-EPD-Ontario-20220803.pdf | K10: Table 6 | M10: Ontario,30,No | N10: =VLOOKUP(M10,$E$8:$H$1500,4,FALSE) -> Ontario, Baseline 30 MPa concrete without air GU 15 SL | O10: =VLOOKUP(N10,$H$8:$I$1500,2,FALSE) -> 264.38
B11: Ontario | C11: 20 | D11: No | E11: =CONCATENATE(B11,",",C11,",",D11) -> Ontario,20,No | F11: 20 MPa concrete without air GU 25 SL | G11: =CONCATENATE(B11,", ",F11) -> Ontario, 20 MPa concrete without air GU 25 SL | H11: =IF(ISNUMBER(SEARCH("Baseline",F11)),CONCATENATE(B11,", ",F11),"") | I11: 195.38 | J11: https://www.rmcao.org/wp-content/uploads/2023/04/CRMCA-EPD-Ontario-20220803.pdf | K11: Table 6 | M11: Ontario,35,No | N11: =VLOOKUP(M11,$E$8:$H$1500,4,FALSE) -> Ontario, Baseline 35 MPa concrete without air GU 15 SL | O11: =VLOOKUP(N11,$H$8:$I$1500,2,FALSE) -> 295.46
B12: Ontario | C12: 20 | D12: No | E12: =CONCATENATE(B12,",",C12,",",D12) -> Ontario,20,No | F12: 20 MPa concrete without air GU 35 SL | G12: =CONCATENATE(B12,", ",F12) -> Ontario, 20 MPa concrete without air GU 35 SL | H12: =IF(ISNUMBER(SEARCH("Baseline",F12)),CONCATENATE(B12,", ",F12),"") | I12: 178.77 | J12: https://www.rmcao.org/wp-content/uploads/2023/04/CRMCA-EPD-Ontario-20220803.pdf | K12: Table 6 | M12: Ontario,40,No | N12: =VLOOKUP(M12,$E$8:$H$1500,4,FALSE) -> Ontario, Baseline 40 MPa concrete without air GU 15 SL | O12: =VLOOKUP(N12,$H$8:$I$1500,2,FALSE) -> 326.25
B13: Ontario | C13: 20 | D13: No | E13: =CONCATENATE(B13,",",C13,",",D13) -> Ontario,20,No | F13: 20 MPa concrete without air GU 50 SL | G13: =CONCATENATE(B13,", ",F13) -> Ontario, 20 MPa concrete without air GU 50 SL | H13: =IF(ISNUMBER(SEARCH("Baseline",F13)),CONCATENATE(B13,", ",F13),"") | I13: 153.85 | J13: https://www.rmcao.org/wp-content/uploads/2023/04/CRMCA-EPD-Ontario-20220803.pdf | K13: Table 6 | M13: Ontario,45,No | N13: =VLOOKUP(M13,$E$8:$H$1500,4,FALSE) -> Ontario, Baseline 45 MPa concrete without air GU 15 SL | O13: =VLOOKUP(N13,$H$8:$I$1500,2,FALSE) -> 349.88
B14: Ontario | C14: 20 | D14: No | E14: =CONCATENATE(B14,",",C14,",",D14) -> Ontario,20,No | F14: 20 MPa concrete without air GUL | G14: =CONCATENATE(B14,", ",F14) -> Ontario, 20 MPa concrete without air GUL | H14: =IF(ISNUMBER(SEARCH("Baseline",F14)),CONCATENATE(B14,", ",F14),"") | I14: 221.84 | J14: https://www.rmcao.org/wp-content/uploads/2023/04/CRMCA-EPD-Ontario-20220803.pdf | K14: Table 6 | M14: Ontario,50,No | N14: =VLOOKUP(M14,$E$8:$H$1500,4,FALSE) -> Ontario, Baseline 50 MPa concrete without air GUbSF 20 SL | O14: =VLOOKUP(N14,$H$8:$I$1500,2,FALSE) -> 335.76
B15: Ontario | C15: 20 | D15: No | E15: =CONCATENATE(B15,",",C15,",",D15) -> Ontario,20,No | F15: 20 MPa concrete without air GUL 15 SL | G15: =CONCATENATE(B15,", ",F15) -> Ontario, 20 MPa concrete without air GUL 15 SL | H15: =IF(ISNUMBER(SEARCH("Baseline",F15)),CONCATENATE(B15,", ",F15),"") | I15: 199.19 | J15: https://www.rmcao.org/wp-content/uploads/2023/04/CRMCA-EPD-Ontario-20220803.pdf | K15: Table 6 | M15: Ontario,55,No | N15: =VLOOKUP(M15,$E$8:$H$1500,4,FALSE) -> Ontario, Baseline 55 MPa concrete without air GUbSF 20 SL | O15: =VLOOKUP(N15,$H$8:$I$1500,2,FALSE) -> 354.67
B16: Ontario | C16: 20 | D16: No | E16: =CONCATENATE(B16,",",C16,",",D16) -> Ontario,20,No | F16: 20 MPa concrete without air GUL 25 SL | G16: =CONCATENATE(B16,", ",F16) -> Ontario, 20 MPa concrete without air GUL 25 SL | H16: =IF(ISNUMBER(SEARCH("Baseline",F16)),CONCATENATE(B16,", ",F16),"") | I16: 184.08 | J16: https://www.rmcao.org/wp-content/uploads/2023/04/CRMCA-EPD-Ontario-20220803.pdf | K16: Table 6 | M16: Ontario,60,No | N16: =VLOOKUP(M16,$E$8:$H$1500,4,FALSE) -> Ontario, Baseline 60 MPa concrete without air GUbSF 20 SL | O16: =VLOOKUP(N16,$H$8:$I$1500,2,FALSE) -> 361.25
B17: Ontario | C17: 20 | D17: No | E17: =CONCATENATE(B17,",",C17,",",D17) -> Ontario,20,No | F17: 20 MPa concrete without air GUL 35 SL | G17: =CONCATENATE(B17,", ",F17) -> Ontario, 20 MPa concrete without air GUL 35 SL | H17: =IF(ISNUMBER(SEARCH("Baseline",F17)),CONCATENATE(B17,", ",F17),"") | I17: 168.98 | J17: https://www.rmcao.org/wp-content/uploads/2023/04/CRMCA-EPD-Ontario-20220803.pdf | K17: Table 6 | M17: Ontario,70,No | N17: =VLOOKUP(M17,$E$8:$H$1500,4,FALSE) -> Ontario, Baseline 70 MPa concrete without air GUbSF 25 SL | O17: =VLOOKUP(N17,$H$8:$I$1500,2,FALSE) -> 354.42
B18: Ontario | C18: 20 | D18: No | E18: =CONCATENATE(B18,",",C18,",",D18) -> Ontario,20,No | F18: 20 MPa concrete without air GUL 50 SL | G18: =CONCATENATE(B18,", ",F18) -> Ontario, 20 MPa concrete without air GUL 50 SL | H18: =IF(ISNUMBER(SEARCH("Baseline",F18)),CONCATENATE(B18,", ",F18),"") | I18: 146.32 | J18: https://www.rmcao.org/wp-content/uploads/2023/04/CRMCA-EPD-Ontario-20220803.pdf | K18: Table 6 | M18: Ontario,20,Yes | N18: =VLOOKUP(M18,$E$8:$H$1500,4,FALSE) -> Ontario, Baseline 20 MPa concrete with air & 0.70 w/cm GU 10 SL | O18: =VLOOKUP(N18,$H$8:$I$1500,2,FALSE) -> 227.16
B19: Ontario | C19: 25 | D19: No | E19: =CONCATENATE(B19,",",C19,",",D19) -> Ontario,25,No | F19: Baseline 25 MPa concrete without air GU 10 SL | G19: =CONCATENATE(B19,", ",F19) -> Ontario, Baseline 25 MPa concrete without air GU 10 SL | H19: =IF(ISNUMBER(SEARCH("Baseline",F19)),CONCATENATE(B19,", ",F19),"") -> Ontario, Baseline 25 MPa concrete without air GU 10 SL | I19: 254.05 | J19: https://www.rmcao.org/wp-content/uploads/2023/04/CRMCA-EPD-Ontario-20220803.pdf | K19: Table 7 | M19: Ontario,25,Yes | N19: =VLOOKUP(M19,$E$8:$H$1500,4,FALSE) -> Ontario, Baseline 25 MPa concrete with air & 0.55 w/cm (F-2) GU 10 SL | O19: =VLOOKUP(N19,$H$8:$I$1500,2,FALSE) -> 260.64
B20: Ontario | C20: 25 | D20: No | E20: =CONCATENATE(B20,",",C20,",",D20) -> Ontario,25,No | F20: 25 MPa concrete without air GU | G20: =CONCATENATE(B20,", ",F20) -> Ontario, 25 MPa concrete without air GU | H20: =IF(ISNUMBER(SEARCH("Baseline",F20)),CONCATENATE(B20,", ",F20),"") | I20: 273.67 | J20: https://www.rmcao.org/wp-content/uploads/2023/04/CRMCA-EPD-Ontario-20220803.pdf | K20: Table 7 | M20: Ontario,30,Yes | N20: =VLOOKUP(M20,$E$8:$H$1500,4,FALSE) -> Ontario, Baseline 30 MPa concrete with air & 0.50 w/cm (F-1) GU 10 SL | O20: =VLOOKUP(N20,$H$8:$I$1500,2,FALSE) -> 292.72
... B125: Ontario | C125: 25 | D125: Yes | E125: =CONCATENATE(B125,",",C125,",",D125) -> Ontario,25,Yes | F125: 25 MPa concrete with air & 0.55 w/cm (F-2) GUL 25 SL | G125: =CONCATENATE(B125,", ",F125) -> Ontario, 25 MPa concrete with air & 0.55 w/cm (F-2) GUL 25 SL | H125: =IF(ISNUMBER(SEARCH("Baseline",F125)),CONCATENATE(B125,", ",F125),"") | I125: 216.5 | J125: https://www.rmcao.org/wp-content/uploads/2023/04/CRMCA-EPD-Ontario-20220803.pdf | K125: Table 18 | M125: Saskatchewan,LCA Results Flowable Fill,NA | N125: =VLOOKUP(M125,$E$8:$H$1500,4,FALSE) -> Saskatchewan, Baseline Flowable Fill (MHI U-Fill) GU 25 FA | O125: =VLOOKUP(N125,$H$8:$I$1500,2,FALSE) -> 156.82
B126: Ontario | C126: 25 | D126: Yes | E126: =CONCATENATE(B126,",",C126,",",D126) -> Ontario,25,Yes | F126: 25 MPa concrete with air & 0.55 w/cm (F-2) GUL 35 SL | G126: =CONCATENATE(B126,", ",F126) -> Ontario, 25 MPa concrete with air & 0.55 w/cm (F-2) GUL 35 SL | H126: =IF(ISNUMBER(SEARCH("Baseline",F126)),CONCATENATE(B126,", ",F126),"") | I126: 198.08 | J126: https://www.rmcao.org/wp-content/uploads/2023/04/CRMCA-EPD-Ontario-20220803.pdf | K126: Table 18 | M126: ,, | O126: =VLOOKUP(N126,$H$8:$I$1500,2,FALSE) -> #N/A
B127: Ontario | C127: 25 | D127: Yes | E127: =CONCATENATE(B127,",",C127,",",D127) -> Ontario,25,Yes | F127: 25 MPa concrete with air & 0.55 w/cm (F-2) GUL 50 SL | G127: =CONCATENATE(B127,", ",F127) -> Ontario, 25 MPa concrete with air & 0.55 w/cm (F-2) GUL 50 SL | H127: =IF(ISNUMBER(SEARCH("Baseline",F127)),CONCATENATE(B127,", ",F127),"") | I127: 170.46 | J127: https://www.rmcao.org/wp-content/uploads/2023/04/CRMCA-EPD-Ontario-20220803.pdf | K127: Table 18
B128: Ontario | C128: 30 | D128: Yes | E128: =CONCATENATE(B128,",",C128,",",D128) -> Ontario,30,Yes | F128: Baseline 30 MPa concrete with air & 0.50 w/cm (F-1) GU 10 SL | G128: =CONCATENATE(B128,", ",F128) -> Ontario, Baseline 30 MPa concrete with air & 0.50 w/cm (F-1) GU 10 SL | H128: =IF(ISNUMBER(SEARCH("Baseline",F128)),CONCATENATE(B128,", ",F128),"") -> Ontario, Baseline 30 MPa concrete with air & 0.50 w/cm (F-1) GU 10 SL | I128: 292.72 | J128: https://www.rmcao.org/wp-content/uploads/2023/04/CRMCA-EPD-Ontario-20220803.pdf | K128: Table 19
B129: Ontario | C129: 30 | D129: Yes | E129: =CONCATENATE(B129,",",C129,",",D129) -> Ontario,30,Yes | F129: 30 MPa concrete with air & 0.50 w/cm (F-1) GU | G129: =CONCATENATE(B129,", ",F129) -> Ontario, 30 MPa concrete with air & 0.50 w/cm (F-1) GU | H129: =IF(ISNUMBER(SEARCH("Baseline",F129)),CONCATENATE(B129,", ",F129),"") | I129: 329.02 | J129: https://www.rmcao.org/wp-content/uploads/2023/04/CRMCA-EPD-Ontario-20220803.pdf | K129: Table 19
B130: Ontario | C130: 30 | D130: Yes | E130: =CONCATENATE(B130,",",C130,",",D130) -> Ontario,30,Yes | F130: 30 MPa concrete with air & 0.50 w/cm (F-1) GU 15 SL | G130: =CONCATENATE(B130,", ",F130) -> Ontario, 30 MPa concrete with air & 0.50 w/cm (F-1) GU 15 SL | H130: =IF(ISNUMBER(SEARCH("Baseline",F130)),CONCATENATE(B130,", ",F130),"") | I130: 292.72 | J130: https://www.rmcao.org/wp-content/uploads/2023/04/CRMCA-EPD-Ontario-20220803.pdf | K130: Table 19
B131: Ontario | C131: 30 | D131: Yes | E131: =CONCATENATE(B131,",",C131,",",D131) -> Ontario,30,Yes | F131: 30 MPa concrete with air & 0.50 w/cm (F-1) GU 25 SL | G131: =CONCATENATE(B131,", ",F131) -> Ontario, 30 MPa concrete with air & 0.50 w/cm (F-1) GU 25 SL | H131: =IF(ISNUMBER(SEARCH("Baseline",F131)),CONCATENATE(B131,", ",F131),"") | I131: 268.52 | J131: https://www.rmcao.org/wp-content/uploads/2023/04/CRMCA-EPD-Ontario-20220803.pdf | K131: Table 19
B132: Ontario | C132: 30 | D132: Yes | E132: =CONCATENATE(B132,",",C132,",",D132) -> Ontario,30,Yes | F132: 30 MPa concrete with air & 0.50 w/cm (F-1) GU 35 SL | G132: =CONCATENATE(B132,", ",F132) -> Ontario, 30 MPa concrete with air & 0.50 w/cm (F-1) GU 35 SL | H132: =IF(ISNUMBER(SEARCH("Baseline",F132)),CONCATENATE(B132,", ",F132),"") | I132: 244.32 | J132: https://www.rmcao.org/wp-content/uploads/2023/04/CRMCA-EPD-Ontario-20220803.pdf | K132: Table 19
B133: Ontario | C133: 30 | D133: Yes | E133: =CONCATENATE(B133,",",C133,",",D133) -> Ontario,30,Yes | F133: 30 MPa concrete with air & 0.50 w/cm (F-1) GU 50 SL | G133: =CONCATENATE(B133,", ",F133) -> Ontario, 30 MPa concrete with air & 0.50 w/cm (F-1) GU 50 SL | H133: =IF(ISNUMBER(SEARCH("Baseline",F133)),CONCATENATE(B133,", ",F133),"") | I133: 208.02 | J133: https://www.rmcao.org/wp-content/uploads/2023/04/CRMCA-EPD-Ontario-20220803.pdf | K133: Table 19
B134: Ontario | C134: 30 | D134: Yes | E134: =CONCATENATE(B134,",",C134,",",D134) -> Ontario,30,Yes | F134: 30 MPa concrete with air & 0.50 w/cm (F-1) GUL | G134: =CONCATENATE(B134,", ",F134) -> Ontario, 30 MPa concrete with air & 0.50 w/cm (F-1) GUL | H134: =IF(ISNUMBER(SEARCH("Baseline",F134)),CONCATENATE(B134,", ",F134),"") | I134: 307.08 | J134: https://www.rmcao.org/wp-content/uploads/2023/04/CRMCA-EPD-Ontario-20220803.pdf | K134: Table 19
B135: Ontario | C135: 30 | D135: Yes | E135: =CONCATENATE(B135,",",C135,",",D135) -> Ontario,30,Yes | F135: 30 MPa concrete with air & 0.50 w/cm (F-1) GUL 15 SL | G135: =CONCATENATE(B135,", ",F135) -> Ontario, 30 MPa concrete with air & 0.50 w/cm (F-1) GUL 15 SL | H135: =IF(ISNUMBER(SEARCH("Baseline",F135)),CONCATENATE(B135,", ",F135),"") | I135: 274.07 | J135: https://www.rmcao.org/wp-content/uploads/2023/04/CRMCA-EPD-Ontario-20220803.pdf | K135: Table 19
B136: Ontario | C136: 30 | D136: Yes | E136: =CONCATENATE(B136,",",C136,",",D136) -> Ontario,30,Yes | F136: 30 MPa concrete with air & 0.50 w/cm (F-1) GUL 25 SL | G136: =CONCATENATE(B136,", ",F136) -> Ontario, 30 MPa concrete with air & 0.50 w/cm (F-1) GUL 25 SL | H136: =IF(ISNUMBER(SEARCH("Baseline",F136)),CONCATENATE(B136,", ",F136),"") | I136: 252.07 | J136: https://www.rmcao.org/wp-content/uploads/2023/04/CRMCA-EPD-Ontario-20220803.pdf | K136: Table 19
B137: Ontario | C137: 30 | D137: Yes | E137: =CONCATENATE(B137,",",C137,",",D137) -> Ontario,30,Yes | F137: 30 MPa concrete with air & 0.50 w/cm (F-1) GUL 35 SL | G137: =CONCATENATE(B137,", ",F137) -> Ontario, 30 MPa concrete with air & 0.50 w/cm (F-1) GUL 35 SL | H137: =IF(ISNUMBER(SEARCH("Baseline",F137)),CONCATENATE(B137,", ",F137),"") | I137: 230.06 | J137: https://www.rmcao.org/wp-content/uploads/2023/04/CRMCA-EPD-Ontario-20220803.pdf | K137: Table 19
B138: Ontario | C138: 30 | D138: Yes | E138: =CONCATENATE(B138,",",C138,",",D138) -> Ontario,30,Yes | F138: 30 MPa concrete with air & 0.50 w/cm (F-1) GUL 50 SL | G138: =CONCATENATE(B138,", ",F138) -> Ontario, 30 MPa concrete with air & 0.50 w/cm (F-1) GUL 50 SL | H138: =IF(ISNUMBER(SEARCH("Baseline",F138)),CONCATENATE(B138,", ",F138),"") | I138: 197.05 | J138: https://www.rmcao.org/wp-content/uploads/2023/04/CRMCA-EPD-Ontario-20220803.pdf | K138: Table 19
... B391: Quebec | C391: 20 | D391: Yes | E391: =CONCATENATE(B391,",",C391,",",D391) -> Quebec,20,Yes | F391: 20 MPa concrete with air GU | G391: =CONCATENATE(B391,", ",F391) -> Quebec, 20 MPa concrete with air GU | H391: =IF(ISNUMBER(SEARCH("Baseline",F391)),CONCATENATE(B391,", ",F391),"") | I391: 286.77 | J391: https://pcr-epd.s3.us-east-2.amazonaws.com/811.CRMCA_EPD_ABQ.pdf | K391: Table 5
B392: Quebec | C392: 20 | D392: Yes | E392: =CONCATENATE(B392,",",C392,",",D392) -> Quebec,20,Yes | F392: 20 MPa concrete with air GU 10 SL | G392: =CONCATENATE(B392,", ",F393) -> Quebec, 20 MPa concrete with air GU 20 SL | H392: =IF(ISNUMBER(SEARCH("Baseline",F392)),CONCATENATE(B392,", ",F392),"") | I392: 266.54 | J392: https://pcr-epd.s3.us-east-2.amazonaws.com/811.CRMCA_EPD_ABQ.pdf | K392: Table 5
B393: Quebec | C393: 20 | D393: Yes | E393: =CONCATENATE(B393,",",C393,",",D393) -> Quebec,20,Yes | F393: 20 MPa concrete with air GU 20 SL | G393: =CONCATENATE(B393,", ",F394) -> Quebec, 20 MPa concrete with air GU 30 SL | H393: =IF(ISNUMBER(SEARCH("Baseline",F393)),CONCATENATE(B393,", ",F393),"") | I393: 246.3 | J393: https://pcr-epd.s3.us-east-2.amazonaws.com/811.CRMCA_EPD_ABQ.pdf | K393: Table 5
B394: Quebec | C394: 20 | D394: Yes | E394: =CONCATENATE(B394,",",C394,",",D394) -> Quebec,20,Yes | F394: 20 MPa concrete with air GU 30 SL | G394: =CONCATENATE(B394,", ",F395) -> Quebec, 20 MPa concrete with air GU 10 FA | H394: =IF(ISNUMBER(SEARCH("Baseline",F394)),CONCATENATE(B394,", ",F394),"") | I394: 226.1 | J394: https://pcr-epd.s3.us-east-2.amazonaws.com/811.CRMCA_EPD_ABQ.pdf | K394: Table 5
B395: Quebec | C395: 20 | D395: Yes | E395: =CONCATENATE(B395,",",C395,",",D395) -> Quebec,20,Yes | F395: 20 MPa concrete with air GU 10 FA | G395: =CONCATENATE(B395,", ",F398) -> Quebec, 20 MPa concrete with air GUL | H395: =IF(ISNUMBER(SEARCH("Baseline",F395)),CONCATENATE(B395,", ",F395),"") | I395: 262.43 | J395: https://pcr-epd.s3.us-east-2.amazonaws.com/811.CRMCA_EPD_ABQ.pdf | K395: Table 5
B396: Quebec | C396: 20 | D396: Yes | E396: =CONCATENATE(B396,",",C396,",",D396) -> Quebec,20,Yes | F396: 20 MPa concrete with air GU 20 FA | G396: =CONCATENATE(B396,", ",F399) -> Quebec, 20 MPa concrete with air GUL 10 SL | H396: =IF(ISNUMBER(SEARCH("Baseline",F396)),CONCATENATE(B396,", ",F396),"") | I396: 238.09 | J396: https://pcr-epd.s3.us-east-2.amazonaws.com/811.CRMCA_EPD_ABQ.pdf | K396: Table 5
B397: Quebec | C397: 20 | D397: Yes | E397: =CONCATENATE(B397,",",C397,",",D397) -> Quebec,20,Yes | F397: 20 MPa concrete with air GU 30 FA | G397: =CONCATENATE(B397,", ",F400) -> Quebec, 20 MPa concrete with air GUL 20 SL | H397: =IF(ISNUMBER(SEARCH("Baseline",F397)),CONCATENATE(B397,", ",F397),"") | I397: 213.75 | J397: https://pcr-epd.s3.us-east-2.amazonaws.com/811.CRMCA_EPD_ABQ.pdf | K397: Table 5
B398: Quebec | C398: 20 | D398: Yes | E398: =CONCATENATE(B398,",",C398,",",D398) -> Quebec,20,Yes | F398: 20 MPa concrete with air GUL | G398: =CONCATENATE(B398,", ",F401) -> Quebec, 20 MPa concrete with air GUL 30 SL | H398: =IF(ISNUMBER(SEARCH("Baseline",F398)),CONCATENATE(B398,", ",F398),"") | I398: 266.39 | J398: https://pcr-epd.s3.us-east-2.amazonaws.com/811.CRMCA_EPD_ABQ.pdf | K398: Table 5
B399: Quebec | C399: 20 | D399: Yes | E399: =CONCATENATE(B399,",",C399,",",D399) -> Quebec,20,Yes | F399: 20 MPa concrete with air GUL 10 SL | G399: =CONCATENATE(B399,", ",F402) -> Quebec, 20 MPa concrete with air GUL 10 FA | H399: =IF(ISNUMBER(SEARCH("Baseline",F399)),CONCATENATE(B399,", ",F399),"") | I399: 248.21 | J399: https://pcr-epd.s3.us-east-2.amazonaws.com/811.CRMCA_EPD_ABQ.pdf | K399: Table 5
B400: Quebec | C400: 20 | D400: Yes | E400: =CONCATENATE(B400,",",C400,",",D400) -> Quebec,20,Yes | F400: 20 MPa concrete with air GUL 20 SL | G400: =CONCATENATE(B400,", ",#REF!) -> #REF! | H400: =IF(ISNUMBER(SEARCH("Baseline",F400)),CONCATENATE(B400,", ",F400),"") | I400: 230.022 | J400: https://pcr-epd.s3.us-east-2.amazonaws.com/811.CRMCA_EPD_ABQ.pdf | K400: Table 5
B401: Quebec | C401: 20 | D401: Yes | E401: =CONCATENATE(B401,",",C401,",",D401) -> Quebec,20,Yes | F401: 20 MPa concrete with air GUL 30 SL | G401: =CONCATENATE(B401,", ",#REF!) -> #REF! | H401: =IF(ISNUMBER(SEARCH("Baseline",F401)),CONCATENATE(B401,", ",F401),"") | I401: 211.85 | J401: https://pcr-epd.s3.us-east-2.amazonaws.com/811.CRMCA_EPD_ABQ.pdf | K401: Table 5
B402: Quebec | C402: 20 | D402: Yes | E402: =CONCATENATE(B402,",",C402,",",D402) -> Quebec,20,Yes | F402: 20 MPa concrete with air GUL 10 FA | G402: =CONCATENATE(B402,", ",#REF!) -> #REF! | H402: =IF(ISNUMBER(SEARCH("Baseline",F402)),CONCATENATE(B402,", ",F402),"") | I402: 244.09 | J402: https://pcr-epd.s3.us-east-2.amazonaws.com/811.CRMCA_EPD_ABQ.pdf | K402: Table 5
B403: Quebec | C403: 20 | D403: Yes | E403: =CONCATENATE(B403,",",C403,",",D403) -> Quebec,20,Yes | F403: 20 MPa concrete with air GUL 20 FA | G403: =CONCATENATE(B403,", ",#REF!) -> #REF! | H403: =IF(ISNUMBER(SEARCH("Baseline",F403)),CONCATENATE(B403,", ",F403),"") | I403: 221.8 | J403: https://pcr-epd.s3.us-east-2.amazonaws.com/811.CRMCA_EPD_ABQ.pdf | K403: Table 5
B404: Quebec | C404: 20 | D404: Yes | E404: =CONCATENATE(B404,",",C404,",",D404) -> Quebec,20,Yes | F404: 20 MPa concrete with air GUL 30 FA | G404: =CONCATENATE(B404,", ",F404) -> Quebec, 20 MPa concrete with air GUL 30 FA | H404: =IF(ISNUMBER(SEARCH("Baseline",F404)),CONCATENATE(B404,", ",F404),"") | I404: 199.5 | J404: https://pcr-epd.s3.us-east-2.amazonaws.com/811.CRMCA_EPD_ABQ.pdf | K404: Table 5
B405: Quebec | C405: 20 | D405: No | E405: =CONCATENATE(B405,",",C405,",",D405) -> Quebec,20,No | F405: Baseline 20 MPa concrete without air (N) | G405: =CONCATENATE(B405,", ",F405) -> Quebec, Baseline 20 MPa concrete without air (N) | H405: =IF(ISNUMBER(SEARCH("Baseline",F405)),CONCATENATE(B405,", ",F405),"") -> Quebec, Baseline 20 MPa concrete without air (N) | I405: 263.8 | J405: https://pcr-epd.s3.us-east-2.amazonaws.com/811.CRMCA_EPD_ABQ.pdf | K405: Table 6
B406: Quebec | C406: 20 | D406: No | E406: =CONCATENATE(B406,",",C406,",",D406) -> Quebec,20,No | F406: 20 MPa concrete without air (N) GU | G406: =CONCATENATE(B406,", ",F406) -> Quebec, 20 MPa concrete without air (N) GU | H406: =IF(ISNUMBER(SEARCH("Baseline",F406)),CONCATENATE(B406,", ",F406),"") | I406: 272.17 | J406: https://pcr-epd.s3.us-east-2.amazonaws.com/811.CRMCA_EPD_ABQ.pdf | K406: Table 6
B407: Quebec | C407: 20 | D407: No | E407: =CONCATENATE(B407,",",C407,",",D407) -> Quebec,20,No | F407: 20 MPa concrete without air (N) GU 10 SL | G407: =CONCATENATE(B407,", ",F407) -> Quebec, 20 MPa concrete without air (N) GU 10 SL | H407: =IF(ISNUMBER(SEARCH("Baseline",F407)),CONCATENATE(B407,", ",F407),"") | I407: 252.48 | J407: https://pcr-epd.s3.us-east-2.amazonaws.com/811.CRMCA_EPD_ABQ.pdf | K407: Table 6
B408: Quebec | C408: 20 | D408: No | E408: =CONCATENATE(B408,",",C408,",",D408) -> Quebec,20,No | F408: 20 MPa concrete without air (N) GU 20 SL | G408: =CONCATENATE(B408,", ",F408) -> Quebec, 20 MPa concrete without air (N) GU 20 SL | H408: =IF(ISNUMBER(SEARCH("Baseline",F408)),CONCATENATE(B408,", ",F408),"") | I408: 233.89 | J408: https://pcr-epd.s3.us-east-2.amazonaws.com/811.CRMCA_EPD_ABQ.pdf | K408: Table 6
B409: Quebec | C409: 20 | D409: No | E409: =CONCATENATE(B409,",",C409,",",D409) -> Quebec,20,No | F409: 20 MPa concrete without air (N) GU 30 SL | G409: =CONCATENATE(B409,", ",F409) -> Quebec, 20 MPa concrete without air (N) GU 30 SL | H409: =IF(ISNUMBER(SEARCH("Baseline",F409)),CONCATENATE(B409,", ",F409),"") | I409: 215.11 | J409: https://pcr-epd.s3.us-east-2.amazonaws.com/811.CRMCA_EPD_ABQ.pdf | K409: Table 6
B410: Quebec | C410: 20 | D410: No | E410: =CONCATENATE(B410,",",C410,",",D410) -> Quebec,20,No | F410: 20 MPa concrete without air (N) GU 10 FA | G410: =CONCATENATE(B410,", ",F410) -> Quebec, 20 MPa concrete without air (N) GU 10 FA | H410: =IF(ISNUMBER(SEARCH("Baseline",F410)),CONCATENATE(B410,", ",F410),"") | I410: 248.65 | J410: https://pcr-epd.s3.us-east-2.amazonaws.com/811.CRMCA_EPD_ABQ.pdf | K410: Table 6
B411: Quebec | C411: 20 | D411: No | E411: =CONCATENATE(B411,",",C411,",",D411) -> Quebec,20,No | F411: 20 MPa concrete without air (N) GU 20 FA | G411: =CONCATENATE(B411,", ",F411) -> Quebec, 20 MPa concrete without air (N) GU 20 FA | H411: =IF(ISNUMBER(SEARCH("Baseline",F411)),CONCATENATE(B411,", ",F411),"") | I411: 226.1 | J411: https://pcr-epd.s3.us-east-2.amazonaws.com/811.CRMCA_EPD_ABQ.pdf | K411: Table 6
B412: Quebec | C412: 20 | D412: No | E412: =CONCATENATE(B412,",",C412,",",D412) -> Quebec,20,No | F412: 20 MPa concrete without air (N) GU 30 FA | G412: =CONCATENATE(B412,", ",F412) -> Quebec, 20 MPa concrete without air (N) GU 30 FA | H412: =IF(ISNUMBER(SEARCH("Baseline",F412)),CONCATENATE(B412,", ",F412),"") | I412: 203.5 | J412: https://pcr-epd.s3.us-east-2.amazonaws.com/811.CRMCA_EPD_ABQ.pdf | K412: Table 6
B413: Quebec | C413: 20 | D413: No | E413: =CONCATENATE(B413,",",C413,",",D413) -> Quebec,20,No | F413: 20 MPa concrete without air (N) GUL | G413: =CONCATENATE(B413,", ",F413) -> Quebec, 20 MPa concrete without air (N) GUL | H413: =IF(ISNUMBER(SEARCH("Baseline",F413)),CONCATENATE(B413,", ",F413),"") | I413: 252.96 | J413: https://pcr-epd.s3.us-east-2.amazonaws.com/811.CRMCA_EPD_ABQ.pdf | K413: Table 6
B414: Quebec | C414: 20 | D414: No | E414: =CONCATENATE(B414,",",C414,",",D414) -> Quebec,20,No | F414: 20 MPa concrete without air (N) GUL 10 SL | G414: =CONCATENATE(B414,", ",F414) -> Quebec, 20 MPa concrete without air (N) GUL 10 SL | H414: =IF(ISNUMBER(SEARCH("Baseline",F414)),CONCATENATE(B414,", ",F414),"") | I414: 235.24 | J414: https://pcr-epd.s3.us-east-2.amazonaws.com/811.CRMCA_EPD_ABQ.pdf | K414: Table 6
B415: Quebec | C415: 20 | D415: No | E415: =CONCATENATE(B415,",",C415,",",D415) -> Quebec,20,No | F415: 20 MPa concrete without air (N) GUL 20 SL | G415: =CONCATENATE(B415,", ",F415) -> Quebec, 20 MPa concrete without air (N) GUL 20 SL | H415: =IF(ISNUMBER(SEARCH("Baseline",F415)),CONCATENATE(B415,", ",F415),"") | I415: 218.56 | J415: https://pcr-epd.s3.us-east-2.amazonaws.com/811.CRMCA_EPD_ABQ.pdf | K415: Table 6
... B1418: Saskatchewan | C1418: 35 | D1418: Yes | E1418: =CONCATENATE(B1418,",",C1418,",",D1418) -> Saskatchewan,35,Yes | F1418: 35 MPa concrete with air & 0.40 w/cm (C-1) SCC GUL 40 FA | G1418: =CONCATENATE(B1418,", ",F1418) -> Saskatchewan, 35 MPa concrete with air & 0.40 w/cm (C-1) SCC GUL 40 FA | H1418: =IF(ISNUMBER(SEARCH("Baseline",F1418)),CONCATENATE(B1418,", ",F1418),"") | I1418: 315.97 | J1418: CRMCA EPD Saskatchewan 20220913.pdf (concretesask.org) | K1418: Table 19
B1419: Saskatchewan | C1419: LCA Results Sask | D1419: NA | E1419: =CONCATENATE(B1419,",",C1419,",",D1419) -> Saskatchewan,LCA Results Sask,NA | F1419: Baseline Sask C2 GU 15 FA | G1419: =CONCATENATE(B1419,", ",F1419) -> Saskatchewan, Baseline Sask C2 GU 15 FA | H1419: =IF(ISNUMBER(SEARCH("Baseline",F1419)),CONCATENATE(B1419,", ",F1419),"") -> Saskatchewan, Baseline Sask C2 GU 15 FA | I1419: 379.28 | J1419: CRMCA EPD Saskatchewan 20220913.pdf (concretesask.org) | K1419: Table 20
B1420: Saskatchewan | C1420: LCA Results Sask | D1420: NA | E1420: =CONCATENATE(B1420,",",C1420,",",D1420) -> Saskatchewan,LCA Results Sask,NA | F1420: Sask C2 GU | G1420: =CONCATENATE(B1420,", ",F1420) -> Saskatchewan, Sask C2 GU | H1420: =IF(ISNUMBER(SEARCH("Baseline",F1420)),CONCATENATE(B1420,", ",F1420),"") | I1420: 432.36 | J1420: CRMCA EPD Saskatchewan 20220913.pdf (concretesask.org) | K1420: Table 20
B1421: Saskatchewan | C1421: LCA Results Sask | D1421: NA | E1421: =CONCATENATE(B1421,",",C1421,",",D1421) -> Saskatchewan,LCA Results Sask,NA | F1421: Sask C2 GU 10 FA | G1421: =CONCATENATE(B1421,", ",F1421) -> Saskatchewan, Sask C2 GU 10 FA | H1421: =IF(ISNUMBER(SEARCH("Baseline",F1421)),CONCATENATE(B1421,", ",F1421),"") | I1421: 396.97 | J1421: CRMCA EPD Saskatchewan 20220913.pdf (concretesask.org) | K1421: Table 20
B1422: Saskatchewan | C1422: LCA Results Sask | D1422: NA | E1422: =CONCATENATE(B1422,",",C1422,",",D1422) -> Saskatchewan,LCA Results Sask,NA | F1422: Sask C2 GU 20 FA | G1422: =CONCATENATE(B1422,", ",F1422) -> Saskatchewan, Sask C2 GU 20 FA | H1422: =IF(ISNUMBER(SEARCH("Baseline",F1422)),CONCATENATE(B1422,", ",F1422),"") | I1422: 361.59 | J1422: CRMCA EPD Saskatchewan 20220913.pdf (concretesask.org) | K1422: Table 20
B1423: Saskatchewan | C1423: LCA Results Sask | D1423: NA | E1423: =CONCATENATE(B1423,",",C1423,",",D1423) -> Saskatchewan,LCA Results Sask,NA | F1423: Sask C2 GU 30 FA | G1423: =CONCATENATE(B1423,", ",F1423) -> Saskatchewan, Sask C2 GU 30 FA | H1423: =IF(ISNUMBER(SEARCH("Baseline",F1423)),CONCATENATE(B1423,", ",F1423),"") | I1423: 326.2 | J1423: CRMCA EPD Saskatchewan 20220913.pdf (concretesask.org) | K1423: Table 20
B1424: Saskatchewan | C1424: LCA Results Sask | D1424: NA | E1424: =CONCATENATE(B1424,",",C1424,",",D1424) -> Saskatchewan,LCA Results Sask,NA | F1424: Sask C2 GU 40 FA | G1424: =CONCATENATE(B1424,", ",F1424) -> Saskatchewan, Sask C2 GU 40 FA | H1424: =IF(ISNUMBER(SEARCH("Baseline",F1424)),CONCATENATE(B1424,", ",F1424),"") | I1424: 290.81 | J1424: CRMCA EPD Saskatchewan 20220913.pdf (concretesask.org) | K1424: Table 20
B1425: Saskatchewan | C1425: LCA Results Sask | D1425: NA | E1425: =CONCATENATE(B1425,",",C1425,",",D1425) -> Saskatchewan,LCA Results Sask,NA | F1425: Sask C2 GUL | G1425: =CONCATENATE(B1425,", ",F1425) -> Saskatchewan, Sask C2 GUL | H1425: =IF(ISNUMBER(SEARCH("Baseline",F1425)),CONCATENATE(B1425,", ",F1425),"") | I1425: 393.27 | J1425: CRMCA EPD Saskatchewan 20220913.pdf (concretesask.org) | K1425: Table 20
B1426: Saskatchewan | C1426: LCA Results Sask | D1426: NA | E1426: =CONCATENATE(B1426,",",C1426,",",D1426) -> Saskatchewan,LCA Results Sask,NA | F1426: Sask C2 GUL 10 FA | G1426: =CONCATENATE(B1426,", ",F1426) -> Saskatchewan, Sask C2 GUL 10 FA | H1426: =IF(ISNUMBER(SEARCH("Baseline",F1426)),CONCATENATE(B1426,", ",F1426),"") | I1426: 361.79 | J1426: CRMCA EPD Saskatchewan 20220913.pdf (concretesask.org) | K1426: Table 20
B1427: Saskatchewan | C1427: LCA Results Sask | D1427: NA | E1427: =CONCATENATE(B1427,",",C1427,",",D1427) -> Saskatchewan,LCA Results Sask,NA | F1427: Sask C2 GUL 20 FA | G1427: =CONCATENATE(B1427,", ",F1427) -> Saskatchewan, Sask C2 GUL 20 FA | H1427: =IF(ISNUMBER(SEARCH("Baseline",F1427)),CONCATENATE(B1427,", ",F1427),"") | I1427: 330.31 | J1427: CRMCA EPD Saskatchewan 20220913.pdf (concretesask.org) | K1427: Table 20
B1428: Saskatchewan | C1428: LCA Results Sask | D1428: NA | E1428: =CONCATENATE(B1428,",",C1428,",",D1428) -> Saskatchewan,LCA Results Sask,NA | F1428: Sask C2 GUL 30 FA | G1428: =CONCATENATE(B1428,", ",F1428) -> Saskatchewan, Sask C2 GUL 30 FA | H1428: =IF(ISNUMBER(SEARCH("Baseline",F1428)),CONCATENATE(B1428,", ",F1428),"") | I1428: 298.83 | J1428: CRMCA EPD Saskatchewan 20220913.pdf (concretesask.org) | K1428: Table 20
B1429: Saskatchewan | C1429: LCA Results Sask | D1429: NA | E1429: =CONCATENATE(B1429,",",C1429,",",D1429) -> Saskatchewan,LCA Results Sask,NA | F1429: Sask C2 GUL 40 FA | G1429: =CONCATENATE(B1429,", ",F1429) -> Saskatchewan, Sask C2 GUL 40 FA | H1429: =IF(ISNUMBER(SEARCH("Baseline",F1429)),CONCATENATE(B1429,", ",F1429),"") | I1429: 267.35 | J1429: CRMCA EPD Saskatchewan 20220913.pdf (concretesask.org) | K1429: Table 20
B1430: Saskatchewan | C1430: LCA Results Flowable Fill | D1430: NA | E1430: =CONCATENATE(B1430,",",C1430,",",D1430) -> Saskatchewan,LCA Results Flowable Fill,NA | F1430: Baseline Flowable Fill (MHI U-Fill) GU 25 FA | G1430: =CONCATENATE(B1430,", ",F1430) -> Saskatchewan, Baseline Flowable Fill (MHI U-Fill) GU 25 FA | H1430: =IF(ISNUMBER(SEARCH("Baseline",F1430)),CONCATENATE(B1430,", ",F1430),"") -> Saskatchewan, Baseline Flowable Fill (MHI U-Fill) GU 25 FA | I1430: 156.82 | J1430: CRMCA EPD Saskatchewan 20220913.pdf (concretesask.org) | K1430: Table 21
... B1440: Saskatchewan | C1440: LCA Results Flowable Fill | D1440: NA | E1440: =CONCATENATE(B1440,",",C1440,",",D1440) -> Saskatchewan,LCA Results Flowable Fill,NA | F1440: Flowable Fill (MHI U-Fill) GUL 40 FA | G1440: =CONCATENATE(B1440,", ",F1440) -> Saskatchewan, Flowable Fill (MHI U-Fill) GUL 40 FA | H1440: =IF(ISNUMBER(SEARCH("Baseline",F1440)),CONCATENATE(B1440,", ",F1440),"") | I1440: 127.38 | J1440: CRMCA EPD Saskatchewan 20220913.pdf (concretesask.org) | K1440: Table 21
E1441: =CONCATENATE(B1441,",",C1441,",",D1441) -> ,, | G1441: =CONCATENATE(B1441,", ",F1441) -> ,
E1442: =CONCATENATE(B1442,",",C1442,",",D1442) -> ,, | G1442: =CONCATENATE(B1442,", ",F1442) -> ,
E1443: =CONCATENATE(B1443,",",C1443,",",D1443) -> ,, | G1443: =CONCATENATE(B1443,", ",F1443) -> ,
E1444: =CONCATENATE(B1444,",",C1444,",",D1444) -> ,, | G1444: =CONCATENATE(B1444,", ",F1444) -> ,
E1445: =CONCATENATE(B1445,",",C1445,",",D1445) -> ,, | G1445: =CONCATENATE(B1445,", ",F1445) -> ,
E1446: =CONCATENATE(B1446,",",C1446,",",D1446) -> ,, | G1446: =CONCATENATE(B1446,", ",F1446) -> ,
E1447: =CONCATENATE(B1447,",",C1447,",",D1447) -> ,, | G1447: =CONCATENATE(B1447,", ",F1447) -> ,
E1448: =CONCATENATE(B1448,",",C1448,",",D1448) -> ,, | G1448: =CONCATENATE(B1448,", ",F1448) -> ,
E1449: =CONCATENATE(B1449,",",C1449,",",D1449) -> ,, | G1449: =CONCATENATE(B1449,", ",F1449) -> ,
E1450: =CONCATENATE(B1450,",",C1450,",",D1450) -> ,, | G1450: =CONCATENATE(B1450,", ",F1450) -> ,
E1451: =CONCATENATE(B1451,",",C1451,",",D1451) -> ,, | G1451: =CONCATENATE(B1451,", ",F1451) -> ,
E1452: =CONCATENATE(B1452,",",C1452,",",D1452) -> ,, | G1452: =CONCATENATE(B1452,", ",F1452) -> ,
... E1500: =CONCATENATE(B1500,",",C1500,",",D1500) -> ,, | G1500: =CONCATENATE(B1500,", ",F1500) -> ,

Sheet CLF EPDs
B2: Sheet Title: | C2: Canada - Ready Mix Concrete - Summary Statistics of Product EPDs and CLF Baselines (kg CO2e/m3, A1-A3)
B3: Sheet Reference: | C3: 2023 CLF Material Baselines, Carbon Leadership Forum (p.30-36). https://carbonleadershipforum.org/clf-material-baselines-2023/
B4: Sheet Purpose: | C4: Check against CAC EPD database on baseline GWP by region, compressive strength, and air entrained
E6: Product EPDs | M6: CLF Baselines
B7: Region | C7: Compressive Strength at 28d | D7: Search Term | E7: Min | F7: 20th percentile | G7: 40th percentile | H7: 50th percentile | I7: 60th percentile | J7: 80th percentile | K7: Max | L7: Mean | M7: CLF Baseline (w AEAs) | N7: CLF Baseline (NO AEAs)
B8: (unit) | C8: (MPa) | E8: (kg CO2e/m3) | F8: (kg CO2e/m3) | G8: (kg CO2e/m3) | H8: (kg CO2e/m3) | I8: (kg CO2e/m3) | J8: (kg CO2e/m3) | K8: (kg CO2e/m3) | L8: (kg CO2e/m3) | M8: (kg CO2e/m3) | N8: (kg CO2e/m3)
B9: British_Columbia | C9: 15 | D9: =CONCATENATE(B9,"",C9) -> British_Columbia15 | E9: 120 | F9: 124 | G9: 127 | H9: 129 | I9: 131 | J9: 132 | K9: 133 | L9: 128 | N9: 179
B10: British_Columbia | C10: 20 | D10: =CONCATENATE(B10,"",C10) -> British_Columbia20 | E10: 133 | F10: 144 | G10: 161 | H10: 162 | I10: 169 | J10: 182 | K10: 231 | L10: 166 | M10: 194 | N10: 195
B11: British_Columbia | C11: 25 | D11: =CONCATENATE(B11,"",C11) -> British_Columbia25 | E11: 124 | F11: 153 | G11: 159 | H11: 164 | I11: 173 | J11: 192 | K11: 211 | L11: 167 | M11: 231 | N11: 220
B12: British_Columbia | C12: 30 | D12: =CONCATENATE(B12,"",C12) -> British_Columbia30 | E12: 155 | F12: 184 | G12: 191 | H12: 193 | I12: 198 | J12: 222 | K12: 342 | L12: 203 | M12: 270 | N12: 259
B13: British_Columbia | C13: 32 | D13: =CONCATENATE(B13,"",C13) -> British_Columbia32 | E13: 165 | F13: 191 | G13: 200 | H13: 210 | I13: 219 | J13: 238 | K13: 254 | L13: 212 | M13: 285 | N13: 272
B14: British_Columbia | C14: 35 | D14: =CONCATENATE(B14,"",C14) -> British_Columbia35 | E14: 171 | F14: 197 | G14: 208 | H14: 211 | I14: 243 | J14: 258 | K14: 245 | L14: 228 | M14: 311 | N14: 294
B15: British_Columbia | C15: 40 | D15: =CONCATENATE(B15,"",C15) -> British_Columbia40 | E15: 235 | F15: 240 | G15: 248 | H15: 249 | I15: 251 | J15: 278 | K15: 316 | L15: 258 | M15: 344 | N15: 329
B16: British_Columbia | C16: 45 | D16: =CONCATENATE(B16,"",C16) -> British_Columbia45 | E16: 213 | F16: 216 | G16: 246 | H16: 259 | I16: 263 | J16: 275 | K16: 390 | L16: 256 | M16: 356 | N16: 335
B17: British_Columbia | C17: 50 | D17: =CONCATENATE(B17,"",C17) -> British_Columbia50 | E17: 240 | F17: 245 | G17: 285 | H17: 290 | I17: 296 | J17: 305 | K17: 342 | L17: 286 | M17: 345 | N17: 359
B18: British_Columbia | C18: 60 | D18: =CONCATENATE(B18,"",C18) -> British_Columbia60 | E18: 249 | F18: 249 | G18: 257 | H18: 270 | I18: 282 | J18: 290 | K18: 290 | L18: 270 | M18: 422 | N18: 400
B19: Alberta | C19: 20 | D19: =CONCATENATE(B19,"",C19) -> Alberta20 | E19: 190 | F19: 212 | G19: 234 | H19: 257 | I19: 265 | J19: 274 | K19: 301 | L19: 246 | M19: 273 | N19: 261
B20: Alberta | C20: 25 | D20: =CONCATENATE(B20,"",C20) -> Alberta25 | E20: 227 | F20: 256 | G20: 272 | H20: 276 | I20: 291 | J20: 298 | K20: 306 | L20: 276 | M20: 318 | N20: 306
B21: Alberta | C21: 30 | D21: =CONCATENATE(B21,"",C21) -> Alberta30 | E21: 225 | F21: 279 | G21: 294 | H21: 310 | I21: 312 | J21: 338 | K21: 377 | L21: 306 | M21: 369 | N21: 334
... B24: Alberta | C24: 40 | D24: =CONCATENATE(B24,"",C24) -> Alberta40 | E24: 287 | F24: 312 | G24: 331 | H24: 346 | I24: 365 | J24: 373 | K24: 410 | L24: 344 | M24: 427 | N24: 418
B25: Alberta | C25: 45 | D25: =CONCATENATE(B25,"",C25) -> Alberta45 | M25: 464.66
B26: Alberta | C26: 50 | D26: =CONCATENATE(B26,"",C26) -> Alberta50 | M26: 488.29 | N26: 447.4
B27: Alberta | C27: 55 | D27: =CONCATENATE(B27,"",C27) -> Alberta55 | M27: 466.27
B28: Saskatchewan | C28: 25 | D28: =CONCATENATE(B28,"",C28) -> Saskatchewan25 | E28: 227 | F28: 237 | G28: 239 | H28: 254 | I28: 268 | J28: 270 | K28: 276 | L28: 253 | M28: 313 | N28: 296
B29: Saskatchewan | C29: 30 | D29: =CONCATENATE(B29,"",C29) -> Saskatchewan30 | E29: 288 | F29: 289 | G29: 292 | H29: 297 | I29: 301 | J29: 320 | K29: 327 | L29: 303 | M29: 346 | N29: 317
B30: Saskatchewan | C30: 32 | D30: =CONCATENATE(B30,"",C30) -> Saskatchewan32 | E30: 289 | F30: 300 | G30: 304 | H30: 310 | I30: 321 | J30: 330 | K30: 369 | L30: 318 | M30: 380 | N30: 338
B31: Saskatchewan | C31: 35 | D31: =CONCATENATE(B31,"",C31) -> Saskatchewan35 | E31: 291 | F31: 306 | G31: 309 | H31: 314 | I31: 318 | J31: 384 | K31: 477 | L31: 348 | M31: 417 | N31: 358
B32: Saskatchewan | C32: 40 | D32: =CONCATENATE(B32,"",C32) -> Saskatchewan40 | M32: 441.57 | N32: 414.04
B33: Saskatchewan | C33: 45 | D33: =CONCATENATE(B33,"",C33) -> Saskatchewan45 | M33: 473.78 | N33: 458.41
B34: Manitoba | C34: 20 | D34: =CONCATENATE(B34,"",C34) -> Manitoba20 | E34: 198 | F34: 209 | G34: 216 | H34: 224 | I34: 226 | J34: 231 | K34: 235 | L34: 219 | M34: 204 | N34: 202
B35: Manitoba | C35: 25 | D35: =CONCATENATE(B35,"",C35) -> Manitoba25 | E35: 205 | F35: 224 | G35: 243 | H35: 247 | I35: 253 | J35: 274 | K35: 288 | L35: 248 | M35: 230 | N35: 223
B36: Manitoba | C36: 30 | D36: =CONCATENATE(B36,"",C36) -> Manitoba30 | E36: 247 | F36: 255 | G36: 276 | H36: 277 | I36: 280 | J36: 296 | K36: 305 | L36: 277 | M36: 253 | N36: 246
B37: Manitoba | C37: 32 | D37: =CONCATENATE(B37,"",C37) -> Manitoba32 | E37: 288 | F37: 319 | G37: 346 | H37: 353 | I37: 359 | J37: 378 | K37: 429 | L37: 352 | M37: 277
B38: Manitoba | C38: 35 | D38: =CONCATENATE(B38,"",C38) -> Manitoba35 | E38: 321 | F38: 334 | G38: 345 | H38: 373 | I38: 401 | J38: 417 | K38: 424 | L38: 373 | M38: 298 | N38: 268
B39: Manitoba | C39: 40 | D39: =CONCATENATE(B39,"",C39) -> Manitoba40 | E39: 323 | F39: 337 | G39: 347 | H39: 366 | I39: 383 | J39: 400 | K39: 407 | L39: 366 | M39: 309 | N39: 290
B40: Manitoba | C40: 45 | D40: =CONCATENATE(B40,"",C40) -> Manitoba45 | M40: 361.69 | N40: 333.45
B41: Manitoba | C41: 50 | D41: =CONCATENATE(B41,"",C41) -> Manitoba50 | M41: 395.93 | N41: 367.01
B42: Manitoba | C42: 60 | D42: =CONCATENATE(B42,"",C42) -> Manitoba60 | E42: 520 | F42: 521 | G42: 531 | H42: 538 | I42: 540 | J42: 544 | K42: 546 | L42: 534
B43: Ontario | C43: 20 | D43: =CONCATENATE(B43,"",C43) -> Ontario20 | M43: 227.16 | N43: 220.29
B44: Ontario | C44: 25 | D44: =CONCATENATE(B44,"",C44) -> Ontario25 | M44: 260.64 | N44: 254.05
B45: Ontario | C45: 30 | D45: =CONCATENATE(B45,"",C45) -> Ontario30 | M45: 292.72 | N45: 264.38
B46: Ontario | C46: 32 | D46: =CONCATENATE(B46,"",C46) -> Ontario32 | M46: 326.46 | N46: 264.38
B47: Ontario | C47: 35 | D47: =CONCATENATE(B47,"",C47) -> Ontario35 | M47: 334.49 | N47: 295.46
B48: Ontario | C48: 40 | D48: =CONCATENATE(B48,"",C48) -> Ontario40 | M48: 361.65 | N48: 326.25
B49: Ontario | C49: 45 | D49: =CONCATENATE(B49,"",C49) -> Ontario45 | M49: 379.45 | N49: 349.88
B50: Ontario | C50: 50 | D50: =CONCATENATE(B50,"",C50) -> Ontario50 | M50: 456.93 | N50: 335.76
B51: Ontario | C51: 55 | D51: =CONCATENATE(B51,"",C51) -> Ontario55 | N51: 354.67
B52: Ontario | C52: 60 | D52: =CONCATENATE(B52,"",C52) -> Ontario60 | N52: 361.25
B53: Ontario | C53: 70 | D53: =CONCATENATE(B53,"",C53) -> Ontario70 | N53: 354.42
B54: Quebec | C54: 20 | D54: =CONCATENATE(B54,"",C54) -> Quebec20 | E54: 228 | F54: 260 | G54: 268 | H54: 270 | I54: 274 | J54: 324 | K54: 358 | L54: 285 | M54: 278 | N54: 264
B55: Quebec | C55: 25 | D55: =CONCATENATE(B55,"",C55) -> Quebec25 | E55: 240 | F55: 279 | G55: 284 | H55: 290 | I55: 294 | J55: 315 | K55: 409 | L55: 296 | M55: 299 | N55: 287
B56: Quebec | C56: 30 | D56: =CONCATENATE(B56,"",C56) -> Quebec30 | E56: 244 | F56: 306 | G56: 319 | H56: 327 | I56: 333 | J56: 346 | K56: 456 | L56: 331 | M56: 343 | N56: 307
B57: Quebec | C57: 32 | D57: =CONCATENATE(B57,"",C57) -> Quebec32 | E57: 293 | F57: 332 | G57: 337 | H57: 338 | I57: 341 | J57: 390 | K57: 476 | L57: 355 | M57: 363
B58: Quebec | C58: 35 | D58: =CONCATENATE(B58,"",C58) -> Quebec35 | E58: 225 | F58: 327 | G58: 353 | H58: 360 | I58: 372 | J58: 391 | K58: 513 | L58: 368 | M58: 393 | N58: 345
B59: Quebec | C59: 40 | D59: =CONCATENATE(B59,"",C59) -> Quebec40 | E59: 259 | F59: 295 | G59: 314 | H59: 328 | I59: 372 | J59: 383 | K59: 460 | L59: 347 | M59: 397 | N59: 364
B60: Quebec | C60: 45 | D60: =CONCATENATE(B60,"",C60) -> Quebec45 | E60: 353 | F60: 362 | G60: 376 | H60: 380 | I60: 381 | J60: 384 | K60: 444 | L60: 382 | M60: 414 | N60: 381
B61: Quebec | C61: 50 | D61: =CONCATENATE(B61,"",C61) -> Quebec50 | E61: 325 | F61: 364 | G61: 383 | H61: 386 | I61: 430 | J61: 444 | K61: 452 | L61: 400 | M61: 411 | N61: 404
B62: Quebec | C62: 60 | D62: =CONCATENATE(B62,"",C62) -> Quebec60 | M62: 444.71 | N62: 424.74
B63: Quebec | C63: 80 | D63: =CONCATENATE(B63,"",C63) -> Quebec80 | N63: 485.72
B64: Atlantic | C64: 20 | D64: =CONCATENATE(B64,"",C64) -> Atlantic20 | M64: 343.96 | N64: 336.63
B65: Atlantic | C65: 25 | D65: =CONCATENATE(B65,"",C65) -> Atlantic25 | E65: 295 | F65: 307 | G65: 318 | H65: 323 | I65: 324 | J65: 328 | K65: 338 | L65: 318 | M65: 361 | N65: 354
B66: Atlantic | C66: 30 | D66: =CONCATENATE(B66,"",C66) -> Atlantic30 | E66: 362 | F66: 364 | G66: 369 | H66: 371 | I66: 376 | J66: 383 | K66: 384 | L66: 373 | M66: 394 | N66: 379
B67: Atlantic | C67: 32 | D67: =CONCATENATE(B67,"",C67) -> Atlantic32 | M67: 438.78
B68: Atlantic | C68: 35 | D68: =CONCATENATE(B68,"",C68) -> Atlantic35 | M68: 447.25 | N68: 422.25
B69: Atlantic | C69: 40 | D69: =CONCATENATE(B69,"",C69) -> Atlantic40 | M69: 474.19 | N69: 449.16
B70: Atlantic | C70: 45 | D70: =CONCATENATE(B70,"",C70) -> Atlantic45 | M70: 528.55 | N70: 501.86
B71: Atlantic | C71: 50 | D71: =CONCATENATE(B71,"",C71) -> Atlantic50 | M71: 551.01 | N71: 536.01
B72: Atlantic | C72: 60 | D72: =CONCATENATE(B72,"",C72) -> Atlantic60 | N72: 580.21
B75: 2023 CLF North American Material Baselines
B76: version: April 2023
B78: General Notes
B79: All values are Baseline GWP (kg CO2e / m3).
B80: Canadian ready-mixed concrete industry EPDs provide multiple baseline mixes per strength value in some cases. Where available, CLF included baseline values for one mix with air-entraining admixtures (AEAs), and one without.
B81: Baseline GWP values represent life cycle stages A1-A3 unless stated otherwise.
B82: Baseline GWP values are representative of North American manufacturing, acknowledging global trade for upstream supply chain materials.
B83: Generally, the Baseline GWP values use the same number of significant digits used in the original data source. Where CLF performs a calculation to establish a baseline GWP value (e.g., averaging multiple values or converting between fabricated and unfabricated steel product GWP), these values are rounded to two or three significant digits.
B84: Category appendices include full citations for the data sources listed here.
B85: The 2023 CLF North American Material Baselines report and appendices can be found at:
B86: https://carbonleadershipforum.org/material-baselines/
B88: Data Sources
... B95: Atlantic Concrete Association. (2022). Member Industry-Wide EPD for Ready-mixed Concrete.

Sheet Other Inputs
B2: Sheet Title: | C2: Other Inputs
B3: Sheet Reference: | C3: Misc., see 'Reference' column
B4: Sheet Purpose: | C4: To provide inputs and variables not elsewhere captured in this calculation sheet,
B6: Parameter | C6: Unit | D6: Value | E6: Reference | F6: Comment
B7: Special Application Allowance Factor | C7: - | D7: 1.3 | E7: Concrete - GSA IRA Low Embodied Carbon Requirements (Dec. 2023).pdf | F7: This guidance aligns with the TBS guidance, and was set primarily to align with the GSA IRA: Concrete - GSA IRA Low Embodied Carbon Requirements (Dec. 2023).pdf. See the note at the bottom of the table on page 2/6: ‘1 “High early strength” is concrete that, through the use of additional cement, high-early-strength cement, or admixtures, has accelerated early-age strength development. High early strength concrete produced using additional cement should be avoided where possible, due to its higher embodied carbon. An affected project delivery team must obtain written approval from GSA’s IRA PMO on whether high early strength concrete is necessary for technical reasons. This 30% allowance reflects input from building sustainability experts, general contractors, engineers, and ready-mix or cement producers.’

Sheet Lists
B2: Sheet Title: | C2: Lists | FG2: STEEL LISTS
B3: Sheet Reference: | C3: Manual inputs or data from sheets
B4: Sheet Purpose: | C4: To provide inputs and variables not elsewhere captured in this calculation sheet,
B6: Special Application | D6: Volume Reduction | F6: Project Region | H6: Concrete Air Entrained | J6: British Columbia,Yes | K6: British Columbia,No | L6: Alberta,Yes | M6: Alberta,No | N6: Saskatchewan,Yes | O6: Saskatchewan,No | P6: Manitoba,Yes | Q6: Manitoba,No | R6: Ontario,Yes | S6: Ontario,No | T6: Quebec,Yes | U6: Quebec,No | V6: Atlantic,Yes | W6: Atlantic,No | Y6: Unique provinces, AEA, and compressive strength values | AA6: {=TRANSPOSE(_xlfn.ANCHORARRAY(Y7))} -> Ontario,20,No | AB6: Ontario,25,No | AC6: Ontario,30,No | AD6: Ontario,35,No | AE6: Ontario,40,No | AF6: Ontario,45,No | AG6: Ontario,50,No | AH6: Ontario,55,No | AI6: Ontario,60,No | AJ6: Ontario,70,No | AK6: Ontario,20,Yes | AL6: Ontario,25,Yes | AM6: Ontario,30,Yes | AN6: Ontario,32,Yes | AO6: Ontario,35,Yes | AP6: Ontario,40,Yes | AQ6: Ontario,45,Yes | AR6: Ontario,50,Yes | AS6: Atlantic,20,No | AT6: Atlantic,20,Yes | AU6: Atlantic,25,No | AV6: Atlantic,25,Yes | AW6: Atlantic,30,No | AX6: Atlantic,30,Yes | AY6: Atlantic,32,Yes | AZ6: Atlantic,35,No | BA6: Atlantic,35,Yes | BB6: Atlantic,40,No | BC6: Atlantic,40,Yes | BD6: Atlantic,45,No | BE6: Atlantic,45,Yes | BF6: Atlantic,50,No | BG6: Atlantic,50,Yes | BH6: Atlantic,60,No | BI6: Quebec,20,Yes | BJ6: Quebec,20,No | BK6: Quebec,25,No | BL6: Quebec,25,Yes | BM6: Quebec,30,Yes | BN6: Quebec,30,No | BO6: Quebec,32,Yes | BP6: Quebec,35,Yes | BQ6: Quebec,35,No | BR6: Quebec,40,No | BS6: Quebec,40,Yes | BT6: Quebec,45,No | BU6: Quebec,45,Yes | BV6: Quebec,50,Yes | BW6: Quebec,50,No | BX6: Quebec,60,No | BY6: Quebec,60,Yes | BZ6: Quebec,80,No | CA6: Manitoba,20,No | CB6: Manitoba,20,Yes | CC6: Manitoba,25,No | CD6: Manitoba,25,Yes | CE6: Manitoba,30,No | CF6: Manitoba,30,Yes | CG6: Manitoba,32,Yes | CH6: Manitoba,35,No | CI6: Manitoba,35,Yes | CJ6: Manitoba,40,No | CK6: Manitoba,40,Yes | CL6: Manitoba,45,No | CM6: Manitoba,45,Yes | CN6: Manitoba,50,No | CO6: Manitoba,50,Yes | CP6: Alberta,20,Yes | CQ6: Alberta,20,No | CR6: Alberta,25,Yes | CS6: Alberta,25,No | CT6: Alberta,30,Yes | CU6: Alberta,30,No | CV6: Alberta,32,Yes | CW6: Alberta,32,No | CX6: Alberta,35,Yes | CY6: Alberta,35,No | CZ6: Alberta,40,Yes | DA6: Alberta,45,No | DB6: Alberta,45,Yes | DC6: Alberta,50,Yes | DD6: Alberta,50,No | DE6: Alberta,55,No | DF6: British_Columbia,15,No | DG6: British_Columbia,20,Yes | DH6: British_Columbia,20,No | DI6: British_Columbia,25,Yes | DJ6: British_Columbia,25,No | DK6: British_Columbia,30,Yes | DL6: British_Columbia,30,No | DM6: British_Columbia,32,Yes | DN6: British_Columbia,32,No | DO6: British_Columbia,35,Yes | DP6: British_Columbia,35,No | DQ6: British_Columbia,40,Yes | DR6: British_Columbia,40,No | DS6: British_Columbia,45,Yes | DT6: British_Columbia,45,No | DU6: British_Columbia,50,Yes | DV6: British_Columbia,50,No | DW6: British_Columbia,55,Yes | DX6: British_Columbia,55,No | DY6: British_Columbia,60,Yes | DZ6: British_Columbia,60,No | EA6: Saskatchewan,25,Yes | EB6: Saskatchewan,25,No | EC6: Saskatchewan,30,No | ED6: Saskatchewan,30,Yes | EE6: Saskatchewan,32,Yes | EF6: Saskatchewan,32,No | EG6: Saskatchewan,35,No | EH6: Saskatchewan,35,Yes | EI6: Saskatchewan,40,No | EJ6: Saskatchewan,40,Yes | EK6: Saskatchewan,45,No | EL6: Saskatchewan,45,Yes | EM6: Saskatchewan,LCA Results Sask,NA | EN6: Saskatchewan,LCA Results Flowable Fill,NA | EO6: ,, | ES6: Project Class Estimate | FH6: Steel Material Category | FJ6: Structural Element | FL6: Exempted? | FN6: EPD or LCA | FP6: PCR Accordance to | FR6: Manufacturing Process | FT6: Fabricated / Unfabricated
B7: Yes | D7: Yes | F7: [Select] | H7: Yes | J7: 20 | K7: 15 | L7: 20 | M7: 20 | N7: 25 | O7: 25 | P7: 20 | Q7: 20 | R7: 20 | S7: 20 | T7: 20 | U7: 20 | V7: 20 | W7: 20 | Y7: {=_xlfn.UNIQUE('CAC EPDs'!E8:E1500)} -> Ontario,20,No | AA7: {=IFERROR(INDEX('CAC EPDs'!$F$2:$F$1500,SMALL(IF('CAC EPDs'!$E$2:$E$1500=Lists!AA$6,ROW('CAC EPDs'!$E$2:$E$1500)),ROW(1:1))-1,1),"")} -> Baseline 20 MPa concrete without air GU 10 SL | AB7: {=IFERROR(INDEX('CAC EPDs'!$F$2:$F$1500,SMALL(IF('CAC EPDs'!$E$2:$E$1500=Lists!AB$6,ROW('CAC EPDs'!$E$2:$E$1500)),ROW(1:1))-1,1),"")} -> Baseline 25 MPa concrete without air GU 10 SL | AC7: {=IFERROR(INDEX('CAC EPDs'!$F$2:$F$1500,SMALL(IF('CAC EPDs'!$E$2:$E$1500=Lists!AC$6,ROW('CAC EPDs'!$E$2:$E$1500)),ROW(1:1))-1,1),"")} -> Baseline 30 MPa concrete without air GU 15 SL | AD7: {=IFERROR(INDEX('CAC EPDs'!$F$2:$F$1500,SMALL(IF('CAC EPDs'!$E$2:$E$1500=Lists!AD$6,ROW('CAC EPDs'!$E$2:$E$1500)),ROW(1:1))-1,1),"")} -> Baseline 35 MPa concrete without air GU 15 SL | AE7: {=IFERROR(INDEX('CAC EPDs'!$F$2:$F$1500,SMALL(IF('CAC EPDs'!$E$2:$E$1500=Lists!AE$6,ROW('CAC EPDs'!$E$2:$E$1500)),ROW(1:1))-1,1),"")} -> Baseline 40 MPa concrete without air GU 15 SL | AF7: {=IFERROR(INDEX('CAC EPDs'!$F$2:$F$1500,SMALL(IF('CAC EPDs'!$E$2:$E$1500=Lists!AF$6,ROW('CAC EPDs'!$E$2:$E$1500)),ROW(1:1))-1,1),"")} -> Baseline 45 MPa concrete without air GU 15 SL | AG7: {=IFERROR(INDEX('CAC EPDs'!$F$2:$F$1500,SMALL(IF('CAC EPDs'!$E$2:$E$1500=Lists!AG$6,ROW('CAC EPDs'!$E$2:$E$1500)),ROW(1:1))-1,1),"")} -> Baseline 50 MPa concrete without air GUbSF 20 SL | AH7: {=IFERROR(INDEX('CAC EPDs'!$F$2:$F$1500,SMALL(IF('CAC EPDs'!$E$2:$E$1500=Lists!AH$6,ROW('CAC EPDs'!$E$2:$E$1500)),ROW(1:1))-1,1),"")} -> Baseline 55 MPa concrete without air GUbSF 20 SL | ... EN7: {=IFERROR(INDEX('CAC EPDs'!$F$2:$F$1500,SMALL(IF('CAC EPDs'!$E$2:$E$1500=Lists!EN$6,ROW('CAC EPDs'!$E$2:$E$1500)),ROW(1:1))-1,1),"")} -> Baseline Flowable Fill (MHI U-Fill) GU 25 FA | ES7: Class A: Estimates made after bids for a project have been received, evaluated, verified, and a contract has been awarded. | FH7: Rebar | FJ7: Substructure/Foundation | FL7: Yes | FN7: EPD | FP7: ISO 14025 | FR7: EAF | FT7: Unfabricated
B8: No | D8: No | F8: {=_xlfn.UNIQUE('CAC EPDs'!B11:B1440)} -> Ontario | H8: No | J8: 25 | K8: 20 | L8: 25 | M8: 25 | N8: 30 | O8: 30 | P8: 25 | Q8: 25 | R8: 25 | S8: 25 | T8: 25 | U8: 25 | V8: 25 | W8: 25 | Y8: Ontario,25,No | AA8: {=IFERROR(INDEX('CAC EPDs'!$F$2:$F$1500,SMALL(IF('CAC EPDs'!$E$2:$E$1500=Lists!AA$6,ROW('CAC EPDs'!$E$2:$E$1500)),ROW(2:2))-1,1),"")} -> 20 MPa concrete without air GU | AB8: {=IFERROR(INDEX('CAC EPDs'!$F$2:$F$1500,SMALL(IF('CAC EPDs'!$E$2:$E$1500=Lists!AB$6,ROW('CAC EPDs'!$E$2:$E$1500)),ROW(2:2))-1,1),"")} -> 25 MPa concrete without air GU | AC8: {=IFERROR(INDEX('CAC EPDs'!$F$2:$F$1500,SMALL(IF('CAC EPDs'!$E$2:$E$1500=Lists!AC$6,ROW('CAC EPDs'!$E$2:$E$1500)),ROW(2:2))-1,1),"")} -> 30 MPa concrete without air GU | AD8: {=IFERROR(INDEX('CAC EPDs'!$F$2:$F$1500,SMALL(IF('CAC EPDs'!$E$2:$E$1500=Lists!AD$6,ROW('CAC EPDs'!$E$2:$E$1500)),ROW(2:2))-1,1),"")} -> 35 MPa concrete without air GU | AE8: {=IFERROR(INDEX('CAC EPDs'!$F$2:$F$1500,SMALL(IF('CAC EPDs'!$E$2:$E$1500=Lists!AE$6,ROW('CAC EPDs'!$E$2:$E$1500)),ROW(2:2))-1,1),"")} -> 40 MPa concrete without air GU | AF8: {=IFERROR(INDEX('CAC EPDs'!$F$2:$F$1500,SMALL(IF('CAC EPDs'!$E$2:$E$1500=Lists!AF$6,ROW('CAC EPDs'!$E$2:$E$1500)),ROW(2:2))-1,1),"")} -> 45 MPa concrete without air GU | AG8: {=IFERROR(INDEX('CAC EPDs'!$F$2:$F$1500,SMALL(IF('CAC EPDs'!$E$2:$E$1500=Lists!AG$6,ROW('CAC EPDs'!$E$2:$E$1500)),ROW(2:2))-1,1),"")} -> 50 MPa concrete without air | AH8: {=IFERROR(INDEX('CAC EPDs'!$F$2:$F$1500,SMALL(IF('CAC EPDs'!$E$2:$E$1500=Lists!AH$6,ROW('CAC EPDs'!$E$2:$E$1500)),ROW(2:2))-1,1),"")} -> 55 MPa concrete without air | ... EN8: {=IFERROR(INDEX('CAC EPDs'!$F$2:$F$1500,SMALL(IF('CAC EPDs'!$E$2:$E$1500=Lists!EN$6,ROW('CAC EPDs'!$E$2:$E$1500)),ROW(2:2))-1,1),"")} -> Flowable Fill (MHI U-Fill) GU | ES8: Class B: Estimates made at the “Detailed Design” stage, when the project is ready for tendering. | FH8: Hot-Rolled Sections | FJ8: Superstructure | FL8: No | FN8: LCA | FP8: EN 15804 | FR8: DRI/EAF | FT8: Fabricated
F9: Atlantic | H9: NA | J9: 30 | K9: 25 | L9: 30 | M9: 30 | N9: 32 | O9: 32 | P9: 30 | Q9: 30 | R9: 30 | S9: 30 | T9: 30 | U9: 30 | V9: 30 | W9: 30 | Y9: Ontario,30,No | AA9: {=IFERROR(INDEX('CAC EPDs'!$F$2:$F$1500,SMALL(IF('CAC EPDs'!$E$2:$E$1500=Lists!AA$6,ROW('CAC EPDs'!$E$2:$E$1500)),ROW(3:3))-1,1),"")} -> 20 MPa concrete without air GU 15 SL | AB9: {=IFERROR(INDEX('CAC EPDs'!$F$2:$F$1500,SMALL(IF('CAC EPDs'!$E$2:$E$1500=Lists!AB$6,ROW('CAC EPDs'!$E$2:$E$1500)),ROW(3:3))-1,1),"")} -> 25 MPa concrete without air GU 15 SL | AC9: {=IFERROR(INDEX('CAC EPDs'!$F$2:$F$1500,SMALL(IF('CAC EPDs'!$E$2:$E$1500=Lists!AC$6,ROW('CAC EPDs'!$E$2:$E$1500)),ROW(3:3))-1,1),"")} -> 30 MPa concrete without air GU 15 SL | AD9: {=IFERROR(INDEX('CAC EPDs'!$F$2:$F$1500,SMALL(IF('CAC EPDs'!$E$2:$E$1500=Lists!AD$6,ROW('CAC EPDs'!$E$2:$E$1500)),ROW(3:3))-1,1),"")} -> 35 MPa concrete without air GU 15 SL | AE9: {=IFERROR(INDEX('CAC EPDs'!$F$2:$F$1500,SMALL(IF('CAC EPDs'!$E$2:$E$1500=Lists!AE$6,ROW('CAC EPDs'!$E$2:$E$1500)),ROW(3:3))-1,1),"")} -> 40 MPa concrete without air GU 15 SL | AF9: {=IFERROR(INDEX('CAC EPDs'!$F$2:$F$1500,SMALL(IF('CAC EPDs'!$E$2:$E$1500=Lists!AF$6,ROW('CAC EPDs'!$E$2:$E$1500)),ROW(3:3))-1,1),"")} -> 45 MPa concrete without air GU 15 SL | AG9: {=IFERROR(INDEX('CAC EPDs'!$F$2:$F$1500,SMALL(IF('CAC EPDs'!$E$2:$E$1500=Lists!AG$6,ROW('CAC EPDs'!$E$2:$E$1500)),ROW(3:3))-1,1),"")} -> 50 MPa concrete without air GUbSF 15 SL | AH9: {=IFERROR(INDEX('CAC EPDs'!$F$2:$F$1500,SMALL(IF('CAC EPDs'!$E$2:$E$1500=Lists!AH$6,ROW('CAC EPDs'!$E$2:$E$1500)),ROW(3:3))-1,1),"")} -> 55 MPa concrete without air GUbSF 15 SL | ... EN9: {=IFERROR(INDEX('CAC EPDs'!$F$2:$F$1500,SMALL(IF('CAC EPDs'!$E$2:$E$1500=Lists!EN$6,ROW('CAC EPDs'!$E$2:$E$1500)),ROW(3:3))-1,1),"")} -> Flowable Fill (MHI U-Fill) GU 10 FA | ES9: Class C: Estimates at the “Preliminary Design” stage, and may be referred to as pre-tendering estimates. | FH9: Hollow Structural Sections | FJ9: Envelope & Roofing | FR9: BOF
F10: Quebec | J10: 32 | K10: 30 | L10: 32 | M10: 32 | N10: 35 | O10: 35 | P10: 32 | Q10: 35 | R10: 32 | S10: 32 | T10: 32 | U10: 35 | V10: 32 | W10: 35 | Y10: Ontario,35,No | AA10: {=IFERROR(INDEX('CAC EPDs'!$F$2:$F$1500,SMALL(IF('CAC EPDs'!$E$2:$E$1500=Lists!AA$6,ROW('CAC EPDs'!$E$2:$E$1500)),ROW(4:4))-1,1),"")} -> 20 MPa concrete without air GU 25 SL | AB10: {=IFERROR(INDEX('CAC EPDs'!$F$2:$F$1500,SMALL(IF('CAC EPDs'!$E$2:$E$1500=Lists!AB$6,ROW('CAC EPDs'!$E$2:$E$1500)),ROW(4:4))-1,1),"")} -> 25 MPa concrete without air GU 25 SL | AC10: {=IFERROR(INDEX('CAC EPDs'!$F$2:$F$1500,SMALL(IF('CAC EPDs'!$E$2:$E$1500=Lists!AC$6,ROW('CAC EPDs'!$E$2:$E$1500)),ROW(4:4))-1,1),"")} -> 30 MPa concrete without air GU 25 SL | AD10: {=IFERROR(INDEX('CAC EPDs'!$F$2:$F$1500,SMALL(IF('CAC EPDs'!$E$2:$E$1500=Lists!AD$6,ROW('CAC EPDs'!$E$2:$E$1500)),ROW(4:4))-1,1),"")} -> 35 MPa concrete without air GU 25 SL | AE10: {=IFERROR(INDEX('CAC EPDs'!$F$2:$F$1500,SMALL(IF('CAC EPDs'!$E$2:$E$1500=Lists!AE$6,ROW('CAC EPDs'!$E$2:$E$1500)),ROW(4:4))-1,1),"")} -> 40 MPa concrete without air GU 25 SL | AF10: {=IFERROR(INDEX('CAC EPDs'!$F$2:$F$1500,SMALL(IF('CAC EPDs'!$E$2:$E$1500=Lists!AF$6,ROW('CAC EPDs'!$E$2:$E$1500)),ROW(4:4))-1,1),"")} -> 45 MPa concrete without air GU 25 SL | AG10: {=IFERROR(INDEX('CAC EPDs'!$F$2:$F$1500,SMALL(IF('CAC EPDs'!$E$2:$E$1500=Lists!AG$6,ROW('CAC EPDs'!$E$2:$E$1500)),ROW(4:4))-1,1),"")} -> 50 MPa concrete without air GUbSF 25 SL | AH10: {=IFERROR(INDEX('CAC EPDs'!$F$2:$F$1500,SMALL(IF('CAC EPDs'!$E$2:$E$1500=Lists!AH$6,ROW('CAC EPDs'!$E$2:$E$1500)),ROW(4:4))-1,1),"")} -> 55 MPa concrete without air GUbSF 25 SL | ... EN10: {=IFERROR(INDEX('CAC EPDs'!$F$2:$F$1500,SMALL(IF('CAC EPDs'!$E$2:$E$1500=Lists!EN$6,ROW('CAC EPDs'!$E$2:$E$1500)),ROW(4:4))-1,1),"")} -> Flowable Fill (MHI U-Fill) GU 20 FA | ES10: Class D: Estimates at the “Conceptual Design” stage. | FH10: Structural Plate | FJ10: Other
F11: Manitoba | J11: 35 | K11: 32 | L11: 35 | M11: 35 | N11: 40 | O11: 40 | P11: 35 | Q11: 40 | R11: 35 | S11: 35 | T11: 35 | U11: 40 | V11: 35 | W11: 40 | Y11: Ontario,40,No | AA11: {=IFERROR(INDEX('CAC EPDs'!$F$2:$F$1500,SMALL(IF('CAC EPDs'!$E$2:$E$1500=Lists!AA$6,ROW('CAC EPDs'!$E$2:$E$1500)),ROW(5:5))-1,1),"")} -> 20 MPa concrete without air GU 35 SL | AB11: {=IFERROR(INDEX('CAC EPDs'!$F$2:$F$1500,SMALL(IF('CAC EPDs'!$E$2:$E$1500=Lists!AB$6,ROW('CAC EPDs'!$E$2:$E$1500)),ROW(5:5))-1,1),"")} -> 25 MPa concrete without air GU 35 SL | AC11: {=IFERROR(INDEX('CAC EPDs'!$F$2:$F$1500,SMALL(IF('CAC EPDs'!$E$2:$E$1500=Lists!AC$6,ROW('CAC EPDs'!$E$2:$E$1500)),ROW(5:5))-1,1),"")} -> 30 MPa concrete without air GU 35 SL | AD11: {=IFERROR(INDEX('CAC EPDs'!$F$2:$F$1500,SMALL(IF('CAC EPDs'!$E$2:$E$1500=Lists!AD$6,ROW('CAC EPDs'!$E$2:$E$1500)),ROW(5:5))-1,1),"")} -> 35 MPa concrete without air GU 35 SL | AE11: {=IFERROR(INDEX('CAC EPDs'!$F$2:$F$1500,SMALL(IF('CAC EPDs'!$E$2:$E$1500=Lists!AE$6,ROW('CAC EPDs'!$E$2:$E$1500)),ROW(5:5))-1,1),"")} -> 40 MPa concrete without air GU 35 SL | AF11: {=IFERROR(INDEX('CAC EPDs'!$F$2:$F$1500,SMALL(IF('CAC EPDs'!$E$2:$E$1500=Lists!AF$6,ROW('CAC EPDs'!$E$2:$E$1500)),ROW(5:5))-1,1),"")} -> 45 MPa concrete without air GU 35 SL | AG11: {=IFERROR(INDEX('CAC EPDs'!$F$2:$F$1500,SMALL(IF('CAC EPDs'!$E$2:$E$1500=Lists!AG$6,ROW('CAC EPDs'!$E$2:$E$1500)),ROW(5:5))-1,1),"")} -> 50 MPa concrete without air GUbSF 35 SL | AH11: {=IFERROR(INDEX('CAC EPDs'!$F$2:$F$1500,SMALL(IF('CAC EPDs'!$E$2:$E$1500=Lists!AH$6,ROW('CAC EPDs'!$E$2:$E$1500)),ROW(5:5))-1,1),"")} -> 55 MPa concrete without air GUbSF 35 SL | ... EN11: {=IFERROR(INDEX('CAC EPDs'!$F$2:$F$1500,SMALL(IF('CAC EPDs'!$E$2:$E$1500=Lists!EN$6,ROW('CAC EPDs'!$E$2:$E$1500)),ROW(5:5))-1,1),"")} -> Flowable Fill (MHI U-Fill) GU 30 FA | FH11: Cold-Formed Steel Framing & Panels
F12: Alberta | J12: 40 | K12: 35 | L12: 40 | M12: 40 | N12: 45 | O12: 45 | P12: 40 | Q12: 45 | R12: 40 | S12: 40 | T12: 40 | U12: 45 | V12: 40 | W12: 45 | Y12: Ontario,45,No | AA12: {=IFERROR(INDEX('CAC EPDs'!$F$2:$F$1500,SMALL(IF('CAC EPDs'!$E$2:$E$1500=Lists!AA$6,ROW('CAC EPDs'!$E$2:$E$1500)),ROW(6:6))-1,1),"")} -> 20 MPa concrete without air GU 50 SL | AB12: {=IFERROR(INDEX('CAC EPDs'!$F$2:$F$1500,SMALL(IF('CAC EPDs'!$E$2:$E$1500=Lists!AB$6,ROW('CAC EPDs'!$E$2:$E$1500)),ROW(6:6))-1,1),"")} -> 25 MPa concrete without air GU 50 SL | AC12: {=IFERROR(INDEX('CAC EPDs'!$F$2:$F$1500,SMALL(IF('CAC EPDs'!$E$2:$E$1500=Lists!AC$6,ROW('CAC EPDs'!$E$2:$E$1500)),ROW(6:6))-1,1),"")} -> 30 MPa concrete without air GU 50 SL | AD12: {=IFERROR(INDEX('CAC EPDs'!$F$2:$F$1500,SMALL(IF('CAC EPDs'!$E$2:$E$1500=Lists!AD$6,ROW('CAC EPDs'!$E$2:$E$1500)),ROW(6:6))-1,1),"")} -> 35 MPa concrete without air GU 50 SL | AE12: {=IFERROR(INDEX('CAC EPDs'!$F$2:$F$1500,SMALL(IF('CAC EPDs'!$E$2:$E$1500=Lists!AE$6,ROW('CAC EPDs'!$E$2:$E$1500)),ROW(6:6))-1,1),"")} -> 40 MPa concrete without air GU 50 SL | AF12: {=IFERROR(INDEX('CAC EPDs'!$F$2:$F$1500,SMALL(IF('CAC EPDs'!$E$2:$E$1500=Lists!AF$6,ROW('CAC EPDs'!$E$2:$E$1500)),ROW(6:6))-1,1),"")} -> 45 MPa concrete without air GU 50 SL | AG12: {=IFERROR(INDEX('CAC EPDs'!$F$2:$F$1500,SMALL(IF('CAC EPDs'!$E$2:$E$1500=Lists!AG$6,ROW('CAC EPDs'!$E$2:$E$1500)),ROW(6:6))-1,1),"")} -> 50 MPa concrete without air GUbSF 50 SL | AH12: {=IFERROR(INDEX('CAC EPDs'!$F$2:$F$1500,SMALL(IF('CAC EPDs'!$E$2:$E$1500=Lists!AH$6,ROW('CAC EPDs'!$E$2:$E$1500)),ROW(6:6))-1,1),"")} -> 55 MPa concrete without air GUbSF 50 SL | ... EN12: {=IFERROR(INDEX('CAC EPDs'!$F$2:$F$1500,SMALL(IF('CAC EPDs'!$E$2:$E$1500=Lists!EN$6,ROW('CAC EPDs'!$E$2:$E$1500)),ROW(6:6))-1,1),"")} -> Flowable Fill (MHI U-Fill) GU 40 FA | FH12: Sheet Steel Decking
F13: British_Columbia | J13: 45 | K13: 40 | L13: 45 | M13: 50 | P13: 45 | Q13: 50 | R13: 45 | S13: 45 | T13: 45 | U13: 50 | V13: 45 | W13: 50 | Y13: Ontario,50,No | AA13: {=IFERROR(INDEX('CAC EPDs'!$F$2:$F$1500,SMALL(IF('CAC EPDs'!$E$2:$E$1500=Lists!AA$6,ROW('CAC EPDs'!$E$2:$E$1500)),ROW(7:7))-1,1),"")} -> 20 MPa concrete without air GUL | AB13: {=IFERROR(INDEX('CAC EPDs'!$F$2:$F$1500,SMALL(IF('CAC EPDs'!$E$2:$E$1500=Lists!AB$6,ROW('CAC EPDs'!$E$2:$E$1500)),ROW(7:7))-1,1),"")} -> 25 MPa concrete without air GUL | AC13: {=IFERROR(INDEX('CAC EPDs'!$F$2:$F$1500,SMALL(IF('CAC EPDs'!$E$2:$E$1500=Lists!AC$6,ROW('CAC EPDs'!$E$2:$E$1500)),ROW(7:7))-1,1),"")} -> 30 MPa concrete without air GUL | AD13: {=IFERROR(INDEX('CAC EPDs'!$F$2:$F$1500,SMALL(IF('CAC EPDs'!$E$2:$E$1500=Lists!AD$6,ROW('CAC EPDs'!$E$2:$E$1500)),ROW(7:7))-1,1),"")} -> 35 MPa concrete without air GUL | AE13: {=IFERROR(INDEX('CAC EPDs'!$F$2:$F$1500,SMALL(IF('CAC EPDs'!$E$2:$E$1500=Lists!AE$6,ROW('CAC EPDs'!$E$2:$E$1500)),ROW(7:7))-1,1),"")} -> 40 MPa concrete without air GUL | AF13: {=IFERROR(INDEX('CAC EPDs'!$F$2:$F$1500,SMALL(IF('CAC EPDs'!$E$2:$E$1500=Lists!AF$6,ROW('CAC EPDs'!$E$2:$E$1500)),ROW(7:7))-1,1),"")} -> 45 MPa concrete without air GUL | AG13: {=IFERROR(INDEX('CAC EPDs'!$F$2:$F$1500,SMALL(IF('CAC EPDs'!$E$2:$E$1500=Lists!AG$6,ROW('CAC EPDs'!$E$2:$E$1500)),ROW(7:7))-1,1),"")} | AH13: {=IFERROR(INDEX('CAC EPDs'!$F$2:$F$1500,SMALL(IF('CAC EPDs'!$E$2:$E$1500=Lists!AH$6,ROW('CAC EPDs'!$E$2:$E$1500)),ROW(7:7))-1,1),"")} | ... EN13: {=IFERROR(INDEX('CAC EPDs'!$F$2:$F$1500,SMALL(IF('CAC EPDs'!$E$2:$E$1500=Lists!EN$6,ROW('CAC EPDs'!$E$2:$E$1500)),ROW(7:7))-1,1),"")} -> Flowable Fill (MHI U-Fill) GUL | FH13: Open Web Steel Joists
F14: Saskatchewan | J14: 50 | K14: 45 | L14: 50 | P14: 50 | R14: 50 | S14: 50 | T14: 50 | U14: 60 | V14: 50 | W14: 60 | Y14: Ontario,55,No | AA14: {=IFERROR(INDEX('CAC EPDs'!$F$2:$F$1500,SMALL(IF('CAC EPDs'!$E$2:$E$1500=Lists!AA$6,ROW('CAC EPDs'!$E$2:$E$1500)),ROW(8:8))-1,1),"")} -> 20 MPa concrete without air GUL 15 SL | AB14: {=IFERROR(INDEX('CAC EPDs'!$F$2:$F$1500,SMALL(IF('CAC EPDs'!$E$2:$E$1500=Lists!AB$6,ROW('CAC EPDs'!$E$2:$E$1500)),ROW(8:8))-1,1),"")} -> 25 MPa concrete without air GUL 15 SL | AC14: {=IFERROR(INDEX('CAC EPDs'!$F$2:$F$1500,SMALL(IF('CAC EPDs'!$E$2:$E$1500=Lists!AC$6,ROW('CAC EPDs'!$E$2:$E$1500)),ROW(8:8))-1,1),"")} -> 30 MPa concrete without air GUL 15 SL | AD14: {=IFERROR(INDEX('CAC EPDs'!$F$2:$F$1500,SMALL(IF('CAC EPDs'!$E$2:$E$1500=Lists!AD$6,ROW('CAC EPDs'!$E$2:$E$1500)),ROW(8:8))-1,1),"")} -> 35 MPa concrete without air GUL 15 SL | AE14: {=IFERROR(INDEX('CAC EPDs'!$F$2:$F$1500,SMALL(IF('CAC EPDs'!$E$2:$E$1500=Lists!AE$6,ROW('CAC EPDs'!$E$2:$E$1500)),ROW(8:8))-1,1),"")} -> 40 MPa concrete without air GUL 15 SL | AF14: {=IFERROR(INDEX('CAC EPDs'!$F$2:$F$1500,SMALL(IF('CAC EPDs'!$E$2:$E$1500=Lists!AF$6,ROW('CAC EPDs'!$E$2:$E$1500)),ROW(8:8))-1,1),"")} -> 45 MPa concrete without air GUL 15 SL | AG14: {=IFERROR(INDEX('CAC EPDs'!$F$2:$F$1500,SMALL(IF('CAC EPDs'!$E$2:$E$1500=Lists!AG$6,ROW('CAC EPDs'!$E$2:$E$1500)),ROW(8:8))-1,1),"")} | AH14: {=IFERROR(INDEX('CAC EPDs'!$F$2:$F$1500,SMALL(IF('CAC EPDs'!$E$2:$E$1500=Lists!AH$6,ROW('CAC EPDs'!$E$2:$E$1500)),ROW(8:8))-1,1),"")} | ... EN14: {=IFERROR(INDEX('CAC EPDs'!$F$2:$F$1500,SMALL(IF('CAC EPDs'!$E$2:$E$1500=Lists!EN$6,ROW('CAC EPDs'!$E$2:$E$1500)),ROW(8:8))-1,1),"")} -> Flowable Fill (MHI U-Fill) GUL 10 FA | FH14: Merchant Bar
J15: 60 | K15: 50 | L15: 55 | S15: 55 | T15: 60 | U15: 80 | Y15: Ontario,60,No | AA15: {=IFERROR(INDEX('CAC EPDs'!$F$2:$F$1500,SMALL(IF('CAC EPDs'!$E$2:$E$1500=Lists!AA$6,ROW('CAC EPDs'!$E$2:$E$1500)),ROW(9:9))-1,1),"")} -> 20 MPa concrete without air GUL 25 SL | AB15: {=IFERROR(INDEX('CAC EPDs'!$F$2:$F$1500,SMALL(IF('CAC EPDs'!$E$2:$E$1500=Lists!AB$6,ROW('CAC EPDs'!$E$2:$E$1500)),ROW(9:9))-1,1),"")} -> 25 MPa concrete without air GUL 25 SL | AC15: {=IFERROR(INDEX('CAC EPDs'!$F$2:$F$1500,SMALL(IF('CAC EPDs'!$E$2:$E$1500=Lists!AC$6,ROW('CAC EPDs'!$E$2:$E$1500)),ROW(9:9))-1,1),"")} -> 30 MPa concrete without air GUL 25 SL | AD15: {=IFERROR(INDEX('CAC EPDs'!$F$2:$F$1500,SMALL(IF('CAC EPDs'!$E$2:$E$1500=Lists!AD$6,ROW('CAC EPDs'!$E$2:$E$1500)),ROW(9:9))-1,1),"")} -> 35 MPa concrete without air GUL 25 SL | AE15: {=IFERROR(INDEX('CAC EPDs'!$F$2:$F$1500,SMALL(IF('CAC EPDs'!$E$2:$E$1500=Lists!AE$6,ROW('CAC EPDs'!$E$2:$E$1500)),ROW(9:9))-1,1),"")} -> 40 MPa concrete without air GUL 25 SL | AF15: {=IFERROR(INDEX('CAC EPDs'!$F$2:$F$1500,SMALL(IF('CAC EPDs'!$E$2:$E$1500=Lists!AF$6,ROW('CAC EPDs'!$E$2:$E$1500)),ROW(9:9))-1,1),"")} -> 45 MPa concrete without air GUL 25 SL | AG15: {=IFERROR(INDEX('CAC EPDs'!$F$2:$F$1500,SMALL(IF('CAC EPDs'!$E$2:$E$1500=Lists!AG$6,ROW('CAC EPDs'!$E$2:$E$1500)),ROW(9:9))-1,1),"")} | AH15: {=IFERROR(INDEX('CAC EPDs'!$F$2:$F$1500,SMALL(IF('CAC EPDs'!$E$2:$E$1500=Lists!AH$6,ROW('CAC EPDs'!$E$2:$E$1500)),ROW(9:9))-1,1),"")} | ... EN15: {=IFERROR(INDEX('CAC EPDs'!$F$2:$F$1500,SMALL(IF('CAC EPDs'!$E$2:$E$1500=Lists!EN$6,ROW('CAC EPDs'!$E$2:$E$1500)),ROW(9:9))-1,1),"")} -> Flowable Fill (MHI U-Fill) GUL 20 FA | FH15: Hot-Rolled Sheet, Strip, Plate
K16: 60 | S16: 60 | Y16: Ontario,70,No | AA16: {=IFERROR(INDEX('CAC EPDs'!$F$2:$F$1500,SMALL(IF('CAC EPDs'!$E$2:$E$1500=Lists!AA$6,ROW('CAC EPDs'!$E$2:$E$1500)),ROW(10:10))-1,1),"")} -> 20 MPa concrete without air GUL 35 SL | AB16: {=IFERROR(INDEX('CAC EPDs'!$F$2:$F$1500,SMALL(IF('CAC EPDs'!$E$2:$E$1500=Lists!AB$6,ROW('CAC EPDs'!$E$2:$E$1500)),ROW(10:10))-1,1),"")} -> 25 MPa concrete without air GUL 35 SL | AC16: {=IFERROR(INDEX('CAC EPDs'!$F$2:$F$1500,SMALL(IF('CAC EPDs'!$E$2:$E$1500=Lists!AC$6,ROW('CAC EPDs'!$E$2:$E$1500)),ROW(10:10))-1,1),"")} -> 30 MPa concrete without air GUL 35 SL | AD16: {=IFERROR(INDEX('CAC EPDs'!$F$2:$F$1500,SMALL(IF('CAC EPDs'!$E$2:$E$1500=Lists!AD$6,ROW('CAC EPDs'!$E$2:$E$1500)),ROW(10:10))-1,1),"")} -> 35 MPa concrete without air GUL 35 SL | AE16: {=IFERROR(INDEX('CAC EPDs'!$F$2:$F$1500,SMALL(IF('CAC EPDs'!$E$2:$E$1500=Lists!AE$6,ROW('CAC EPDs'!$E$2:$E$1500)),ROW(10:10))-1,1),"")} -> 40 MPa concrete without air GUL 35 SL | AF16: {=IFERROR(INDEX('CAC EPDs'!$F$2:$F$1500,SMALL(IF('CAC EPDs'!$E$2:$E$1500=Lists!AF$6,ROW('CAC EPDs'!$E$2:$E$1500)),ROW(10:10))-1,1),"")} -> 45 MPa concrete without air GUL 35 SL | AG16: {=IFERROR(INDEX('CAC EPDs'!$F$2:$F$1500,SMALL(IF('CAC EPDs'!$E$2:$E$1500=Lists!AG$6,ROW('CAC EPDs'!$E$2:$E$1500)),ROW(10:10))-1,1),"")} | AH16: {=IFERROR(INDEX('CAC EPDs'!$F$2:$F$1500,SMALL(IF('CAC EPDs'!$E$2:$E$1500=Lists!AH$6,ROW('CAC EPDs'!$E$2:$E$1500)),ROW(10:10))-1,1),"")} | ... EN16: {=IFERROR(INDEX('CAC EPDs'!$F$2:$F$1500,SMALL(IF('CAC EPDs'!$E$2:$E$1500=Lists!EN$6,ROW('CAC EPDs'!$E$2:$E$1500)),ROW(10:10))-1,1),"")} -> Flowable Fill (MHI U-Fill) GUL 30 FA | FH16: Cold-Rolled Sheet, Strip, Plate
S17: 70 | Y17: Ontario,20,Yes | AA17: {=IFERROR(INDEX('CAC EPDs'!$F$2:$F$1500,SMALL(IF('CAC EPDs'!$E$2:$E$1500=Lists!AA$6,ROW('CAC EPDs'!$E$2:$E$1500)),ROW(11:11))-1,1),"")} -> 20 MPa concrete without air GUL 50 SL | AB17: {=IFERROR(INDEX('CAC EPDs'!$F$2:$F$1500,SMALL(IF('CAC EPDs'!$E$2:$E$1500=Lists!AB$6,ROW('CAC EPDs'!$E$2:$E$1500)),ROW(11:11))-1,1),"")} -> 25 MPa concrete without air GUL 50 SL | AC17: {=IFERROR(INDEX('CAC EPDs'!$F$2:$F$1500,SMALL(IF('CAC EPDs'!$E$2:$E$1500=Lists!AC$6,ROW('CAC EPDs'!$E$2:$E$1500)),ROW(11:11))-1,1),"")} -> 30 MPa concrete without air GUL 50 SL | AD17: {=IFERROR(INDEX('CAC EPDs'!$F$2:$F$1500,SMALL(IF('CAC EPDs'!$E$2:$E$1500=Lists!AD$6,ROW('CAC EPDs'!$E$2:$E$1500)),ROW(11:11))-1,1),"")} -> 35 MPa concrete without air GUL 50 SL | AE17: {=IFERROR(INDEX('CAC EPDs'!$F$2:$F$1500,SMALL(IF('CAC EPDs'!$E$2:$E$1500=Lists!AE$6,ROW('CAC EPDs'!$E$2:$E$1500)),ROW(11:11))-1,1),"")} -> 40 MPa concrete without air GUL 50 SL | AF17: {=IFERROR(INDEX('CAC EPDs'!$F$2:$F$1500,SMALL(IF('CAC EPDs'!$E$2:$E$1500=Lists!AF$6,ROW('CAC EPDs'!$E$2:$E$1500)),ROW(11:11))-1,1),"")} -> 45 MPa concrete without air GUL 50 SL | AG17: {=IFERROR(INDEX('CAC EPDs'!$F$2:$F$1500,SMALL(IF('CAC EPDs'!$E$2:$E$1500=Lists!AG$6,ROW('CAC EPDs'!$E$2:$E$1500)),ROW(11:11))-1,1),"")} | AH17: {=IFERROR(INDEX('CAC EPDs'!$F$2:$F$1500,SMALL(IF('CAC EPDs'!$E$2:$E$1500=Lists!AH$6,ROW('CAC EPDs'!$E$2:$E$1500)),ROW(11:11))-1,1),"")} | ... EN17: {=IFERROR(INDEX('CAC EPDs'!$F$2:$F$1500,SMALL(IF('CAC EPDs'!$E$2:$E$1500=Lists!EN$6,ROW('CAC EPDs'!$E$2:$E$1500)),ROW(11:11))-1,1),"")} -> Flowable Fill (MHI U-Fill) GUL 40 FA | FH17: Rebar
Y18: Ontario,25,Yes | AA18: {=IFERROR(INDEX('CAC EPDs'!$F$2:$F$1500,SMALL(IF('CAC EPDs'!$E$2:$E$1500=Lists!AA$6,ROW('CAC EPDs'!$E$2:$E$1500)),ROW(12:12))-1,1),"")} | AB18: {=IFERROR(INDEX('CAC EPDs'!$F$2:$F$1500,SMALL(IF('CAC EPDs'!$E$2:$E$1500=Lists!AB$6,ROW('CAC EPDs'!$E$2:$E$1500)),ROW(12:12))-1,1),"")} -> Baseline 25 MPa concrete without air & 0.55 w/cm (N-CF) GU 10 SL | AC18: {=IFERROR(INDEX('CAC EPDs'!$F$2:$F$1500,SMALL(IF('CAC EPDs'!$E$2:$E$1500=Lists!AC$6,ROW('CAC EPDs'!$E$2:$E$1500)),ROW(12:12))-1,1),"")} | AD18: {=IFERROR(INDEX('CAC EPDs'!$F$2:$F$1500,SMALL(IF('CAC EPDs'!$E$2:$E$1500=Lists!AD$6,ROW('CAC EPDs'!$E$2:$E$1500)),ROW(12:12))-1,1),"")} | AE18: {=IFERROR(INDEX('CAC EPDs'!$F$2:$F$1500,SMALL(IF('CAC EPDs'!$E$2:$E$1500=Lists!AE$6,ROW('CAC EPDs'!$E$2:$E$1500)),ROW(12:12))-1,1),"")} | AF18: {=IFERROR(INDEX('CAC EPDs'!$F$2:$F$1500,SMALL(IF('CAC EPDs'!$E$2:$E$1500=Lists!AF$6,ROW('CAC EPDs'!$E$2:$E$1500)),ROW(12:12))-1,1),"")} | AG18: {=IFERROR(INDEX('CAC EPDs'!$F$2:$F$1500,SMALL(IF('CAC EPDs'!$E$2:$E$1500=Lists!AG$6,ROW('CAC EPDs'!$E$2:$E$1500)),ROW(12:12))-1,1),"")} | AH18: {=IFERROR(INDEX('CAC EPDs'!$F$2:$F$1500,SMALL(IF('CAC EPDs'!$E$2:$E$1500=Lists!AH$6,ROW('CAC EPDs'!$E$2:$E$1500)),ROW(12:12))-1,1),"")} | ... EN18: {=IFERROR(INDEX('CAC EPDs'!$F$2:$F$1500,SMALL(IF('CAC EPDs'!$E$2:$E$1500=Lists!EN$6,ROW('CAC EPDs'!$E$2:$E$1500)),ROW(12:12))-1,1),"")} | FH18: Hot-Rolled Sections
Y19: Ontario,30,Yes | AA19: {=IFERROR(INDEX('CAC EPDs'!$F$2:$F$1500,SMALL(IF('CAC EPDs'!$E$2:$E$1500=Lists!AA$6,ROW('CAC EPDs'!$E$2:$E$1500)),ROW(13:13))-1,1),"")} | AB19: {=IFERROR(INDEX('CAC EPDs'!$F$2:$F$1500,SMALL(IF('CAC EPDs'!$E$2:$E$1500=Lists!AB$6,ROW('CAC EPDs'!$E$2:$E$1500)),ROW(13:13))-1,1),"")} -> 25 MPa concrete without air & 0.55 w/cm (N-CF) GU | AC19: {=IFERROR(INDEX('CAC EPDs'!$F$2:$F$1500,SMALL(IF('CAC EPDs'!$E$2:$E$1500=Lists!AC$6,ROW('CAC EPDs'!$E$2:$E$1500)),ROW(13:13))-1,1),"")} | AD19: {=IFERROR(INDEX('CAC EPDs'!$F$2:$F$1500,SMALL(IF('CAC EPDs'!$E$2:$E$1500=Lists!AD$6,ROW('CAC EPDs'!$E$2:$E$1500)),ROW(13:13))-1,1),"")} | AE19: {=IFERROR(INDEX('CAC EPDs'!$F$2:$F$1500,SMALL(IF('CAC EPDs'!$E$2:$E$1500=Lists!AE$6,ROW('CAC EPDs'!$E$2:$E$1500)),ROW(13:13))-1,1),"")} | AF19: {=IFERROR(INDEX('CAC EPDs'!$F$2:$F$1500,SMALL(IF('CAC EPDs'!$E$2:$E$1500=Lists!AF$6,ROW('CAC EPDs'!$E$2:$E$1500)),ROW(13:13))-1,1),"")} | AG19: {=IFERROR(INDEX('CAC EPDs'!$F$2:$F$1500,SMALL(IF('CAC EPDs'!$E$2:$E$1500=Lists!AG$6,ROW('CAC EPDs'!$E$2:$E$1500)),ROW(13:13))-1,1),"")} | AH19: {=IFERROR(INDEX('CAC EPDs'!$F$2:$F$1500,SMALL(IF('CAC EPDs'!$E$2:$E$1500=Lists!AH$6,ROW('CAC EPDs'!$E$2:$E$1500)),ROW(13:13))-1,1),"")} | ... EN19: {=IFERROR(INDEX('CAC EPDs'!$F$2:$F$1500,SMALL(IF('CAC EPDs'!$E$2:$E$1500=Lists!EN$6,ROW('CAC EPDs'!$E$2:$E$1500)),ROW(13:13))-1,1),"")} | FH19: Hollow Structural Sections
Y20: Ontario,32,Yes | AA20: {=IFERROR(INDEX('CAC EPDs'!$F$2:$F$1500,SMALL(IF('CAC EPDs'!$E$2:$E$1500=Lists!AA$6,ROW('CAC EPDs'!$E$2:$E$1500)),ROW(14:14))-1,1),"")} | AB20: {=IFERROR(INDEX('CAC EPDs'!$F$2:$F$1500,SMALL(IF('CAC EPDs'!$E$2:$E$1500=Lists!AB$6,ROW('CAC EPDs'!$E$2:$E$1500)),ROW(14:14))-1,1),"")} -> 25 MPa concrete without air & 0.55 w/cm (N-CF) GU 15 SL | AC20: {=IFERROR(INDEX('CAC EPDs'!$F$2:$F$1500,SMALL(IF('CAC EPDs'!$E$2:$E$1500=Lists!AC$6,ROW('CAC EPDs'!$E$2:$E$1500)),ROW(14:14))-1,1),"")} | AD20: {=IFERROR(INDEX('CAC EPDs'!$F$2:$F$1500,SMALL(IF('CAC EPDs'!$E$2:$E$1500=Lists!AD$6,ROW('CAC EPDs'!$E$2:$E$1500)),ROW(14:14))-1,1),"")} | AE20: {=IFERROR(INDEX('CAC EPDs'!$F$2:$F$1500,SMALL(IF('CAC EPDs'!$E$2:$E$1500=Lists!AE$6,ROW('CAC EPDs'!$E$2:$E$1500)),ROW(14:14))-1,1),"")} | AF20: {=IFERROR(INDEX('CAC EPDs'!$F$2:$F$1500,SMALL(IF('CAC EPDs'!$E$2:$E$1500=Lists!AF$6,ROW('CAC EPDs'!$E$2:$E$1500)),ROW(14:14))-1,1),"")} | AG20: {=IFERROR(INDEX('CAC EPDs'!$F$2:$F$1500,SMALL(IF('CAC EPDs'!$E$2:$E$1500=Lists!AG$6,ROW('CAC EPDs'!$E$2:$E$1500)),ROW(14:14))-1,1),"")} | AH20: {=IFERROR(INDEX('CAC EPDs'!$F$2:$F$1500,SMALL(IF('CAC EPDs'!$E$2:$E$1500=Lists!AH$6,ROW('CAC EPDs'!$E$2:$E$1500)),ROW(14:14))-1,1),"")} | ... EN20: {=IFERROR(INDEX('CAC EPDs'!$F$2:$F$1500,SMALL(IF('CAC EPDs'!$E$2:$E$1500=Lists!EN$6,ROW('CAC EPDs'!$E$2:$E$1500)),ROW(14:14))-1,1),"")} | FH20: Structural Plate
Y21: Ontario,35,Yes | AA21: {=IFERROR(INDEX('CAC EPDs'!$F$2:$F$1500,SMALL(IF('CAC EPDs'!$E$2:$E$1500=Lists!AA$6,ROW('CAC EPDs'!$E$2:$E$1500)),ROW(15:15))-1,1),"")} | AB21: {=IFERROR(INDEX('CAC EPDs'!$F$2:$F$1500,SMALL(IF('CAC EPDs'!$E$2:$E$1500=Lists!AB$6,ROW('CAC EPDs'!$E$2:$E$1500)),ROW(15:15))-1,1),"")} -> 25 MPa concrete without air & 0.55 w/cm (N-CF) GU 25 SL | AC21: {=IFERROR(INDEX('CAC EPDs'!$F$2:$F$1500,SMALL(IF('CAC EPDs'!$E$2:$E$1500=Lists!AC$6,ROW('CAC EPDs'!$E$2:$E$1500)),ROW(15:15))-1,1),"")} | AD21: {=IFERROR(INDEX('CAC EPDs'!$F$2:$F$1500,SMALL(IF('CAC EPDs'!$E$2:$E$1500=Lists!AD$6,ROW('CAC EPDs'!$E$2:$E$1500)),ROW(15:15))-1,1),"")} | AE21: {=IFERROR(INDEX('CAC EPDs'!$F$2:$F$1500,SMALL(IF('CAC EPDs'!$E$2:$E$1500=Lists!AE$6,ROW('CAC EPDs'!$E$2:$E$1500)),ROW(15:15))-1,1),"")} | AF21: {=IFERROR(INDEX('CAC EPDs'!$F$2:$F$1500,SMALL(IF('CAC EPDs'!$E$2:$E$1500=Lists!AF$6,ROW('CAC EPDs'!$E$2:$E$1500)),ROW(15:15))-1,1),"")} | AG21: {=IFERROR(INDEX('CAC EPDs'!$F$2:$F$1500,SMALL(IF('CAC EPDs'!$E$2:$E$1500=Lists!AG$6,ROW('CAC EPDs'!$E$2:$E$1500)),ROW(15:15))-1,1),"")} | AH21: {=IFERROR(INDEX('CAC EPDs'!$F$2:$F$1500,SMALL(IF('CAC EPDs'!$E$2:$E$1500=Lists!AH$6,ROW('CAC EPDs'!$E$2:$E$1500)),ROW(15:15))-1,1),"")} | ... EN21: {=IFERROR(INDEX('CAC EPDs'!$F$2:$F$1500,SMALL(IF('CAC EPDs'!$E$2:$E$1500=Lists!EN$6,ROW('CAC EPDs'!$E$2:$E$1500)),ROW(15:15))-1,1),"")}
Y22: Ontario,40,Yes | AA22: {=IFERROR(INDEX('CAC EPDs'!$F$2:$F$1500,SMALL(IF('CAC EPDs'!$E$2:$E$1500=Lists!AA$6,ROW('CAC EPDs'!$E$2:$E$1500)),ROW(16:16))-1,1),"")} | AB22: {=IFERROR(INDEX('CAC EPDs'!$F$2:$F$1500,SMALL(IF('CAC EPDs'!$E$2:$E$1500=Lists!AB$6,ROW('CAC EPDs'!$E$2:$E$1500)),ROW(16:16))-1,1),"")} -> 25 MPa concrete without air & 0.55 w/cm (N-CF) GU 35 SL | AC22: {=IFERROR(INDEX('CAC EPDs'!$F$2:$F$1500,SMALL(IF('CAC EPDs'!$E$2:$E$1500=Lists!AC$6,ROW('CAC EPDs'!$E$2:$E$1500)),ROW(16:16))-1,1),"")} | AD22: {=IFERROR(INDEX('CAC EPDs'!$F$2:$F$1500,SMALL(IF('CAC EPDs'!$E$2:$E$1500=Lists!AD$6,ROW('CAC EPDs'!$E$2:$E$1500)),ROW(16:16))-1,1),"")} | AE22: {=IFERROR(INDEX('CAC EPDs'!$F$2:$F$1500,SMALL(IF('CAC EPDs'!$E$2:$E$1500=Lists!AE$6,ROW('CAC EPDs'!$E$2:$E$1500)),ROW(16:16))-1,1),"")} | AF22: {=IFERROR(INDEX('CAC EPDs'!$F$2:$F$1500,SMALL(IF('CAC EPDs'!$E$2:$E$1500=Lists!AF$6,ROW('CAC EPDs'!$E$2:$E$1500)),ROW(16:16))-1,1),"")} | AG22: {=IFERROR(INDEX('CAC EPDs'!$F$2:$F$1500,SMALL(IF('CAC EPDs'!$E$2:$E$1500=Lists!AG$6,ROW('CAC EPDs'!$E$2:$E$1500)),ROW(16:16))-1,1),"")} | AH22: {=IFERROR(INDEX('CAC EPDs'!$F$2:$F$1500,SMALL(IF('CAC EPDs'!$E$2:$E$1500=Lists!AH$6,ROW('CAC EPDs'!$E$2:$E$1500)),ROW(16:16))-1,1),"")} | ... EN22: {=IFERROR(INDEX('CAC EPDs'!$F$2:$F$1500,SMALL(IF('CAC EPDs'!$E$2:$E$1500=Lists!EN$6,ROW('CAC EPDs'!$E$2:$E$1500)),ROW(16:16))-1,1),"")}
Y23: Ontario,45,Yes | AA23: {=IFERROR(INDEX('CAC EPDs'!$F$2:$F$1500,SMALL(IF('CAC EPDs'!$E$2:$E$1500=Lists!AA$6,ROW('CAC EPDs'!$E$2:$E$1500)),ROW(17:17))-1,1),"")} | AB23: {=IFERROR(INDEX('CAC EPDs'!$F$2:$F$1500,SMALL(IF('CAC EPDs'!$E$2:$E$1500=Lists!AB$6,ROW('CAC EPDs'!$E$2:$E$1500)),ROW(17:17))-1,1),"")} -> 25 MPa concrete without air & 0.55 w/cm (N-CF) GUL | AC23: {=IFERROR(INDEX('CAC EPDs'!$F$2:$F$1500,SMALL(IF('CAC EPDs'!$E$2:$E$1500=Lists!AC$6,ROW('CAC EPDs'!$E$2:$E$1500)),ROW(17:17))-1,1),"")} | AD23: {=IFERROR(INDEX('CAC EPDs'!$F$2:$F$1500,SMALL(IF('CAC EPDs'!$E$2:$E$1500=Lists!AD$6,ROW('CAC EPDs'!$E$2:$E$1500)),ROW(17:17))-1,1),"")} | AE23: {=IFERROR(INDEX('CAC EPDs'!$F$2:$F$1500,SMALL(IF('CAC EPDs'!$E$2:$E$1500=Lists!AE$6,ROW('CAC EPDs'!$E$2:$E$1500)),ROW(17:17))-1,1),"")} | AF23: {=IFERROR(INDEX('CAC EPDs'!$F$2:$F$1500,SMALL(IF('CAC EPDs'!$E$2:$E$1500=Lists!AF$6,ROW('CAC EPDs'!$E$2:$E$1500)),ROW(17:17))-1,1),"")} | AG23: {=IFERROR(INDEX('CAC EPDs'!$F$2:$F$1500,SMALL(IF('CAC EPDs'!$E$2:$E$1500=Lists!AG$6,ROW('CAC EPDs'!$E$2:$E$1500)),ROW(17:17))-1,1),"")} | AH23: {=IFERROR(INDEX('CAC EPDs'!$F$2:$F$1500,SMALL(IF('CAC EPDs'!$E$2:$E$1500=Lists!AH$6,ROW('CAC EPDs'!$E$2:$E$1500)),ROW(17:17))-1,1),"")} | ... EN23: {=IFERROR(INDEX('CAC EPDs'!$F$2:$F$1500,SMALL(IF('CAC EPDs'!$E$2:$E$1500=Lists!EN$6,ROW('CAC EPDs'!$E$2:$E$1500)),ROW(17:17))-1,1),"")}
Y24: Ontario,50,Yes | AA24: {=IFERROR(INDEX('CAC EPDs'!$F$2:$F$1500,SMALL(IF('CAC EPDs'!$E$2:$E$1500=Lists!AA$6,ROW('CAC EPDs'!$E$2:$E$1500)),ROW(18:18))-1,1),"")} | AB24: {=IFERROR(INDEX('CAC EPDs'!$F$2:$F$1500,SMALL(IF('CAC EPDs'!$E$2:$E$1500=Lists!AB$6,ROW('CAC EPDs'!$E$2:$E$1500)),ROW(18:18))-1,1),"")} -> 25 MPa concrete without air & 0.55 w/cm (N-CF) GUL 15 SL | AC24: {=IFERROR(INDEX('CAC EPDs'!$F$2:$F$1500,SMALL(IF('CAC EPDs'!$E$2:$E$1500=Lists!AC$6,ROW('CAC EPDs'!$E$2:$E$1500)),ROW(18:18))-1,1),"")} | AD24: {=IFERROR(INDEX('CAC EPDs'!$F$2:$F$1500,SMALL(IF('CAC EPDs'!$E$2:$E$1500=Lists!AD$6,ROW('CAC EPDs'!$E$2:$E$1500)),ROW(18:18))-1,1),"")} | AE24: {=IFERROR(INDEX('CAC EPDs'!$F$2:$F$1500,SMALL(IF('CAC EPDs'!$E$2:$E$1500=Lists!AE$6,ROW('CAC EPDs'!$E$2:$E$1500)),ROW(18:18))-1,1),"")} | AF24: {=IFERROR(INDEX('CAC EPDs'!$F$2:$F$1500,SMALL(IF('CAC EPDs'!$E$2:$E$1500=Lists!AF$6,ROW('CAC EPDs'!$E$2:$E$1500)),ROW(18:18))-1,1),"")} | AG24: {=IFERROR(INDEX('CAC EPDs'!$F$2:$F$1500,SMALL(IF('CAC EPDs'!$E$2:$E$1500=Lists!AG$6,ROW('CAC EPDs'!$E$2:$E$1500)),ROW(18:18))-1,1),"")} | AH24: {=IFERROR(INDEX('CAC EPDs'!$F$2:$F$1500,SMALL(IF('CAC EPDs'!$E$2:$E$1500=Lists!AH$6,ROW('CAC EPDs'!$E$2:$E$1500)),ROW(18:18))-1,1),"")} | ... EN24: {=IFERROR(INDEX('CAC EPDs'!$F$2:$F$1500,SMALL(IF('CAC EPDs'!$E$2:$E$1500=Lists!EN$6,ROW('CAC EPDs'!$E$2:$E$1500)),ROW(18:18))-1,1),"")}
Y25: Atlantic,20,No | AA25: {=IFERROR(INDEX('CAC EPDs'!$F$2:$F$1500,SMALL(IF('CAC EPDs'!$E$2:$E$1500=Lists!AA$6,ROW('CAC EPDs'!$E$2:$E$1500)),ROW(19:19))-1,1),"")} | AB25: {=IFERROR(INDEX('CAC EPDs'!$F$2:$F$1500,SMALL(IF('CAC EPDs'!$E$2:$E$1500=Lists!AB$6,ROW('CAC EPDs'!$E$2:$E$1500)),ROW(19:19))-1,1),"")} -> 25 MPa concrete without air & 0.55 w/cm (N-CF) GUL 25 SL | AC25: {=IFERROR(INDEX('CAC EPDs'!$F$2:$F$1500,SMALL(IF('CAC EPDs'!$E$2:$E$1500=Lists!AC$6,ROW('CAC EPDs'!$E$2:$E$1500)),ROW(19:19))-1,1),"")} | AD25: {=IFERROR(INDEX('CAC EPDs'!$F$2:$F$1500,SMALL(IF('CAC EPDs'!$E$2:$E$1500=Lists!AD$6,ROW('CAC EPDs'!$E$2:$E$1500)),ROW(19:19))-1,1),"")} | AE25: {=IFERROR(INDEX('CAC EPDs'!$F$2:$F$1500,SMALL(IF('CAC EPDs'!$E$2:$E$1500=Lists!AE$6,ROW('CAC EPDs'!$E$2:$E$1500)),ROW(19:19))-1,1),"")} | AF25: {=IFERROR(INDEX('CAC EPDs'!$F$2:$F$1500,SMALL(IF('CAC EPDs'!$E$2:$E$1500=Lists!AF$6,ROW('CAC EPDs'!$E$2:$E$1500)),ROW(19:19))-1,1),"")} | AG25: {=IFERROR(INDEX('CAC EPDs'!$F$2:$F$1500,SMALL(IF('CAC EPDs'!$E$2:$E$1500=Lists!AG$6,ROW('CAC EPDs'!$E$2:$E$1500)),ROW(19:19))-1,1),"")} | AH25: {=IFERROR(INDEX('CAC EPDs'!$F$2:$F$1500,SMALL(IF('CAC EPDs'!$E$2:$E$1500=Lists!AH$6,ROW('CAC EPDs'!$E$2:$E$1500)),ROW(19:19))-1,1),"")} | ... EN25: {=IFERROR(INDEX('CAC EPDs'!$F$2:$F$1500,SMALL(IF('CAC EPDs'!$E$2:$E$1500=Lists!EN$6,ROW('CAC EPDs'!$E$2:$E$1500)),ROW(19:19))-1,1),"")}
Y26: Atlantic,20,Yes | AA26: {=IFERROR(INDEX('CAC EPDs'!$F$2:$F$1500,SMALL(IF('CAC EPDs'!$E$2:$E$1500=Lists!AA$6,ROW('CAC EPDs'!$E$2:$E$1500)),ROW(20:20))-1,1),"")} | AB26: {=IFERROR(INDEX('CAC EPDs'!$F$2:$F$1500,SMALL(IF('CAC EPDs'!$E$2:$E$1500=Lists!AB$6,ROW('CAC EPDs'!$E$2:$E$1500)),ROW(20:20))-1,1),"")} -> 25 MPa concrete without air & 0.55 w/cm (N-CF) GUL 35 SL | AC26: {=IFERROR(INDEX('CAC EPDs'!$F$2:$F$1500,SMALL(IF('CAC EPDs'!$E$2:$E$1500=Lists!AC$6,ROW('CAC EPDs'!$E$2:$E$1500)),ROW(20:20))-1,1),"")} | AD26: {=IFERROR(INDEX('CAC EPDs'!$F$2:$F$1500,SMALL(IF('CAC EPDs'!$E$2:$E$1500=Lists!AD$6,ROW('CAC EPDs'!$E$2:$E$1500)),ROW(20:20))-1,1),"")} | AE26: {=IFERROR(INDEX('CAC EPDs'!$F$2:$F$1500,SMALL(IF('CAC EPDs'!$E$2:$E$1500=Lists!AE$6,ROW('CAC EPDs'!$E$2:$E$1500)),ROW(20:20))-1,1),"")} | AF26: {=IFERROR(INDEX('CAC EPDs'!$F$2:$F$1500,SMALL(IF('CAC EPDs'!$E$2:$E$1500=Lists!AF$6,ROW('CAC EPDs'!$E$2:$E$1500)),ROW(20:20))-1,1),"")} | AG26: {=IFERROR(INDEX('CAC EPDs'!$F$2:$F$1500,SMALL(IF('CAC EPDs'!$E$2:$E$1500=Lists!AG$6,ROW('CAC EPDs'!$E$2:$E$1500)),ROW(20:20))-1,1),"")} | AH26: {=IFERROR(INDEX('CAC EPDs'!$F$2:$F$1500,SMALL(IF('CAC EPDs'!$E$2:$E$1500=Lists!AH$6,ROW('CAC EPDs'!$E$2:$E$1500)),ROW(20:20))-1,1),"")} | ... EN26: {=IFERROR(INDEX('CAC EPDs'!$F$2:$F$1500,SMALL(IF('CAC EPDs'!$E$2:$E$1500=Lists!EN$6,ROW('CAC EPDs'!$E$2:$E$1500)),ROW(20:20))-1,1),"")}
Y27: Atlantic,25,No | AA27: {=IFERROR(INDEX('CAC EPDs'!$F$2:$F$1500,SMALL(IF('CAC EPDs'!$E$2:$E$1500=Lists!AA$6,ROW('CAC EPDs'!$E$2:$E$1500)),ROW(21:21))-1,1),"")} | AB27: {=IFERROR(INDEX('CAC EPDs'!$F$2:$F$1500,SMALL(IF('CAC EPDs'!$E$2:$E$1500=Lists!AB$6,ROW('CAC EPDs'!$E$2:$E$1500)),ROW(21:21))-1,1),"")} | AC27: {=IFERROR(INDEX('CAC EPDs'!$F$2:$F$1500,SMALL(IF('CAC EPDs'!$E$2:$E$1500=Lists!AC$6,ROW('CAC EPDs'!$E$2:$E$1500)),ROW(21:21))-1,1),"")} | AD27: {=IFERROR(INDEX('CAC EPDs'!$F$2:$F$1500,SMALL(IF('CAC EPDs'!$E$2:$E$1500=Lists!AD$6,ROW('CAC EPDs'!$E$2:$E$1500)),ROW(21:21))-1,1),"")} | AE27: {=IFERROR(INDEX('CAC EPDs'!$F$2:$F$1500,SMALL(IF('CAC EPDs'!$E$2:$E$1500=Lists!AE$6,ROW('CAC EPDs'!$E$2:$E$1500)),ROW(21:21))-1,1),"")} | AF27: {=IFERROR(INDEX('CAC EPDs'!$F$2:$F$1500,SMALL(IF('CAC EPDs'!$E$2:$E$1500=Lists!AF$6,ROW('CAC EPDs'!$E$2:$E$1500)),ROW(21:21))-1,1),"")} | AG27: {=IFERROR(INDEX('CAC EPDs'!$F$2:$F$1500,SMALL(IF('CAC EPDs'!$E$2:$E$1500=Lists!AG$6,ROW('CAC EPDs'!$E$2:$E$1500)),ROW(21:21))-1,1),"")} | AH27: {=IFERROR(INDEX('CAC EPDs'!$F$2:$F$1500,SMALL(IF('CAC EPDs'!$E$2:$E$1500=Lists!AH$6,ROW('CAC EPDs'!$E$2:$E$1500)),ROW(21:21))-1,1),"")} | ... EN27: {=IFERROR(INDEX('CAC EPDs'!$F$2:$F$1500,SMALL(IF('CAC EPDs'!$E$2:$E$1500=Lists!EN$6,ROW('CAC EPDs'!$E$2:$E$1500)),ROW(21:21))-1,1),"")}
Y28: Atlantic,25,Yes | AA28: {=IFERROR(INDEX('CAC EPDs'!$F$2:$F$1500,SMALL(IF('CAC EPDs'!$E$2:$E$1500=Lists!AA$6,ROW('CAC EPDs'!$E$2:$E$1500)),ROW(22:22))-1,1),"")} | AB28: {=IFERROR(INDEX('CAC EPDs'!$F$2:$F$1500,SMALL(IF('CAC EPDs'!$E$2:$E$1500=Lists!AB$6,ROW('CAC EPDs'!$E$2:$E$1500)),ROW(22:22))-1,1),"")} | AC28: {=IFERROR(INDEX('CAC EPDs'!$F$2:$F$1500,SMALL(IF('CAC EPDs'!$E$2:$E$1500=Lists!AC$6,ROW('CAC EPDs'!$E$2:$E$1500)),ROW(22:22))-1,1),"")} | AD28: {=IFERROR(INDEX('CAC EPDs'!$F$2:$F$1500,SMALL(IF('CAC EPDs'!$E$2:$E$1500=Lists!AD$6,ROW('CAC EPDs'!$E$2:$E$1500)),ROW(22:22))-1,1),"")} | AE28: {=IFERROR(INDEX('CAC EPDs'!$F$2:$F$1500,SMALL(IF('CAC EPDs'!$E$2:$E$1500=Lists!AE$6,ROW('CAC EPDs'!$E$2:$E$1500)),ROW(22:22))-1,1),"")} | AF28: {=IFERROR(INDEX('CAC EPDs'!$F$2:$F$1500,SMALL(IF('CAC EPDs'!$E$2:$E$1500=Lists!AF$6,ROW('CAC EPDs'!$E$2:$E$1500)),ROW(22:22))-1,1),"")} | AG28: {=IFERROR(INDEX('CAC EPDs'!$F$2:$F$1500,SMALL(IF('CAC EPDs'!$E$2:$E$1500=Lists!AG$6,ROW('CAC EPDs'!$E$2:$E$1500)),ROW(22:22))-1,1),"")} | AH28: {=IFERROR(INDEX('CAC EPDs'!$F$2:$F$1500,SMALL(IF('CAC EPDs'!$E$2:$E$1500=Lists!AH$6,ROW('CAC EPDs'!$E$2:$E$1500)),ROW(22:22))-1,1),"")} | ... EN28: {=IFERROR(INDEX('CAC EPDs'!$F$2:$F$1500,SMALL(IF('CAC EPDs'!$E$2:$E$1500=Lists!EN$6,ROW('CAC EPDs'!$E$2:$E$1500)),ROW(22:22))-1,1),"")}
Y29: Atlantic,30,No | AA29: {=IFERROR(INDEX('CAC EPDs'!$F$2:$F$1500,SMALL(IF('CAC EPDs'!$E$2:$E$1500=Lists!AA$6,ROW('CAC EPDs'!$E$2:$E$1500)),ROW(23:23))-1,1),"")} | AB29: {=IFERROR(INDEX('CAC EPDs'!$F$2:$F$1500,SMALL(IF('CAC EPDs'!$E$2:$E$1500=Lists!AB$6,ROW('CAC EPDs'!$E$2:$E$1500)),ROW(23:23))-1,1),"")} | AC29: {=IFERROR(INDEX('CAC EPDs'!$F$2:$F$1500,SMALL(IF('CAC EPDs'!$E$2:$E$1500=Lists!AC$6,ROW('CAC EPDs'!$E$2:$E$1500)),ROW(23:23))-1,1),"")} | AD29: {=IFERROR(INDEX('CAC EPDs'!$F$2:$F$1500,SMALL(IF('CAC EPDs'!$E$2:$E$1500=Lists!AD$6,ROW('CAC EPDs'!$E$2:$E$1500)),ROW(23:23))-1,1),"")} | AE29: {=IFERROR(INDEX('CAC EPDs'!$F$2:$F$1500,SMALL(IF('CAC EPDs'!$E$2:$E$1500=Lists!AE$6,ROW('CAC EPDs'!$E$2:$E$1500)),ROW(23:23))-1,1),"")} | AF29: {=IFERROR(INDEX('CAC EPDs'!$F$2:$F$1500,SMALL(IF('CAC EPDs'!$E$2:$E$1500=Lists!AF$6,ROW('CAC EPDs'!$E$2:$E$1500)),ROW(23:23))-1,1),"")} | AG29: {=IFERROR(INDEX('CAC EPDs'!$F$2:$F$1500,SMALL(IF('CAC EPDs'!$E$2:$E$1500=Lists!AG$6,ROW('CAC EPDs'!$E$2:$E$1500)),ROW(23:23))-1,1),"")} | AH29: {=IFERROR(INDEX('CAC EPDs'!$F$2:$F$1500,SMALL(IF('CAC EPDs'!$E$2:$E$1500=Lists!AH$6,ROW('CAC EPDs'!$E$2:$E$1500)),ROW(23:23))-1,1),"")} | ... EN29: {=IFERROR(INDEX('CAC EPDs'!$F$2:$F$1500,SMALL(IF('CAC EPDs'!$E$2:$E$1500=Lists!EN$6,ROW('CAC EPDs'!$E$2:$E$1500)),ROW(23:23))-1,1),"")}
Y30: Atlantic,30,Yes | AA30: {=IFERROR(INDEX('CAC EPDs'!$F$2:$F$1500,SMALL(IF('CAC EPDs'!$E$2:$E$1500=Lists!AA$6,ROW('CAC EPDs'!$E$2:$E$1500)),ROW(24:24))-1,1),"")} | AB30: {=IFERROR(INDEX('CAC EPDs'!$F$2:$F$1500,SMALL(IF('CAC EPDs'!$E$2:$E$1500=Lists!AB$6,ROW('CAC EPDs'!$E$2:$E$1500)),ROW(24:24))-1,1),"")} | AC30: {=IFERROR(INDEX('CAC EPDs'!$F$2:$F$1500,SMALL(IF('CAC EPDs'!$E$2:$E$1500=Lists!AC$6,ROW('CAC EPDs'!$E$2:$E$1500)),ROW(24:24))-1,1),"")} | AD30: {=IFERROR(INDEX('CAC EPDs'!$F$2:$F$1500,SMALL(IF('CAC EPDs'!$E$2:$E$1500=Lists!AD$6,ROW('CAC EPDs'!$E$2:$E$1500)),ROW(24:24))-1,1),"")} | AE30: {=IFERROR(INDEX('CAC EPDs'!$F$2:$F$1500,SMALL(IF('CAC EPDs'!$E$2:$E$1500=Lists!AE$6,ROW('CAC EPDs'!$E$2:$E$1500)),ROW(24:24))-1,1),"")} | AF30: {=IFERROR(INDEX('CAC EPDs'!$F$2:$F$1500,SMALL(IF('CAC EPDs'!$E$2:$E$1500=Lists!AF$6,ROW('CAC EPDs'!$E$2:$E$1500)),ROW(24:24))-1,1),"")} | AG30: {=IFERROR(INDEX('CAC EPDs'!$F$2:$F$1500,SMALL(IF('CAC EPDs'!$E$2:$E$1500=Lists!AG$6,ROW('CAC EPDs'!$E$2:$E$1500)),ROW(24:24))-1,1),"")} | AH30: {=IFERROR(INDEX('CAC EPDs'!$F$2:$F$1500,SMALL(IF('CAC EPDs'!$E$2:$E$1500=Lists!AH$6,ROW('CAC EPDs'!$E$2:$E$1500)),ROW(24:24))-1,1),"")} | ... EN30: {=IFERROR(INDEX('CAC EPDs'!$F$2:$F$1500,SMALL(IF('CAC EPDs'!$E$2:$E$1500=Lists!EN$6,ROW('CAC EPDs'!$E$2:$E$1500)),ROW(24:24))-1,1),"")}
Y31: Atlantic,32,Yes | AA31: {=IFERROR(INDEX('CAC EPDs'!$F$2:$F$1500,SMALL(IF('CAC EPDs'!$E$2:$E$1500=Lists!AA$6,ROW('CAC EPDs'!$E$2:$E$1500)),ROW(25:25))-1,1),"")} | AB31: {=IFERROR(INDEX('CAC EPDs'!$F$2:$F$1500,SMALL(IF('CAC EPDs'!$E$2:$E$1500=Lists!AB$6,ROW('CAC EPDs'!$E$2:$E$1500)),ROW(25:25))-1,1),"")} | AC31: {=IFERROR(INDEX('CAC EPDs'!$F$2:$F$1500,SMALL(IF('CAC EPDs'!$E$2:$E$1500=Lists!AC$6,ROW('CAC EPDs'!$E$2:$E$1500)),ROW(25:25))-1,1),"")} | AD31: {=IFERROR(INDEX('CAC EPDs'!$F$2:$F$1500,SMALL(IF('CAC EPDs'!$E$2:$E$1500=Lists!AD$6,ROW('CAC EPDs'!$E$2:$E$1500)),ROW(25:25))-1,1),"")} | AE31: {=IFERROR(INDEX('CAC EPDs'!$F$2:$F$1500,SMALL(IF('CAC EPDs'!$E$2:$E$1500=Lists!AE$6,ROW('CAC EPDs'!$E$2:$E$1500)),ROW(25:25))-1,1),"")} | AF31: {=IFERROR(INDEX('CAC EPDs'!$F$2:$F$1500,SMALL(IF('CAC EPDs'!$E$2:$E$1500=Lists!AF$6,ROW('CAC EPDs'!$E$2:$E$1500)),ROW(25:25))-1,1),"")} | AG31: {=IFERROR(INDEX('CAC EPDs'!$F$2:$F$1500,SMALL(IF('CAC EPDs'!$E$2:$E$1500=Lists!AG$6,ROW('CAC EPDs'!$E$2:$E$1500)),ROW(25:25))-1,1),"")} | AH31: {=IFERROR(INDEX('CAC EPDs'!$F$2:$F$1500,SMALL(IF('CAC EPDs'!$E$2:$E$1500=Lists!AH$6,ROW('CAC EPDs'!$E$2:$E$1500)),ROW(25:25))-1,1),"")} | ... EN31: {=IFERROR(INDEX('CAC EPDs'!$F$2:$F$1500,SMALL(IF('CAC EPDs'!$E$2:$E$1500=Lists!EN$6,ROW('CAC EPDs'!$E$2:$E$1500)),ROW(25:25))-1,1),"")}
Y32: Atlantic,35,No | AA32: {=IFERROR(INDEX('CAC EPDs'!$F$2:$F$1500,SMALL(IF('CAC EPDs'!$E$2:$E$1500=Lists!AA$6,ROW('CAC EPDs'!$E$2:$E$1500)),ROW(26:26))-1,1),"")} | AB32: {=IFERROR(INDEX('CAC EPDs'!$F$2:$F$1500,SMALL(IF('CAC EPDs'!$E$2:$E$1500=Lists!AB$6,ROW('CAC EPDs'!$E$2:$E$1500)),ROW(26:26))-1,1),"")} | AC32: {=IFERROR(INDEX('CAC EPDs'!$F$2:$F$1500,SMALL(IF('CAC EPDs'!$E$2:$E$1500=Lists!AC$6,ROW('CAC EPDs'!$E$2:$E$1500)),ROW(26:26))-1,1),"")} | AD32: {=IFERROR(INDEX('CAC EPDs'!$F$2:$F$1500,SMALL(IF('CAC EPDs'!$E$2:$E$1500=Lists!AD$6,ROW('CAC EPDs'!$E$2:$E$1500)),ROW(26:26))-1,1),"")} | AE32: {=IFERROR(INDEX('CAC EPDs'!$F$2:$F$1500,SMALL(IF('CAC EPDs'!$E$2:$E$1500=Lists!AE$6,ROW('CAC EPDs'!$E$2:$E$1500)),ROW(26:26))-1,1),"")} | AF32: {=IFERROR(INDEX('CAC EPDs'!$F$2:$F$1500,SMALL(IF('CAC EPDs'!$E$2:$E$1500=Lists!AF$6,ROW('CAC EPDs'!$E$2:$E$1500)),ROW(26:26))-1,1),"")} | AG32: {=IFERROR(INDEX('CAC EPDs'!$F$2:$F$1500,SMALL(IF('CAC EPDs'!$E$2:$E$1500=Lists!AG$6,ROW('CAC EPDs'!$E$2:$E$1500)),ROW(26:26))-1,1),"")} | AH32: {=IFERROR(INDEX('CAC EPDs'!$F$2:$F$1500,SMALL(IF('CAC EPDs'!$E$2:$E$1500=Lists!AH$6,ROW('CAC EPDs'!$E$2:$E$1500)),ROW(26:26))-1,1),"")} | ... EN32: {=IFERROR(INDEX('CAC EPDs'!$F$2:$F$1500,SMALL(IF('CAC EPDs'!$E$2:$E$1500=Lists!EN$6,ROW('CAC EPDs'!$E$2:$E$1500)),ROW(26:26))-1,1),"")}
Y33: Atlantic,35,Yes | AA33: {=IFERROR(INDEX('CAC EPDs'!$F$2:$F$1500,SMALL(IF('CAC EPDs'!$E$2:$E$1500=Lists!AA$6,ROW('CAC EPDs'!$E$2:$E$1500)),ROW(27:27))-1,1),"")} | AB33: {=IFERROR(INDEX('CAC EPDs'!$F$2:$F$1500,SMALL(IF('CAC EPDs'!$E$2:$E$1500=Lists!AB$6,ROW('CAC EPDs'!$E$2:$E$1500)),ROW(27:27))-1,1),"")} | AC33: {=IFERROR(INDEX('CAC EPDs'!$F$2:$F$1500,SMALL(IF('CAC EPDs'!$E$2:$E$1500=Lists!AC$6,ROW('CAC EPDs'!$E$2:$E$1500)),ROW(27:27))-1,1),"")} | AD33: {=IFERROR(INDEX('CAC EPDs'!$F$2:$F$1500,SMALL(IF('CAC EPDs'!$E$2:$E$1500=Lists!AD$6,ROW('CAC EPDs'!$E$2:$E$1500)),ROW(27:27))-1,1),"")} | AE33: {=IFERROR(INDEX('CAC EPDs'!$F$2:$F$1500,SMALL(IF('CAC EPDs'!$E$2:$E$1500=Lists!AE$6,ROW('CAC EPDs'!$E$2:$E$1500)),ROW(27:27))-1,1),"")} | AF33: {=IFERROR(INDEX('CAC EPDs'!$F$2:$F$1500,SMALL(IF('CAC EPDs'!$E$2:$E$1500=Lists!AF$6,ROW('CAC EPDs'!$E$2:$E$1500)),ROW(27:27))-1,1),"")} | AG33: {=IFERROR(INDEX('CAC EPDs'!$F$2:$F$1500,SMALL(IF('CAC EPDs'!$E$2:$E$1500=Lists!AG$6,ROW('CAC EPDs'!$E$2:$E$1500)),ROW(27:27))-1,1),"")} | AH33: {=IFERROR(INDEX('CAC EPDs'!$F$2:$F$1500,SMALL(IF('CAC EPDs'!$E$2:$E$1500=Lists!AH$6,ROW('CAC EPDs'!$E$2:$E$1500)),ROW(27:27))-1,1),"")} | ... EN33: {=IFERROR(INDEX('CAC EPDs'!$F$2:$F$1500,SMALL(IF('CAC EPDs'!$E$2:$E$1500=Lists!EN$6,ROW('CAC EPDs'!$E$2:$E$1500)),ROW(27:27))-1,1),"")}
Y34: Atlantic,40,No | AA34: {=IFERROR(INDEX('CAC EPDs'!$F$2:$F$1500,SMALL(IF('CAC EPDs'!$E$2:$E$1500=Lists!AA$6,ROW('CAC EPDs'!$E$2:$E$1500)),ROW(28:28))-1,1),"")} | AB34: {=IFERROR(INDEX('CAC EPDs'!$F$2:$F$1500,SMALL(IF('CAC EPDs'!$E$2:$E$1500=Lists!AB$6,ROW('CAC EPDs'!$E$2:$E$1500)),ROW(28:28))-1,1),"")} | AC34: {=IFERROR(INDEX('CAC EPDs'!$F$2:$F$1500,SMALL(IF('CAC EPDs'!$E$2:$E$1500=Lists!AC$6,ROW('CAC EPDs'!$E$2:$E$1500)),ROW(28:28))-1,1),"")} | AD34: {=IFERROR(INDEX('CAC EPDs'!$F$2:$F$1500,SMALL(IF('CAC EPDs'!$E$2:$E$1500=Lists!AD$6,ROW('CAC EPDs'!$E$2:$E$1500)),ROW(28:28))-1,1),"")} | AE34: {=IFERROR(INDEX('CAC EPDs'!$F$2:$F$1500,SMALL(IF('CAC EPDs'!$E$2:$E$1500=Lists!AE$6,ROW('CAC EPDs'!$E$2:$E$1500)),ROW(28:28))-1,1),"")} | AF34: {=IFERROR(INDEX('CAC EPDs'!$F$2:$F$1500,SMALL(IF('CAC EPDs'!$E$2:$E$1500=Lists!AF$6,ROW('CAC EPDs'!$E$2:$E$1500)),ROW(28:28))-1,1),"")} | AG34: {=IFERROR(INDEX('CAC EPDs'!$F$2:$F$1500,SMALL(IF('CAC EPDs'!$E$2:$E$1500=Lists!AG$6,ROW('CAC EPDs'!$E$2:$E$1500)),ROW(28:28))-1,1),"")} | AH34: {=IFERROR(INDEX('CAC EPDs'!$F$2:$F$1500,SMALL(IF('CAC EPDs'!$E$2:$E$1500=Lists!AH$6,ROW('CAC EPDs'!$E$2:$E$1500)),ROW(28:28))-1,1),"")} | ... EN34: {=IFERROR(INDEX('CAC EPDs'!$F$2:$F$1500,SMALL(IF('CAC EPDs'!$E$2:$E$1500=Lists!EN$6,ROW('CAC EPDs'!$E$2:$E$1500)),ROW(28:28))-1,1),"")}
Y35: Atlantic,40,Yes | AA35: {=IFERROR(INDEX('CAC EPDs'!$F$2:$F$1500,SMALL(IF('CAC EPDs'!$E$2:$E$1500=Lists!AA$6,ROW('CAC EPDs'!$E$2:$E$1500)),ROW(29:29))-1,1),"")} | AB35: {=IFERROR(INDEX('CAC EPDs'!$F$2:$F$1500,SMALL(IF('CAC EPDs'!$E$2:$E$1500=Lists!AB$6,ROW('CAC EPDs'!$E$2:$E$1500)),ROW(29:29))-1,1),"")} | AC35: {=IFERROR(INDEX('CAC EPDs'!$F$2:$F$1500,SMALL(IF('CAC EPDs'!$E$2:$E$1500=Lists!AC$6,ROW('CAC EPDs'!$E$2:$E$1500)),ROW(29:29))-1,1),"")} | AD35: {=IFERROR(INDEX('CAC EPDs'!$F$2:$F$1500,SMALL(IF('CAC EPDs'!$E$2:$E$1500=Lists!AD$6,ROW('CAC EPDs'!$E$2:$E$1500)),ROW(29:29))-1,1),"")} | AE35: {=IFERROR(INDEX('CAC EPDs'!$F$2:$F$1500,SMALL(IF('CAC EPDs'!$E$2:$E$1500=Lists!AE$6,ROW('CAC EPDs'!$E$2:$E$1500)),ROW(29:29))-1,1),"")} | AF35: {=IFERROR(INDEX('CAC EPDs'!$F$2:$F$1500,SMALL(IF('CAC EPDs'!$E$2:$E$1500=Lists!AF$6,ROW('CAC EPDs'!$E$2:$E$1500)),ROW(29:29))-1,1),"")} | AG35: {=IFERROR(INDEX('CAC EPDs'!$F$2:$F$1500,SMALL(IF('CAC EPDs'!$E$2:$E$1500=Lists!AG$6,ROW('CAC EPDs'!$E$2:$E$1500)),ROW(29:29))-1,1),"")} | AH35: {=IFERROR(INDEX('CAC EPDs'!$F$2:$F$1500,SMALL(IF('CAC EPDs'!$E$2:$E$1500=Lists!AH$6,ROW('CAC EPDs'!$E$2:$E$1500)),ROW(29:29))-1,1),"")} | ... EN35: {=IFERROR(INDEX('CAC EPDs'!$F$2:$F$1500,SMALL(IF('CAC EPDs'!$E$2:$E$1500=Lists!EN$6,ROW('CAC EPDs'!$E$2:$E$1500)),ROW(29:29))-1,1),"")}
Y36: Atlantic,45,No | AA36: {=IFERROR(INDEX('CAC EPDs'!$F$2:$F$1500,SMALL(IF('CAC EPDs'!$E$2:$E$1500=Lists!AA$6,ROW('CAC EPDs'!$E$2:$E$1500)),ROW(30:30))-1,1),"")} | AB36: {=IFERROR(INDEX('CAC EPDs'!$F$2:$F$1500,SMALL(IF('CAC EPDs'!$E$2:$E$1500=Lists!AB$6,ROW('CAC EPDs'!$E$2:$E$1500)),ROW(30:30))-1,1),"")} | AC36: {=IFERROR(INDEX('CAC EPDs'!$F$2:$F$1500,SMALL(IF('CAC EPDs'!$E$2:$E$1500=Lists!AC$6,ROW('CAC EPDs'!$E$2:$E$1500)),ROW(30:30))-1,1),"")} | AD36: {=IFERROR(INDEX('CAC EPDs'!$F$2:$F$1500,SMALL(IF('CAC EPDs'!$E$2:$E$1500=Lists!AD$6,ROW('CAC EPDs'!$E$2:$E$1500)),ROW(30:30))-1,1),"")} | AE36: {=IFERROR(INDEX('CAC EPDs'!$F$2:$F$1500,SMALL(IF('CAC EPDs'!$E$2:$E$1500=Lists!AE$6,ROW('CAC EPDs'!$E$2:$E$1500)),ROW(30:30))-1,1),"")} | AF36: {=IFERROR(INDEX('CAC EPDs'!$F$2:$F$1500,SMALL(IF('CAC EPDs'!$E$2:$E$1500=Lists!AF$6,ROW('CAC EPDs'!$E$2:$E$1500)),ROW(30:30))-1,1),"")} | AG36: {=IFERROR(INDEX('CAC EPDs'!$F$2:$F$1500,SMALL(IF('CAC EPDs'!$E$2:$E$1500=Lists!AG$6,ROW('CAC EPDs'!$E$2:$E$1500)),ROW(30:30))-1,1),"")} | AH36: {=IFERROR(INDEX('CAC EPDs'!$F$2:$F$1500,SMALL(IF('CAC EPDs'!$E$2:$E$1500=Lists!AH$6,ROW('CAC EPDs'!$E$2:$E$1500)),ROW(30:30))-1,1),"")} | ... EN36: {=IFERROR(INDEX('CAC EPDs'!$F$2:$F$1500,SMALL(IF('CAC EPDs'!$E$2:$E$1500=Lists!EN$6,ROW('CAC EPDs'!$E$2:$E$1500)),ROW(30:30))-1,1),"")}
Y37: Atlantic,45,Yes | AA37: {=IFERROR(INDEX('CAC EPDs'!$F$2:$F$1500,SMALL(IF('CAC EPDs'!$E$2:$E$1500=Lists!AA$6,ROW('CAC EPDs'!$E$2:$E$1500)),ROW(31:31))-1,1),"")} | AB37: {=IFERROR(INDEX('CAC EPDs'!$F$2:$F$1500,SMALL(IF('CAC EPDs'!$E$2:$E$1500=Lists!AB$6,ROW('CAC EPDs'!$E$2:$E$1500)),ROW(31:31))-1,1),"")} | AC37: {=IFERROR(INDEX('CAC EPDs'!$F$2:$F$1500,SMALL(IF('CAC EPDs'!$E$2:$E$1500=Lists!AC$6,ROW('CAC EPDs'!$E$2:$E$1500)),ROW(31:31))-1,1),"")} | AD37: {=IFERROR(INDEX('CAC EPDs'!$F$2:$F$1500,SMALL(IF('CAC EPDs'!$E$2:$E$1500=Lists!AD$6,ROW('CAC EPDs'!$E$2:$E$1500)),ROW(31:31))-1,1),"")} | AE37: {=IFERROR(INDEX('CAC EPDs'!$F$2:$F$1500,SMALL(IF('CAC EPDs'!$E$2:$E$1500=Lists!AE$6,ROW('CAC EPDs'!$E$2:$E$1500)),ROW(31:31))-1,1),"")} | AF37: {=IFERROR(INDEX('CAC EPDs'!$F$2:$F$1500,SMALL(IF('CAC EPDs'!$E$2:$E$1500=Lists!AF$6,ROW('CAC EPDs'!$E$2:$E$1500)),ROW(31:31))-1,1),"")} | AG37: {=IFERROR(INDEX('CAC EPDs'!$F$2:$F$1500,SMALL(IF('CAC EPDs'!$E$2:$E$1500=Lists!AG$6,ROW('CAC EPDs'!$E$2:$E$1500)),ROW(31:31))-1,1),"")} | AH37: {=IFERROR(INDEX('CAC EPDs'!$F$2:$F$1500,SMALL(IF('CAC EPDs'!$E$2:$E$1500=Lists!AH$6,ROW('CAC EPDs'!$E$2:$E$1500)),ROW(31:31))-1,1),"")} | ... EN37: {=IFERROR(INDEX('CAC EPDs'!$F$2:$F$1500,SMALL(IF('CAC EPDs'!$E$2:$E$1500=Lists!EN$6,ROW('CAC EPDs'!$E$2:$E$1500)),ROW(31:31))-1,1),"")}
Y38: Atlantic,50,No | AA38: {=IFERROR(INDEX('CAC EPDs'!$F$2:$F$1500,SMALL(IF('CAC EPDs'!$E$2:$E$1500=Lists!AA$6,ROW('CAC EPDs'!$E$2:$E$1500)),ROW(32:32))-1,1),"")} | AB38: {=IFERROR(INDEX('CAC EPDs'!$F$2:$F$1500,SMALL(IF('CAC EPDs'!$E$2:$E$1500=Lists!AB$6,ROW('CAC EPDs'!$E$2:$E$1500)),ROW(32:32))-1,1),"")} | AC38: {=IFERROR(INDEX('CAC EPDs'!$F$2:$F$1500,SMALL(IF('CAC EPDs'!$E$2:$E$1500=Lists!AC$6,ROW('CAC EPDs'!$E$2:$E$1500)),ROW(32:32))-1,1),"")} | AD38: {=IFERROR(INDEX('CAC EPDs'!$F$2:$F$1500,SMALL(IF('CAC EPDs'!$E$2:$E$1500=Lists!AD$6,ROW('CAC EPDs'!$E$2:$E$1500)),ROW(32:32))-1,1),"")} | AE38: {=IFERROR(INDEX('CAC EPDs'!$F$2:$F$1500,SMALL(IF('CAC EPDs'!$E$2:$E$1500=Lists!AE$6,ROW('CAC EPDs'!$E$2:$E$1500)),ROW(32:32))-1,1),"")} | AF38: {=IFERROR(INDEX('CAC EPDs'!$F$2:$F$1500,SMALL(IF('CAC EPDs'!$E$2:$E$1500=Lists!AF$6,ROW('CAC EPDs'!$E$2:$E$1500)),ROW(32:32))-1,1),"")} | AG38: {=IFERROR(INDEX('CAC EPDs'!$F$2:$F$1500,SMALL(IF('CAC EPDs'!$E$2:$E$1500=Lists!AG$6,ROW('CAC EPDs'!$E$2:$E$1500)),ROW(32:32))-1,1),"")} | AH38: {=IFERROR(INDEX('CAC EPDs'!$F$2:$F$1500,SMALL(IF('CAC EPDs'!$E$2:$E$1500=Lists!AH$6,ROW('CAC EPDs'!$E$2:$E$1500)),ROW(32:32))-1,1),"")} | ... EN38: {=IFERROR(INDEX('CAC EPDs'!$F$2:$F$1500,SMALL(IF('CAC EPDs'!$E$2:$E$1500=Lists!EN$6,ROW('CAC EPDs'!$E$2:$E$1500)),ROW(32:32))-1,1),"")}
Y39: Atlantic,50,Yes | AA39: {=IFERROR(INDEX('CAC EPDs'!$F$2:$F$1500,SMALL(IF('CAC EPDs'!$E$2:$E$1500=Lists!AA$6,ROW('CAC EPDs'!$E$2:$E$1500)),ROW(33:33))-1,1),"")} | AB39: {=IFERROR(INDEX('CAC EPDs'!$F$2:$F$1500,SMALL(IF('CAC EPDs'!$E$2:$E$1500=Lists!AB$6,ROW('CAC EPDs'!$E$2:$E$1500)),ROW(33:33))-1,1),"")} | AC39: {=IFERROR(INDEX('CAC EPDs'!$F$2:$F$1500,SMALL(IF('CAC EPDs'!$E$2:$E$1500=Lists!AC$6,ROW('CAC EPDs'!$E$2:$E$1500)),ROW(33:33))-1,1),"")} | AD39: {=IFERROR(INDEX('CAC EPDs'!$F$2:$F$1500,SMALL(IF('CAC EPDs'!$E$2:$E$1500=Lists!AD$6,ROW('CAC EPDs'!$E$2:$E$1500)),ROW(33:33))-1,1),"")} | AE39: {=IFERROR(INDEX('CAC EPDs'!$F$2:$F$1500,SMALL(IF('CAC EPDs'!$E$2:$E$1500=Lists!AE$6,ROW('CAC EPDs'!$E$2:$E$1500)),ROW(33:33))-1,1),"")} | AF39: {=IFERROR(INDEX('CAC EPDs'!$F$2:$F$1500,SMALL(IF('CAC EPDs'!$E$2:$E$1500=Lists!AF$6,ROW('CAC EPDs'!$E$2:$E$1500)),ROW(33:33))-1,1),"")} | AG39: {=IFERROR(INDEX('CAC EPDs'!$F$2:$F$1500,SMALL(IF('CAC EPDs'!$E$2:$E$1500=Lists!AG$6,ROW('CAC EPDs'!$E$2:$E$1500)),ROW(33:33))-1,1),"")} | AH39: {=IFERROR(INDEX('CAC EPDs'!$F$2:$F$1500,SMALL(IF('CAC EPDs'!$E$2:$E$1500=Lists!AH$6,ROW('CAC EPDs'!$E$2:$E$1500)),ROW(33:33))-1,1),"")} | ... EN39: {=IFERROR(INDEX('CAC EPDs'!$F$2:$F$1500,SMALL(IF('CAC EPDs'!$E$2:$E$1500=Lists!EN$6,ROW('CAC EPDs'!$E$2:$E$1500)),ROW(33:33))-1,1),"")}
Y40: Atlantic,60,No | AA40: {=IFERROR(INDEX('CAC EPDs'!$F$2:$F$1500,SMALL(IF('CAC EPDs'!$E$2:$E$1500=Lists!AA$6,ROW('CAC EPDs'!$E$2:$E$1500)),ROW(34:34))-1,1),"")} | AB40: {=IFERROR(INDEX('CAC EPDs'!$F$2:$F$1500,SMALL(IF('CAC EPDs'!$E$2:$E$1500=Lists!AB$6,ROW('CAC EPDs'!$E$2:$E$1500)),ROW(34:34))-1,1),"")} | AC40: {=IFERROR(INDEX('CAC EPDs'!$F$2:$F$1500,SMALL(IF('CAC EPDs'!$E$2:$E$1500=Lists!AC$6,ROW('CAC EPDs'!$E$2:$E$1500)),ROW(34:34))-1,1),"")} | AD40: {=IFERROR(INDEX('CAC EPDs'!$F$2:$F$1500,SMALL(IF('CAC EPDs'!$E$2:$E$1500=Lists!AD$6,ROW('CAC EPDs'!$E$2:$E$1500)),ROW(34:34))-1,1),"")} | AE40: {=IFERROR(INDEX('CAC EPDs'!$F$2:$F$1500,SMALL(IF('CAC EPDs'!$E$2:$E$1500=Lists!AE$6,ROW('CAC EPDs'!$E$2:$E$1500)),ROW(34:34))-1,1),"")} | AF40: {=IFERROR(INDEX('CAC EPDs'!$F$2:$F$1500,SMALL(IF('CAC EPDs'!$E$2:$E$1500=Lists!AF$6,ROW('CAC EPDs'!$E$2:$E$1500)),ROW(34:34))-1,1),"")} | AG40: {=IFERROR(INDEX('CAC EPDs'!$F$2:$F$1500,SMALL(IF('CAC EPDs'!$E$2:$E$1500=Lists!AG$6,ROW('CAC EPDs'!$E$2:$E$1500)),ROW(34:34))-1,1),"")} | AH40: {=IFERROR(INDEX('CAC EPDs'!$F$2:$F$1500,SMALL(IF('CAC EPDs'!$E$2:$E$1500=Lists!AH$6,ROW('CAC EPDs'!$E$2:$E$1500)),ROW(34:34))-1,1),"")} | ... EN40: {=IFERROR(INDEX('CAC EPDs'!$F$2:$F$1500,SMALL(IF('CAC EPDs'!$E$2:$E$1500=Lists!EN$6,ROW('CAC EPDs'!$E$2:$E$1500)),ROW(34:34))-1,1),"")}
Y41: Quebec,20,Yes | AA41: {=IFERROR(INDEX('CAC EPDs'!$F$2:$F$1500,SMALL(IF('CAC EPDs'!$E$2:$E$1500=Lists!AA$6,ROW('CAC EPDs'!$E$2:$E$1500)),ROW(35:35))-1,1),"")} | AB41: {=IFERROR(INDEX('CAC EPDs'!$F$2:$F$1500,SMALL(IF('CAC EPDs'!$E$2:$E$1500=Lists!AB$6,ROW('CAC EPDs'!$E$2:$E$1500)),ROW(35:35))-1,1),"")} | AC41: {=IFERROR(INDEX('CAC EPDs'!$F$2:$F$1500,SMALL(IF('CAC EPDs'!$E$2:$E$1500=Lists!AC$6,ROW('CAC EPDs'!$E$2:$E$1500)),ROW(35:35))-1,1),"")} | AD41: {=IFERROR(INDEX('CAC EPDs'!$F$2:$F$1500,SMALL(IF('CAC EPDs'!$E$2:$E$1500=Lists!AD$6,ROW('CAC EPDs'!$E$2:$E$1500)),ROW(35:35))-1,1),"")} | AE41: {=IFERROR(INDEX('CAC EPDs'!$F$2:$F$1500,SMALL(IF('CAC EPDs'!$E$2:$E$1500=Lists!AE$6,ROW('CAC EPDs'!$E$2:$E$1500)),ROW(35:35))-1,1),"")} | AF41: {=IFERROR(INDEX('CAC EPDs'!$F$2:$F$1500,SMALL(IF('CAC EPDs'!$E$2:$E$1500=Lists!AF$6,ROW('CAC EPDs'!$E$2:$E$1500)),ROW(35:35))-1,1),"")} | AG41: {=IFERROR(INDEX('CAC EPDs'!$F$2:$F$1500,SMALL(IF('CAC EPDs'!$E$2:$E$1500=Lists!AG$6,ROW('CAC EPDs'!$E$2:$E$1500)),ROW(35:35))-1,1),"")} | AH41: {=IFERROR(INDEX('CAC EPDs'!$F$2:$F$1500,SMALL(IF('CAC EPDs'!$E$2:$E$1500=Lists!AH$6,ROW('CAC EPDs'!$E$2:$E$1500)),ROW(35:35))-1,1),"")} | ... EN41: {=IFERROR(INDEX('CAC EPDs'!$F$2:$F$1500,SMALL(IF('CAC EPDs'!$E$2:$E$1500=Lists!EN$6,ROW('CAC EPDs'!$E$2:$E$1500)),ROW(35:35))-1,1),"")}
Y42: Quebec,20,No | AA42: {=IFERROR(INDEX('CAC EPDs'!$F$2:$F$1500,SMALL(IF('CAC EPDs'!$E$2:$E$1500=Lists!AA$6,ROW('CAC EPDs'!$E$2:$E$1500)),ROW(36:36))-1,1),"")} | AB42: {=IFERROR(INDEX('CAC EPDs'!$F$2:$F$1500,SMALL(IF('CAC EPDs'!$E$2:$E$1500=Lists!AB$6,ROW('CAC EPDs'!$E$2:$E$1500)),ROW(36:36))-1,1),"")} | AC42: {=IFERROR(INDEX('CAC EPDs'!$F$2:$F$1500,SMALL(IF('CAC EPDs'!$E$2:$E$1500=Lists!AC$6,ROW('CAC EPDs'!$E$2:$E$1500)),ROW(36:36))-1,1),"")} | AD42: {=IFERROR(INDEX('CAC EPDs'!$F$2:$F$1500,SMALL(IF('CAC EPDs'!$E$2:$E$1500=Lists!AD$6,ROW('CAC EPDs'!$E$2:$E$1500)),ROW(36:36))-1,1),"")} | AE42: {=IFERROR(INDEX('CAC EPDs'!$F$2:$F$1500,SMALL(IF('CAC EPDs'!$E$2:$E$1500=Lists!AE$6,ROW('CAC EPDs'!$E$2:$E$1500)),ROW(36:36))-1,1),"")} | AF42: {=IFERROR(INDEX('CAC EPDs'!$F$2:$F$1500,SMALL(IF('CAC EPDs'!$E$2:$E$1500=Lists!AF$6,ROW('CAC EPDs'!$E$2:$E$1500)),ROW(36:36))-1,1),"")} | AG42: {=IFERROR(INDEX('CAC EPDs'!$F$2:$F$1500,SMALL(IF('CAC EPDs'!$E$2:$E$1500=Lists!AG$6,ROW('CAC EPDs'!$E$2:$E$1500)),ROW(36:36))-1,1),"")} | AH42: {=IFERROR(INDEX('CAC EPDs'!$F$2:$F$1500,SMALL(IF('CAC EPDs'!$E$2:$E$1500=Lists!AH$6,ROW('CAC EPDs'!$E$2:$E$1500)),ROW(36:36))-1,1),"")} | ... EN42: {=IFERROR(INDEX('CAC EPDs'!$F$2:$F$1500,SMALL(IF('CAC EPDs'!$E$2:$E$1500=Lists!EN$6,ROW('CAC EPDs'!$E$2:$E$1500)),ROW(36:36))-1,1),"")}
Y43: Quebec,25,No | AA43: {=IFERROR(INDEX('CAC EPDs'!$F$2:$F$1500,SMALL(IF('CAC EPDs'!$E$2:$E$1500=Lists!AA$6,ROW('CAC EPDs'!$E$2:$E$1500)),ROW(37:37))-1,1),"")} | AB43: {=IFERROR(INDEX('CAC EPDs'!$F$2:$F$1500,SMALL(IF('CAC EPDs'!$E$2:$E$1500=Lists!AB$6,ROW('CAC EPDs'!$E$2:$E$1500)),ROW(37:37))-1,1),"")} | AC43: {=IFERROR(INDEX('CAC EPDs'!$F$2:$F$1500,SMALL(IF('CAC EPDs'!$E$2:$E$1500=Lists!AC$6,ROW('CAC EPDs'!$E$2:$E$1500)),ROW(37:37))-1,1),"")} | AD43: {=IFERROR(INDEX('CAC EPDs'!$F$2:$F$1500,SMALL(IF('CAC EPDs'!$E$2:$E$1500=Lists!AD$6,ROW('CAC EPDs'!$E$2:$E$1500)),ROW(37:37))-1,1),"")} | AE43: {=IFERROR(INDEX('CAC EPDs'!$F$2:$F$1500,SMALL(IF('CAC EPDs'!$E$2:$E$1500=Lists!AE$6,ROW('CAC EPDs'!$E$2:$E$1500)),ROW(37:37))-1,1),"")} | AF43: {=IFERROR(INDEX('CAC EPDs'!$F$2:$F$1500,SMALL(IF('CAC EPDs'!$E$2:$E$1500=Lists!AF$6,ROW('CAC EPDs'!$E$2:$E$1500)),ROW(37:37))-1,1),"")} | AG43: {=IFERROR(INDEX('CAC EPDs'!$F$2:$F$1500,SMALL(IF('CAC EPDs'!$E$2:$E$1500=Lists!AG$6,ROW('CAC EPDs'!$E$2:$E$1500)),ROW(37:37))-1,1),"")} | AH43: {=IFERROR(INDEX('CAC EPDs'!$F$2:$F$1500,SMALL(IF('CAC EPDs'!$E$2:$E$1500=Lists!AH$6,ROW('CAC EPDs'!$E$2:$E$1500)),ROW(37:37))-1,1),"")} | ... EN43: {=IFERROR(INDEX('CAC EPDs'!$F$2:$F$1500,SMALL(IF('CAC EPDs'!$E$2:$E$1500=Lists!EN$6,ROW('CAC EPDs'!$E$2:$E$1500)),ROW(37:37))-1,1),"")}
Y44: Quebec,25,Yes | AA44: {=IFERROR(INDEX('CAC EPDs'!$F$2:$F$1500,SMALL(IF('CAC EPDs'!$E$2:$E$1500=Lists!AA$6,ROW('CAC EPDs'!$E$2:$E$1500)),ROW(38:38))-1,1),"")} | AB44: {=IFERROR(INDEX('CAC EPDs'!$F$2:$F$1500,SMALL(IF('CAC EPDs'!$E$2:$E$1500=Lists!AB$6,ROW('CAC EPDs'!$E$2:$E$1500)),ROW(38:38))-1,1),"")} | AC44: {=IFERROR(INDEX('CAC EPDs'!$F$2:$F$1500,SMALL(IF('CAC EPDs'!$E$2:$E$1500=Lists!AC$6,ROW('CAC EPDs'!$E$2:$E$1500)),ROW(38:38))-1,1),"")} | AD44: {=IFERROR(INDEX('CAC EPDs'!$F$2:$F$1500,SMALL(IF('CAC EPDs'!$E$2:$E$1500=Lists!AD$6,ROW('CAC EPDs'!$E$2:$E$1500)),ROW(38:38))-1,1),"")} | AE44: {=IFERROR(INDEX('CAC EPDs'!$F$2:$F$1500,SMALL(IF('CAC EPDs'!$E$2:$E$1500=Lists!AE$6,ROW('CAC EPDs'!$E$2:$E$1500)),ROW(38:38))-1,1),"")} | AF44: {=IFERROR(INDEX('CAC EPDs'!$F$2:$F$1500,SMALL(IF('CAC EPDs'!$E$2:$E$1500=Lists!AF$6,ROW('CAC EPDs'!$E$2:$E$1500)),ROW(38:38))-1,1),"")} | AG44: {=IFERROR(INDEX('CAC EPDs'!$F$2:$F$1500,SMALL(IF('CAC EPDs'!$E$2:$E$1500=Lists!AG$6,ROW('CAC EPDs'!$E$2:$E$1500)),ROW(38:38))-1,1),"")} | AH44: {=IFERROR(INDEX('CAC EPDs'!$F$2:$F$1500,SMALL(IF('CAC EPDs'!$E$2:$E$1500=Lists!AH$6,ROW('CAC EPDs'!$E$2:$E$1500)),ROW(38:38))-1,1),"")} | ... EN44: {=IFERROR(INDEX('CAC EPDs'!$F$2:$F$1500,SMALL(IF('CAC EPDs'!$E$2:$E$1500=Lists!EN$6,ROW('CAC EPDs'!$E$2:$E$1500)),ROW(38:38))-1,1),"")}
Y45: Quebec,30,Yes | AA45: {=IFERROR(INDEX('CAC EPDs'!$F$2:$F$1500,SMALL(IF('CAC EPDs'!$E$2:$E$1500=Lists!AA$6,ROW('CAC EPDs'!$E$2:$E$1500)),ROW(39:39))-1,1),"")} | AB45: {=IFERROR(INDEX('CAC EPDs'!$F$2:$F$1500,SMALL(IF('CAC EPDs'!$E$2:$E$1500=Lists!AB$6,ROW('CAC EPDs'!$E$2:$E$1500)),ROW(39:39))-1,1),"")} | AC45: {=IFERROR(INDEX('CAC EPDs'!$F$2:$F$1500,SMALL(IF('CAC EPDs'!$E$2:$E$1500=Lists!AC$6,ROW('CAC EPDs'!$E$2:$E$1500)),ROW(39:39))-1,1),"")} | AD45: {=IFERROR(INDEX('CAC EPDs'!$F$2:$F$1500,SMALL(IF('CAC EPDs'!$E$2:$E$1500=Lists!AD$6,ROW('CAC EPDs'!$E$2:$E$1500)),ROW(39:39))-1,1),"")} | AE45: {=IFERROR(INDEX('CAC EPDs'!$F$2:$F$1500,SMALL(IF('CAC EPDs'!$E$2:$E$1500=Lists!AE$6,ROW('CAC EPDs'!$E$2:$E$1500)),ROW(39:39))-1,1),"")} | AF45: {=IFERROR(INDEX('CAC EPDs'!$F$2:$F$1500,SMALL(IF('CAC EPDs'!$E$2:$E$1500=Lists!AF$6,ROW('CAC EPDs'!$E$2:$E$1500)),ROW(39:39))-1,1),"")} | AG45: {=IFERROR(INDEX('CAC EPDs'!$F$2:$F$1500,SMALL(IF('CAC EPDs'!$E$2:$E$1500=Lists!AG$6,ROW('CAC EPDs'!$E$2:$E$1500)),ROW(39:39))-1,1),"")} | AH45: {=IFERROR(INDEX('CAC EPDs'!$F$2:$F$1500,SMALL(IF('CAC EPDs'!$E$2:$E$1500=Lists!AH$6,ROW('CAC EPDs'!$E$2:$E$1500)),ROW(39:39))-1,1),"")} | ... EN45: {=IFERROR(INDEX('CAC EPDs'!$F$2:$F$1500,SMALL(IF('CAC EPDs'!$E$2:$E$1500=Lists!EN$6,ROW('CAC EPDs'!$E$2:$E$1500)),ROW(39:39))-1,1),"")}
Y46: Quebec,30,No | AA46: {=IFERROR(INDEX('CAC EPDs'!$F$2:$F$1500,SMALL(IF('CAC EPDs'!$E$2:$E$1500=Lists!AA$6,ROW('CAC EPDs'!$E$2:$E$1500)),ROW(40:40))-1,1),"")} | AB46: {=IFERROR(INDEX('CAC EPDs'!$F$2:$F$1500,SMALL(IF('CAC EPDs'!$E$2:$E$1500=Lists!AB$6,ROW('CAC EPDs'!$E$2:$E$1500)),ROW(40:40))-1,1),"")} | AC46: {=IFERROR(INDEX('CAC EPDs'!$F$2:$F$1500,SMALL(IF('CAC EPDs'!$E$2:$E$1500=Lists!AC$6,ROW('CAC EPDs'!$E$2:$E$1500)),ROW(40:40))-1,1),"")} | AD46: {=IFERROR(INDEX('CAC EPDs'!$F$2:$F$1500,SMALL(IF('CAC EPDs'!$E$2:$E$1500=Lists!AD$6,ROW('CAC EPDs'!$E$2:$E$1500)),ROW(40:40))-1,1),"")} | AE46: {=IFERROR(INDEX('CAC EPDs'!$F$2:$F$1500,SMALL(IF('CAC EPDs'!$E$2:$E$1500=Lists!AE$6,ROW('CAC EPDs'!$E$2:$E$1500)),ROW(40:40))-1,1),"")} | AF46: {=IFERROR(INDEX('CAC EPDs'!$F$2:$F$1500,SMALL(IF('CAC EPDs'!$E$2:$E$1500=Lists!AF$6,ROW('CAC EPDs'!$E$2:$E$1500)),ROW(40:40))-1,1),"")} | AG46: {=IFERROR(INDEX('CAC EPDs'!$F$2:$F$1500,SMALL(IF('CAC EPDs'!$E$2:$E$1500=Lists!AG$6,ROW('CAC EPDs'!$E$2:$E$1500)),ROW(40:40))-1,1),"")} | AH46: {=IFERROR(INDEX('CAC EPDs'!$F$2:$F$1500,SMALL(IF('CAC EPDs'!$E$2:$E$1500=Lists!AH$6,ROW('CAC EPDs'!$E$2:$E$1500)),ROW(40:40))-1,1),"")} | ... EN46: {=IFERROR(INDEX('CAC EPDs'!$F$2:$F$1500,SMALL(IF('CAC EPDs'!$E$2:$E$1500=Lists!EN$6,ROW('CAC EPDs'!$E$2:$E$1500)),ROW(40:40))-1,1),"")}
Y47: Quebec,32,Yes | AA47: {=IFERROR(INDEX('CAC EPDs'!$F$2:$F$1500,SMALL(IF('CAC EPDs'!$E$2:$E$1500=Lists!AA$6,ROW('CAC EPDs'!$E$2:$E$1500)),ROW(41:41))-1,1),"")} | AB47: {=IFERROR(INDEX('CAC EPDs'!$F$2:$F$1500,SMALL(IF('CAC EPDs'!$E$2:$E$1500=Lists!AB$6,ROW('CAC EPDs'!$E$2:$E$1500)),ROW(41:41))-1,1),"")} | AC47: {=IFERROR(INDEX('CAC EPDs'!$F$2:$F$1500,SMALL(IF('CAC EPDs'!$E$2:$E$1500=Lists!AC$6,ROW('CAC EPDs'!$E$2:$E$1500)),ROW(41:41))-1,1),"")} | AD47: {=IFERROR(INDEX('CAC EPDs'!$F$2:$F$1500,SMALL(IF('CAC EPDs'!$E$2:$E$1500=Lists!AD$6,ROW('CAC EPDs'!$E$2:$E$1500)),ROW(41:41))-1,1),"")} | AE47: {=IFERROR(INDEX('CAC EPDs'!$F$2:$F$1500,SMALL(IF('CAC EPDs'!$E$2:$E$1500=Lists!AE$6,ROW('CAC EPDs'!$E$2:$E$1500)),ROW(41:41))-1,1),"")} | AF47: {=IFERROR(INDEX('CAC EPDs'!$F$2:$F$1500,SMALL(IF('CAC EPDs'!$E$2:$E$1500=Lists!AF$6,ROW('CAC EPDs'!$E$2:$E$1500)),ROW(41:41))-1,1),"")} | AG47: {=IFERROR(INDEX('CAC EPDs'!$F$2:$F$1500,SMALL(IF('CAC EPDs'!$E$2:$E$1500=Lists!AG$6,ROW('CAC EPDs'!$E$2:$E$1500)),ROW(41:41))-1,1),"")} | AH47: {=IFERROR(INDEX('CAC EPDs'!$F$2:$F$1500,SMALL(IF('CAC EPDs'!$E$2:$E$1500=Lists!AH$6,ROW('CAC EPDs'!$E$2:$E$1500)),ROW(41:41))-1,1),"")} | ... EN47: {=IFERROR(INDEX('CAC EPDs'!$F$2:$F$1500,SMALL(IF('CAC EPDs'!$E$2:$E$1500=Lists!EN$6,ROW('CAC EPDs'!$E$2:$E$1500)),ROW(41:41))-1,1),"")}
Y48: Quebec,35,Yes | AA48: {=IFERROR(INDEX('CAC EPDs'!$F$2:$F$1500,SMALL(IF('CAC EPDs'!$E$2:$E$1500=Lists!AA$6,ROW('CAC EPDs'!$E$2:$E$1500)),ROW(42:42))-1,1),"")} | AB48: {=IFERROR(INDEX('CAC EPDs'!$F$2:$F$1500,SMALL(IF('CAC EPDs'!$E$2:$E$1500=Lists!AB$6,ROW('CAC EPDs'!$E$2:$E$1500)),ROW(42:42))-1,1),"")} | AC48: {=IFERROR(INDEX('CAC EPDs'!$F$2:$F$1500,SMALL(IF('CAC EPDs'!$E$2:$E$1500=Lists!AC$6,ROW('CAC EPDs'!$E$2:$E$1500)),ROW(42:42))-1,1),"")} | AD48: {=IFERROR(INDEX('CAC EPDs'!$F$2:$F$1500,SMALL(IF('CAC EPDs'!$E$2:$E$1500=Lists!AD$6,ROW('CAC EPDs'!$E$2:$E$1500)),ROW(42:42))-1,1),"")} | AE48: {=IFERROR(INDEX('CAC EPDs'!$F$2:$F$1500,SMALL(IF('CAC EPDs'!$E$2:$E$1500=Lists!AE$6,ROW('CAC EPDs'!$E$2:$E$1500)),ROW(42:42))-1,1),"")} | AF48: {=IFERROR(INDEX('CAC EPDs'!$F$2:$F$1500,SMALL(IF('CAC EPDs'!$E$2:$E$1500=Lists!AF$6,ROW('CAC EPDs'!$E$2:$E$1500)),ROW(42:42))-1,1),"")} | AG48: {=IFERROR(INDEX('CAC EPDs'!$F$2:$F$1500,SMALL(IF('CAC EPDs'!$E$2:$E$1500=Lists!AG$6,ROW('CAC EPDs'!$E$2:$E$1500)),ROW(42:42))-1,1),"")} | AH48: {=IFERROR(INDEX('CAC EPDs'!$F$2:$F$1500,SMALL(IF('CAC EPDs'!$E$2:$E$1500=Lists!AH$6,ROW('CAC EPDs'!$E$2:$E$1500)),ROW(42:42))-1,1),"")} | ... EN48: {=IFERROR(INDEX('CAC EPDs'!$F$2:$F$1500,SMALL(IF('CAC EPDs'!$E$2:$E$1500=Lists!EN$6,ROW('CAC EPDs'!$E$2:$E$1500)),ROW(42:42))-1,1),"")}
Y49: Quebec,35,No | AA49: {=IFERROR(INDEX('CAC EPDs'!$F$2:$F$1500,SMALL(IF('CAC EPDs'!$E$2:$E$1500=Lists!AA$6,ROW('CAC EPDs'!$E$2:$E$1500)),ROW(43:43))-1,1),"")} | AB49: {=IFERROR(INDEX('CAC EPDs'!$F$2:$F$1500,SMALL(IF('CAC EPDs'!$E$2:$E$1500=Lists!AB$6,ROW('CAC EPDs'!$E$2:$E$1500)),ROW(43:43))-1,1),"")} | AC49: {=IFERROR(INDEX('CAC EPDs'!$F$2:$F$1500,SMALL(IF('CAC EPDs'!$E$2:$E$1500=Lists!AC$6,ROW('CAC EPDs'!$E$2:$E$1500)),ROW(43:43))-1,1),"")} | AD49: {=IFERROR(INDEX('CAC EPDs'!$F$2:$F$1500,SMALL(IF('CAC EPDs'!$E$2:$E$1500=Lists!AD$6,ROW('CAC EPDs'!$E$2:$E$1500)),ROW(43:43))-1,1),"")} | AE49: {=IFERROR(INDEX('CAC EPDs'!$F$2:$F$1500,SMALL(IF('CAC EPDs'!$E$2:$E$1500=Lists!AE$6,ROW('CAC EPDs'!$E$2:$E$1500)),ROW(43:43))-1,1),"")} | AF49: {=IFERROR(INDEX('CAC EPDs'!$F$2:$F$1500,SMALL(IF('CAC EPDs'!$E$2:$E$1500=Lists!AF$6,ROW('CAC EPDs'!$E$2:$E$1500)),ROW(43:43))-1,1),"")} | AG49: {=IFERROR(INDEX('CAC EPDs'!$F$2:$F$1500,SMALL(IF('CAC EPDs'!$E$2:$E$1500=Lists!AG$6,ROW('CAC EPDs'!$E$2:$E$1500)),ROW(43:43))-1,1),"")} | AH49: {=IFERROR(INDEX('CAC EPDs'!$F$2:$F$1500,SMALL(IF('CAC EPDs'!$E$2:$E$1500=Lists!AH$6,ROW('CAC EPDs'!$E$2:$E$1500)),ROW(43:43))-1,1),"")} | ... EN49: {=IFERROR(INDEX('CAC EPDs'!$F$2:$F$1500,SMALL(IF('CAC EPDs'!$E$2:$E$1500=Lists!EN$6,ROW('CAC EPDs'!$E$2:$E$1500)),ROW(43:43))-1,1),"")}
Y50: Quebec,40,No | AA50: {=IFERROR(INDEX('CAC EPDs'!$F$2:$F$1500,SMALL(IF('CAC EPDs'!$E$2:$E$1500=Lists!AA$6,ROW('CAC EPDs'!$E$2:$E$1500)),ROW(44:44))-1,1),"")} | AB50: {=IFERROR(INDEX('CAC EPDs'!$F$2:$F$1500,SMALL(IF('CAC EPDs'!$E$2:$E$1500=Lists!AB$6,ROW('CAC EPDs'!$E$2:$E$1500)),ROW(44:44))-1,1),"")} | AC50: {=IFERROR(INDEX('CAC EPDs'!$F$2:$F$1500,SMALL(IF('CAC EPDs'!$E$2:$E$1500=Lists!AC$6,ROW('CAC EPDs'!$E$2:$E$1500)),ROW(44:44))-1,1),"")} | AD50: {=IFERROR(INDEX('CAC EPDs'!$F$2:$F$1500,SMALL(IF('CAC EPDs'!$E$2:$E$1500=Lists!AD$6,ROW('CAC EPDs'!$E$2:$E$1500)),ROW(44:44))-1,1),"")} | AE50: {=IFERROR(INDEX('CAC EPDs'!$F$2:$F$1500,SMALL(IF('CAC EPDs'!$E$2:$E$1500=Lists!AE$6,ROW('CAC EPDs'!$E$2:$E$1500)),ROW(44:44))-1,1),"")} | AF50: {=IFERROR(INDEX('CAC EPDs'!$F$2:$F$1500,SMALL(IF('CAC EPDs'!$E$2:$E$1500=Lists!AF$6,ROW('CAC EPDs'!$E$2:$E$1500)),ROW(44:44))-1,1),"")} | AG50: {=IFERROR(INDEX('CAC EPDs'!$F$2:$F$1500,SMALL(IF('CAC EPDs'!$E$2:$E$1500=Lists!AG$6,ROW('CAC EPDs'!$E$2:$E$1500)),ROW(44:44))-1,1),"")} | AH50: {=IFERROR(INDEX('CAC EPDs'!$F$2:$F$1500,SMALL(IF('CAC EPDs'!$E$2:$E$1500=Lists!AH$6,ROW('CAC EPDs'!$E$2:$E$1500)),ROW(44:44))-1,1),"")} | ... EN50: {=IFERROR(INDEX('CAC EPDs'!$F$2:$F$1500,SMALL(IF('CAC EPDs'!$E$2:$E$1500=Lists!EN$6,ROW('CAC EPDs'!$E$2:$E$1500)),ROW(44:44))-1,1),"")}
Y51: Quebec,40,Yes | AA51: {=IFERROR(INDEX('CAC EPDs'!$F$2:$F$1500,SMALL(IF('CAC EPDs'!$E$2:$E$1500=Lists!AA$6,ROW('CAC EPDs'!$E$2:$E$1500)),ROW(45:45))-1,1),"")} | AB51: {=IFERROR(INDEX('CAC EPDs'!$F$2:$F$1500,SMALL(IF('CAC EPDs'!$E$2:$E$1500=Lists!AB$6,ROW('CAC EPDs'!$E$2:$E$1500)),ROW(45:45))-1,1),"")} | AC51: {=IFERROR(INDEX('CAC EPDs'!$F$2:$F$1500,SMALL(IF('CAC EPDs'!$E$2:$E$1500=Lists!AC$6,ROW('CAC EPDs'!$E$2:$E$1500)),ROW(45:45))-1,1),"")} | AD51: {=IFERROR(INDEX('CAC EPDs'!$F$2:$F$1500,SMALL(IF('CAC EPDs'!$E$2:$E$1500=Lists!AD$6,ROW('CAC EPDs'!$E$2:$E$1500)),ROW(45:45))-1,1),"")} | AE51: {=IFERROR(INDEX('CAC EPDs'!$F$2:$F$1500,SMALL(IF('CAC EPDs'!$E$2:$E$1500=Lists!AE$6,ROW('CAC EPDs'!$E$2:$E$1500)),ROW(45:45))-1,1),"")} | AF51: {=IFERROR(INDEX('CAC EPDs'!$F$2:$F$1500,SMALL(IF('CAC EPDs'!$E$2:$E$1500=Lists!AF$6,ROW('CAC EPDs'!$E$2:$E$1500)),ROW(45:45))-1,1),"")} | AG51: {=IFERROR(INDEX('CAC EPDs'!$F$2:$F$1500,SMALL(IF('CAC EPDs'!$E$2:$E$1500=Lists!AG$6,ROW('CAC EPDs'!$E$2:$E$1500)),ROW(45:45))-1,1),"")} | AH51: {=IFERROR(INDEX('CAC EPDs'!$F$2:$F$1500,SMALL(IF('CAC EPDs'!$E$2:$E$1500=Lists!AH$6,ROW('CAC EPDs'!$E$2:$E$1500)),ROW(45:45))-1,1),"")} | ... EN51: {=IFERROR(INDEX('CAC EPDs'!$F$2:$F$1500,SMALL(IF('CAC EPDs'!$E$2:$E$1500=Lists!EN$6,ROW('CAC EPDs'!$E$2:$E$1500)),ROW(45:45))-1,1),"")}
Y52: Quebec,45,No | AA52: {=IFERROR(INDEX('CAC EPDs'!$F$2:$F$1500,SMALL(IF('CAC EPDs'!$E$2:$E$1500=Lists!AA$6,ROW('CAC EPDs'!$E$2:$E$1500)),ROW(46:46))-1,1),"")} | AB52: {=IFERROR(INDEX('CAC EPDs'!$F$2:$F$1500,SMALL(IF('CAC EPDs'!$E$2:$E$1500=Lists!AB$6,ROW('CAC EPDs'!$E$2:$E$1500)),ROW(46:46))-1,1),"")} | AC52: {=IFERROR(INDEX('CAC EPDs'!$F$2:$F$1500,SMALL(IF('CAC EPDs'!$E$2:$E$1500=Lists!AC$6,ROW('CAC EPDs'!$E$2:$E$1500)),ROW(46:46))-1,1),"")} | AD52: {=IFERROR(INDEX('CAC EPDs'!$F$2:$F$1500,SMALL(IF('CAC EPDs'!$E$2:$E$1500=Lists!AD$6,ROW('CAC EPDs'!$E$2:$E$1500)),ROW(46:46))-1,1),"")} | AE52: {=IFERROR(INDEX('CAC EPDs'!$F$2:$F$1500,SMALL(IF('CAC EPDs'!$E$2:$E$1500=Lists!AE$6,ROW('CAC EPDs'!$E$2:$E$1500)),ROW(46:46))-1,1),"")} | AF52: {=IFERROR(INDEX('CAC EPDs'!$F$2:$F$1500,SMALL(IF('CAC EPDs'!$E$2:$E$1500=Lists!AF$6,ROW('CAC EPDs'!$E$2:$E$1500)),ROW(46:46))-1,1),"")} | AG52: {=IFERROR(INDEX('CAC EPDs'!$F$2:$F$1500,SMALL(IF('CAC EPDs'!$E$2:$E$1500=Lists!AG$6,ROW('CAC EPDs'!$E$2:$E$1500)),ROW(46:46))-1,1),"")} | AH52: {=IFERROR(INDEX('CAC EPDs'!$F$2:$F$1500,SMALL(IF('CAC EPDs'!$E$2:$E$1500=Lists!AH$6,ROW('CAC EPDs'!$E$2:$E$1500)),ROW(46:46))-1,1),"")} | ... EN52: {=IFERROR(INDEX('CAC EPDs'!$F$2:$F$1500,SMALL(IF('CAC EPDs'!$E$2:$E$1500=Lists!EN$6,ROW('CAC EPDs'!$E$2:$E$1500)),ROW(46:46))-1,1),"")}
Y53: Quebec,45,Yes | AA53: {=IFERROR(INDEX('CAC EPDs'!$F$2:$F$1500,SMALL(IF('CAC EPDs'!$E$2:$E$1500=Lists!AA$6,ROW('CAC EPDs'!$E$2:$E$1500)),ROW(47:47))-1,1),"")} | AB53: {=IFERROR(INDEX('CAC EPDs'!$F$2:$F$1500,SMALL(IF('CAC EPDs'!$E$2:$E$1500=Lists!AB$6,ROW('CAC EPDs'!$E$2:$E$1500)),ROW(47:47))-1,1),"")} | AC53: {=IFERROR(INDEX('CAC EPDs'!$F$2:$F$1500,SMALL(IF('CAC EPDs'!$E$2:$E$1500=Lists!AC$6,ROW('CAC EPDs'!$E$2:$E$1500)),ROW(47:47))-1,1),"")} | AD53: {=IFERROR(INDEX('CAC EPDs'!$F$2:$F$1500,SMALL(IF('CAC EPDs'!$E$2:$E$1500=Lists!AD$6,ROW('CAC EPDs'!$E$2:$E$1500)),ROW(47:47))-1,1),"")} | AE53: {=IFERROR(INDEX('CAC EPDs'!$F$2:$F$1500,SMALL(IF('CAC EPDs'!$E$2:$E$1500=Lists!AE$6,ROW('CAC EPDs'!$E$2:$E$1500)),ROW(47:47))-1,1),"")} | AF53: {=IFERROR(INDEX('CAC EPDs'!$F$2:$F$1500,SMALL(IF('CAC EPDs'!$E$2:$E$1500=Lists!AF$6,ROW('CAC EPDs'!$E$2:$E$1500)),ROW(47:47))-1,1),"")} | AG53: {=IFERROR(INDEX('CAC EPDs'!$F$2:$F$1500,SMALL(IF('CAC EPDs'!$E$2:$E$1500=Lists!AG$6,ROW('CAC EPDs'!$E$2:$E$1500)),ROW(47:47))-1,1),"")} | AH53: {=IFERROR(INDEX('CAC EPDs'!$F$2:$F$1500,SMALL(IF('CAC EPDs'!$E$2:$E$1500=Lists!AH$6,ROW('CAC EPDs'!$E$2:$E$1500)),ROW(47:47))-1,1),"")} | ... EN53: {=IFERROR(INDEX('CAC EPDs'!$F$2:$F$1500,SMALL(IF('CAC EPDs'!$E$2:$E$1500=Lists!EN$6,ROW('CAC EPDs'!$E$2:$E$1500)),ROW(47:47))-1,1),"")}
Y54: Quebec,50,Yes | AA54: {=IFERROR(INDEX('CAC EPDs'!$F$2:$F$1500,SMALL(IF('CAC EPDs'!$E$2:$E$1500=Lists!AA$6,ROW('CAC EPDs'!$E$2:$E$1500)),ROW(48:48))-1,1),"")} | AB54: {=IFERROR(INDEX('CAC EPDs'!$F$2:$F$1500,SMALL(IF('CAC EPDs'!$E$2:$E$1500=Lists!AB$6,ROW('CAC EPDs'!$E$2:$E$1500)),ROW(48:48))-1,1),"")} | AC54: {=IFERROR(INDEX('CAC EPDs'!$F$2:$F$1500,SMALL(IF('CAC EPDs'!$E$2:$E$1500=Lists!AC$6,ROW('CAC EPDs'!$E$2:$E$1500)),ROW(48:48))-1,1),"")} | AD54: {=IFERROR(INDEX('CAC EPDs'!$F$2:$F$1500,SMALL(IF('CAC EPDs'!$E$2:$E$1500=Lists!AD$6,ROW('CAC EPDs'!$E$2:$E$1500)),ROW(48:48))-1,1),"")} | AE54: {=IFERROR(INDEX('CAC EPDs'!$F$2:$F$1500,SMALL(IF('CAC EPDs'!$E$2:$E$1500=Lists!AE$6,ROW('CAC EPDs'!$E$2:$E$1500)),ROW(48:48))-1,1),"")} | AF54: {=IFERROR(INDEX('CAC EPDs'!$F$2:$F$1500,SMALL(IF('CAC EPDs'!$E$2:$E$1500=Lists!AF$6,ROW('CAC EPDs'!$E$2:$E$1500)),ROW(48:48))-1,1),"")} | AG54: {=IFERROR(INDEX('CAC EPDs'!$F$2:$F$1500,SMALL(IF('CAC EPDs'!$E$2:$E$1500=Lists!AG$6,ROW('CAC EPDs'!$E$2:$E$1500)),ROW(48:48))-1,1),"")} | AH54: {=IFERROR(INDEX('CAC EPDs'!$F$2:$F$1500,SMALL(IF('CAC EPDs'!$E$2:$E$1500=Lists!AH$6,ROW('CAC EPDs'!$E$2:$E$1500)),ROW(48:48))-1,1),"")} | ... EN54: {=IFERROR(INDEX('CAC EPDs'!$F$2:$F$1500,SMALL(IF('CAC EPDs'!$E$2:$E$1500=Lists!EN$6,ROW('CAC EPDs'!$E$2:$E$1500)),ROW(48:48))-1,1),"")}
Y55: Quebec,50,No | AA55: {=IFERROR(INDEX('CAC EPDs'!$F$2:$F$1500,SMALL(IF('CAC EPDs'!$E$2:$E$1500=Lists!AA$6,ROW('CAC EPDs'!$E$2:$E$1500)),ROW(49:49))-1,1),"")} | AB55: {=IFERROR(INDEX('CAC EPDs'!$F$2:$F$1500,SMALL(IF('CAC EPDs'!$E$2:$E$1500=Lists!AB$6,ROW('CAC EPDs'!$E$2:$E$1500)),ROW(49:49))-1,1),"")} | AC55: {=IFERROR(INDEX('CAC EPDs'!$F$2:$F$1500,SMALL(IF('CAC EPDs'!$E$2:$E$1500=Lists!AC$6,ROW('CAC EPDs'!$E$2:$E$1500)),ROW(49:49))-1,1),"")} | AD55: {=IFERROR(INDEX('CAC EPDs'!$F$2:$F$1500,SMALL(IF('CAC EPDs'!$E$2:$E$1500=Lists!AD$6,ROW('CAC EPDs'!$E$2:$E$1500)),ROW(49:49))-1,1),"")} | AE55: {=IFERROR(INDEX('CAC EPDs'!$F$2:$F$1500,SMALL(IF('CAC EPDs'!$E$2:$E$1500=Lists!AE$6,ROW('CAC EPDs'!$E$2:$E$1500)),ROW(49:49))-1,1),"")} | AF55: {=IFERROR(INDEX('CAC EPDs'!$F$2:$F$1500,SMALL(IF('CAC EPDs'!$E$2:$E$1500=Lists!AF$6,ROW('CAC EPDs'!$E$2:$E$1500)),ROW(49:49))-1,1),"")} | AG55: {=IFERROR(INDEX('CAC EPDs'!$F$2:$F$1500,SMALL(IF('CAC EPDs'!$E$2:$E$1500=Lists!AG$6,ROW('CAC EPDs'!$E$2:$E$1500)),ROW(49:49))-1,1),"")} | AH55: {=IFERROR(INDEX('CAC EPDs'!$F$2:$F$1500,SMALL(IF('CAC EPDs'!$E$2:$E$1500=Lists!AH$6,ROW('CAC EPDs'!$E$2:$E$1500)),ROW(49:49))-1,1),"")} | ... EN55: {=IFERROR(INDEX('CAC EPDs'!$F$2:$F$1500,SMALL(IF('CAC EPDs'!$E$2:$E$1500=Lists!EN$6,ROW('CAC EPDs'!$E$2:$E$1500)),ROW(49:49))-1,1),"")}
Y56: Quebec,60,No | AA56: {=IFERROR(INDEX('CAC EPDs'!$F$2:$F$1500,SMALL(IF('CAC EPDs'!$E$2:$E$1500=Lists!AA$6,ROW('CAC EPDs'!$E$2:$E$1500)),ROW(50:50))-1,1),"")} | AB56: {=IFERROR(INDEX('CAC EPDs'!$F$2:$F$1500,SMALL(IF('CAC EPDs'!$E$2:$E$1500=Lists!AB$6,ROW('CAC EPDs'!$E$2:$E$1500)),ROW(50:50))-1,1),"")} | AC56: {=IFERROR(INDEX('CAC EPDs'!$F$2:$F$1500,SMALL(IF('CAC EPDs'!$E$2:$E$1500=Lists!AC$6,ROW('CAC EPDs'!$E$2:$E$1500)),ROW(50:50))-1,1),"")} | AD56: {=IFERROR(INDEX('CAC EPDs'!$F$2:$F$1500,SMALL(IF('CAC EPDs'!$E$2:$E$1500=Lists!AD$6,ROW('CAC EPDs'!$E$2:$E$1500)),ROW(50:50))-1,1),"")} | AE56: {=IFERROR(INDEX('CAC EPDs'!$F$2:$F$1500,SMALL(IF('CAC EPDs'!$E$2:$E$1500=Lists!AE$6,ROW('CAC EPDs'!$E$2:$E$1500)),ROW(50:50))-1,1),"")} | AF56: {=IFERROR(INDEX('CAC EPDs'!$F$2:$F$1500,SMALL(IF('CAC EPDs'!$E$2:$E$1500=Lists!AF$6,ROW('CAC EPDs'!$E$2:$E$1500)),ROW(50:50))-1,1),"")} | AG56: {=IFERROR(INDEX('CAC EPDs'!$F$2:$F$1500,SMALL(IF('CAC EPDs'!$E$2:$E$1500=Lists!AG$6,ROW('CAC EPDs'!$E$2:$E$1500)),ROW(50:50))-1,1),"")} | AH56: {=IFERROR(INDEX('CAC EPDs'!$F$2:$F$1500,SMALL(IF('CAC EPDs'!$E$2:$E$1500=Lists!AH$6,ROW('CAC EPDs'!$E$2:$E$1500)),ROW(50:50))-1,1),"")} | ... EN56: {=IFERROR(INDEX('CAC EPDs'!$F$2:$F$1500,SMALL(IF('CAC EPDs'!$E$2:$E$1500=Lists!EN$6,ROW('CAC EPDs'!$E$2:$E$1500)),ROW(50:50))-1,1),"")}
Y57: Quebec,60,Yes | AA57: {=IFERROR(INDEX('CAC EPDs'!$F$2:$F$1500,SMALL(IF('CAC EPDs'!$E$2:$E$1500=Lists!AA$6,ROW('CAC EPDs'!$E$2:$E$1500)),ROW(51:51))-1,1),"")} | AB57: {=IFERROR(INDEX('CAC EPDs'!$F$2:$F$1500,SMALL(IF('CAC EPDs'!$E$2:$E$1500=Lists!AB$6,ROW('CAC EPDs'!$E$2:$E$1500)),ROW(51:51))-1,1),"")} | AC57: {=IFERROR(INDEX('CAC EPDs'!$F$2:$F$1500,SMALL(IF('CAC EPDs'!$E$2:$E$1500=Lists!AC$6,ROW('CAC EPDs'!$E$2:$E$1500)),ROW(51:51))-1,1),"")} | AD57: {=IFERROR(INDEX('CAC EPDs'!$F$2:$F$1500,SMALL(IF('CAC EPDs'!$E$2:$E$1500=Lists!AD$6,ROW('CAC EPDs'!$E$2:$E$1500)),ROW(51:51))-1,1),"")} | AE57: {=IFERROR(INDEX('CAC EPDs'!$F$2:$F$1500,SMALL(IF('CAC EPDs'!$E$2:$E$1500=Lists!AE$6,ROW('CAC EPDs'!$E$2:$E$1500)),ROW(51:51))-1,1),"")} | AF57: {=IFERROR(INDEX('CAC EPDs'!$F$2:$F$1500,SMALL(IF('CAC EPDs'!$E$2:$E$1500=Lists!AF$6,ROW('CAC EPDs'!$E$2:$E$1500)),ROW(51:51))-1,1),"")} | AG57: {=IFERROR(INDEX('CAC EPDs'!$F$2:$F$1500,SMALL(IF('CAC EPDs'!$E$2:$E$1500=Lists!AG$6,ROW('CAC EPDs'!$E$2:$E$1500)),ROW(51:51))-1,1),"")} | AH57: {=IFERROR(INDEX('CAC EPDs'!$F$2:$F$1500,SMALL(IF('CAC EPDs'!$E$2:$E$1500=Lists!AH$6,ROW('CAC EPDs'!$E$2:$E$1500)),ROW(51:51))-1,1),"")} | ... EN57: {=IFERROR(INDEX('CAC EPDs'!$F$2:$F$1500,SMALL(IF('CAC EPDs'!$E$2:$E$1500=Lists!EN$6,ROW('CAC EPDs'!$E$2:$E$1500)),ROW(51:51))-1,1),"")}
Y58: Quebec,80,No | AA58: {=IFERROR(INDEX('CAC EPDs'!$F$2:$F$1500,SMALL(IF('CAC EPDs'!$E$2:$E$1500=Lists!AA$6,ROW('CAC EPDs'!$E$2:$E$1500)),ROW(52:52))-1,1),"")} | AB58: {=IFERROR(INDEX('CAC EPDs'!$F$2:$F$1500,SMALL(IF('CAC EPDs'!$E$2:$E$1500=Lists!AB$6,ROW('CAC EPDs'!$E$2:$E$1500)),ROW(52:52))-1,1),"")} | AC58: {=IFERROR(INDEX('CAC EPDs'!$F$2:$F$1500,SMALL(IF('CAC EPDs'!$E$2:$E$1500=Lists!AC$6,ROW('CAC EPDs'!$E$2:$E$1500)),ROW(52:52))-1,1),"")} | AD58: {=IFERROR(INDEX('CAC EPDs'!$F$2:$F$1500,SMALL(IF('CAC EPDs'!$E$2:$E$1500=Lists!AD$6,ROW('CAC EPDs'!$E$2:$E$1500)),ROW(52:52))-1,1),"")} | AE58: {=IFERROR(INDEX('CAC EPDs'!$F$2:$F$1500,SMALL(IF('CAC EPDs'!$E$2:$E$1500=Lists!AE$6,ROW('CAC EPDs'!$E$2:$E$1500)),ROW(52:52))-1,1),"")} | AF58: {=IFERROR(INDEX('CAC EPDs'!$F$2:$F$1500,SMALL(IF('CAC EPDs'!$E$2:$E$1500=Lists!AF$6,ROW('CAC EPDs'!$E$2:$E$1500)),ROW(52:52))-1,1),"")} | AG58: {=IFERROR(INDEX('CAC EPDs'!$F$2:$F$1500,SMALL(IF('CAC EPDs'!$E$2:$E$1500=Lists!AG$6,ROW('CAC EPDs'!$E$2:$E$1500)),ROW(52:52))-1,1),"")} | AH58: {=IFERROR(INDEX('CAC EPDs'!$F$2:$F$1500,SMALL(IF('CAC EPDs'!$E$2:$E$1500=Lists!AH$6,ROW('CAC EPDs'!$E$2:$E$1500)),ROW(52:52))-1,1),"")} | ... EN58: {=IFERROR(INDEX('CAC EPDs'!$F$2:$F$1500,SMALL(IF('CAC EPDs'!$E$2:$E$1500=Lists!EN$6,ROW('CAC EPDs'!$E$2:$E$1500)),ROW(52:52))-1,1),"")}
Y59: Manitoba,20,No | AA59: {=IFERROR(INDEX('CAC EPDs'!$F$2:$F$1007,SMALL(IF('CAC EPDs'!$E$2:$E$1007=Lists!AA$6,ROW('CAC EPDs'!$E$2:$E$1007)),ROW(53:53))-1,1),"")} | AB59: {=IFERROR(INDEX('CAC EPDs'!$F$2:$F$1007,SMALL(IF('CAC EPDs'!$E$2:$E$1007=Lists!AB$6,ROW('CAC EPDs'!$E$2:$E$1007)),ROW(53:53))-1,1),"")} | AC59: {=IFERROR(INDEX('CAC EPDs'!$F$2:$F$1007,SMALL(IF('CAC EPDs'!$E$2:$E$1007=Lists!AC$6,ROW('CAC EPDs'!$E$2:$E$1007)),ROW(53:53))-1,1),"")} | AD59: {=IFERROR(INDEX('CAC EPDs'!$F$2:$F$1007,SMALL(IF('CAC EPDs'!$E$2:$E$1007=Lists!AD$6,ROW('CAC EPDs'!$E$2:$E$1007)),ROW(53:53))-1,1),"")} | AE59: {=IFERROR(INDEX('CAC EPDs'!$F$2:$F$1007,SMALL(IF('CAC EPDs'!$E$2:$E$1007=Lists!AE$6,ROW('CAC EPDs'!$E$2:$E$1007)),ROW(53:53))-1,1),"")} | AF59: {=IFERROR(INDEX('CAC EPDs'!$F$2:$F$1007,SMALL(IF('CAC EPDs'!$E$2:$E$1007=Lists!AF$6,ROW('CAC EPDs'!$E$2:$E$1007)),ROW(53:53))-1,1),"")} | AG59: {=IFERROR(INDEX('CAC EPDs'!$F$2:$F$1007,SMALL(IF('CAC EPDs'!$E$2:$E$1007=Lists!AG$6,ROW('CAC EPDs'!$E$2:$E$1007)),ROW(53:53))-1,1),"")} | AH59: {=IFERROR(INDEX('CAC EPDs'!$F$2:$F$1007,SMALL(IF('CAC EPDs'!$E$2:$E$1007=Lists!AH$6,ROW('CAC EPDs'!$E$2:$E$1007)),ROW(53:53))-1,1),"")} | ... BZ59: {=IFERROR(INDEX('CAC EPDs'!$F$2:$F$1007,SMALL(IF('CAC EPDs'!$E$2:$E$1007=Lists!BZ$6,ROW('CAC EPDs'!$E$2:$E$1007)),ROW(53:53))-1,1),"")}
Y60: Manitoba,20,Yes | AA60: {=IFERROR(INDEX('CAC EPDs'!$F$2:$F$1007,SMALL(IF('CAC EPDs'!$E$2:$E$1007=Lists!AA$6,ROW('CAC EPDs'!$E$2:$E$1007)),ROW(54:54))-1,1),"")} | AB60: {=IFERROR(INDEX('CAC EPDs'!$F$2:$F$1007,SMALL(IF('CAC EPDs'!$E$2:$E$1007=Lists!AB$6,ROW('CAC EPDs'!$E$2:$E$1007)),ROW(54:54))-1,1),"")} | AC60: {=IFERROR(INDEX('CAC EPDs'!$F$2:$F$1007,SMALL(IF('CAC EPDs'!$E$2:$E$1007=Lists!AC$6,ROW('CAC EPDs'!$E$2:$E$1007)),ROW(54:54))-1,1),"")} | AD60: {=IFERROR(INDEX('CAC EPDs'!$F$2:$F$1007,SMALL(IF('CAC EPDs'!$E$2:$E$1007=Lists!AD$6,ROW('CAC EPDs'!$E$2:$E$1007)),ROW(54:54))-1,1),"")} | AE60: {=IFERROR(INDEX('CAC EPDs'!$F$2:$F$1007,SMALL(IF('CAC EPDs'!$E$2:$E$1007=Lists!AE$6,ROW('CAC EPDs'!$E$2:$E$1007)),ROW(54:54))-1,1),"")} | AF60: {=IFERROR(INDEX('CAC EPDs'!$F$2:$F$1007,SMALL(IF('CAC EPDs'!$E$2:$E$1007=Lists!AF$6,ROW('CAC EPDs'!$E$2:$E$1007)),ROW(54:54))-1,1),"")} | AG60: {=IFERROR(INDEX('CAC EPDs'!$F$2:$F$1007,SMALL(IF('CAC EPDs'!$E$2:$E$1007=Lists!AG$6,ROW('CAC EPDs'!$E$2:$E$1007)),ROW(54:54))-1,1),"")} | AH60: {=IFERROR(INDEX('CAC EPDs'!$F$2:$F$1007,SMALL(IF('CAC EPDs'!$E$2:$E$1007=Lists!AH$6,ROW('CAC EPDs'!$E$2:$E$1007)),ROW(54:54))-1,1),"")} | ... BZ60: {=IFERROR(INDEX('CAC EPDs'!$F$2:$F$1007,SMALL(IF('CAC EPDs'!$E$2:$E$1007=Lists!BZ$6,ROW('CAC EPDs'!$E$2:$E$1007)),ROW(54:54))-1,1),"")}
Y61: Manitoba,25,No | AA61: {=IFERROR(INDEX('CAC EPDs'!$F$2:$F$1007,SMALL(IF('CAC EPDs'!$E$2:$E$1007=Lists!AA$6,ROW('CAC EPDs'!$E$2:$E$1007)),ROW(55:55))-1,1),"")} | AB61: {=IFERROR(INDEX('CAC EPDs'!$F$2:$F$1007,SMALL(IF('CAC EPDs'!$E$2:$E$1007=Lists!AB$6,ROW('CAC EPDs'!$E$2:$E$1007)),ROW(55:55))-1,1),"")} | AC61: {=IFERROR(INDEX('CAC EPDs'!$F$2:$F$1007,SMALL(IF('CAC EPDs'!$E$2:$E$1007=Lists!AC$6,ROW('CAC EPDs'!$E$2:$E$1007)),ROW(55:55))-1,1),"")} | AD61: {=IFERROR(INDEX('CAC EPDs'!$F$2:$F$1007,SMALL(IF('CAC EPDs'!$E$2:$E$1007=Lists!AD$6,ROW('CAC EPDs'!$E$2:$E$1007)),ROW(55:55))-1,1),"")} | AE61: {=IFERROR(INDEX('CAC EPDs'!$F$2:$F$1007,SMALL(IF('CAC EPDs'!$E$2:$E$1007=Lists!AE$6,ROW('CAC EPDs'!$E$2:$E$1007)),ROW(55:55))-1,1),"")} | AF61: {=IFERROR(INDEX('CAC EPDs'!$F$2:$F$1007,SMALL(IF('CAC EPDs'!$E$2:$E$1007=Lists!AF$6,ROW('CAC EPDs'!$E$2:$E$1007)),ROW(55:55))-1,1),"")} | AG61: {=IFERROR(INDEX('CAC EPDs'!$F$2:$F$1007,SMALL(IF('CAC EPDs'!$E$2:$E$1007=Lists!AG$6,ROW('CAC EPDs'!$E$2:$E$1007)),ROW(55:55))-1,1),"")} | AH61: {=IFERROR(INDEX('CAC EPDs'!$F$2:$F$1007,SMALL(IF('CAC EPDs'!$E$2:$E$1007=Lists!AH$6,ROW('CAC EPDs'!$E$2:$E$1007)),ROW(55:55))-1,1),"")} | ... BZ61: {=IFERROR(INDEX('CAC EPDs'!$F$2:$F$1007,SMALL(IF('CAC EPDs'!$E$2:$E$1007=Lists!BZ$6,ROW('CAC EPDs'!$E$2:$E$1007)),ROW(55:55))-1,1),"")}
Y62: Manitoba,25,Yes | AA62: {=IFERROR(INDEX('CAC EPDs'!$F$2:$F$1007,SMALL(IF('CAC EPDs'!$E$2:$E$1007=Lists!AA$6,ROW('CAC EPDs'!$E$2:$E$1007)),ROW(56:56))-1,1),"")} | AB62: {=IFERROR(INDEX('CAC EPDs'!$F$2:$F$1007,SMALL(IF('CAC EPDs'!$E$2:$E$1007=Lists!AB$6,ROW('CAC EPDs'!$E$2:$E$1007)),ROW(56:56))-1,1),"")} | AC62: {=IFERROR(INDEX('CAC EPDs'!$F$2:$F$1007,SMALL(IF('CAC EPDs'!$E$2:$E$1007=Lists!AC$6,ROW('CAC EPDs'!$E$2:$E$1007)),ROW(56:56))-1,1),"")} | AD62: {=IFERROR(INDEX('CAC EPDs'!$F$2:$F$1007,SMALL(IF('CAC EPDs'!$E$2:$E$1007=Lists!AD$6,ROW('CAC EPDs'!$E$2:$E$1007)),ROW(56:56))-1,1),"")} | AE62: {=IFERROR(INDEX('CAC EPDs'!$F$2:$F$1007,SMALL(IF('CAC EPDs'!$E$2:$E$1007=Lists!AE$6,ROW('CAC EPDs'!$E$2:$E$1007)),ROW(56:56))-1,1),"")} | AF62: {=IFERROR(INDEX('CAC EPDs'!$F$2:$F$1007,SMALL(IF('CAC EPDs'!$E$2:$E$1007=Lists!AF$6,ROW('CAC EPDs'!$E$2:$E$1007)),ROW(56:56))-1,1),"")} | AG62: {=IFERROR(INDEX('CAC EPDs'!$F$2:$F$1007,SMALL(IF('CAC EPDs'!$E$2:$E$1007=Lists!AG$6,ROW('CAC EPDs'!$E$2:$E$1007)),ROW(56:56))-1,1),"")} | AH62: {=IFERROR(INDEX('CAC EPDs'!$F$2:$F$1007,SMALL(IF('CAC EPDs'!$E$2:$E$1007=Lists!AH$6,ROW('CAC EPDs'!$E$2:$E$1007)),ROW(56:56))-1,1),"")} | ... BZ62: {=IFERROR(INDEX('CAC EPDs'!$F$2:$F$1007,SMALL(IF('CAC EPDs'!$E$2:$E$1007=Lists!BZ$6,ROW('CAC EPDs'!$E$2:$E$1007)),ROW(56:56))-1,1),"")}
Y63: Manitoba,30,No | AA63: {=IFERROR(INDEX('CAC EPDs'!$F$2:$F$1007,SMALL(IF('CAC EPDs'!$E$2:$E$1007=Lists!AA$6,ROW('CAC EPDs'!$E$2:$E$1007)),ROW(57:57))-1,1),"")} | AB63: {=IFERROR(INDEX('CAC EPDs'!$F$2:$F$1007,SMALL(IF('CAC EPDs'!$E$2:$E$1007=Lists!AB$6,ROW('CAC EPDs'!$E$2:$E$1007)),ROW(57:57))-1,1),"")} | AC63: {=IFERROR(INDEX('CAC EPDs'!$F$2:$F$1007,SMALL(IF('CAC EPDs'!$E$2:$E$1007=Lists!AC$6,ROW('CAC EPDs'!$E$2:$E$1007)),ROW(57:57))-1,1),"")} | AD63: {=IFERROR(INDEX('CAC EPDs'!$F$2:$F$1007,SMALL(IF('CAC EPDs'!$E$2:$E$1007=Lists!AD$6,ROW('CAC EPDs'!$E$2:$E$1007)),ROW(57:57))-1,1),"")} | AE63: {=IFERROR(INDEX('CAC EPDs'!$F$2:$F$1007,SMALL(IF('CAC EPDs'!$E$2:$E$1007=Lists!AE$6,ROW('CAC EPDs'!$E$2:$E$1007)),ROW(57:57))-1,1),"")} | AF63: {=IFERROR(INDEX('CAC EPDs'!$F$2:$F$1007,SMALL(IF('CAC EPDs'!$E$2:$E$1007=Lists!AF$6,ROW('CAC EPDs'!$E$2:$E$1007)),ROW(57:57))-1,1),"")} | AG63: {=IFERROR(INDEX('CAC EPDs'!$F$2:$F$1007,SMALL(IF('CAC EPDs'!$E$2:$E$1007=Lists!AG$6,ROW('CAC EPDs'!$E$2:$E$1007)),ROW(57:57))-1,1),"")} | AH63: {=IFERROR(INDEX('CAC EPDs'!$F$2:$F$1007,SMALL(IF('CAC EPDs'!$E$2:$E$1007=Lists!AH$6,ROW('CAC EPDs'!$E$2:$E$1007)),ROW(57:57))-1,1),"")} | ... BZ63: {=IFERROR(INDEX('CAC EPDs'!$F$2:$F$1007,SMALL(IF('CAC EPDs'!$E$2:$E$1007=Lists!BZ$6,ROW('CAC EPDs'!$E$2:$E$1007)),ROW(57:57))-1,1),"")}
Y64: Manitoba,30,Yes | AA64: {=IFERROR(INDEX('CAC EPDs'!$F$2:$F$1007,SMALL(IF('CAC EPDs'!$E$2:$E$1007=Lists!AA$6,ROW('CAC EPDs'!$E$2:$E$1007)),ROW(58:58))-1,1),"")} | AB64: {=IFERROR(INDEX('CAC EPDs'!$F$2:$F$1007,SMALL(IF('CAC EPDs'!$E$2:$E$1007=Lists!AB$6,ROW('CAC EPDs'!$E$2:$E$1007)),ROW(58:58))-1,1),"")} | AC64: {=IFERROR(INDEX('CAC EPDs'!$F$2:$F$1007,SMALL(IF('CAC EPDs'!$E$2:$E$1007=Lists!AC$6,ROW('CAC EPDs'!$E$2:$E$1007)),ROW(58:58))-1,1),"")} | AD64: {=IFERROR(INDEX('CAC EPDs'!$F$2:$F$1007,SMALL(IF('CAC EPDs'!$E$2:$E$1007=Lists!AD$6,ROW('CAC EPDs'!$E$2:$E$1007)),ROW(58:58))-1,1),"")} | AE64: {=IFERROR(INDEX('CAC EPDs'!$F$2:$F$1007,SMALL(IF('CAC EPDs'!$E$2:$E$1007=Lists!AE$6,ROW('CAC EPDs'!$E$2:$E$1007)),ROW(58:58))-1,1),"")} | AF64: {=IFERROR(INDEX('CAC EPDs'!$F$2:$F$1007,SMALL(IF('CAC EPDs'!$E$2:$E$1007=Lists!AF$6,ROW('CAC EPDs'!$E$2:$E$1007)),ROW(58:58))-1,1),"")} | AG64: {=IFERROR(INDEX('CAC EPDs'!$F$2:$F$1007,SMALL(IF('CAC EPDs'!$E$2:$E$1007=Lists!AG$6,ROW('CAC EPDs'!$E$2:$E$1007)),ROW(58:58))-1,1),"")} | AH64: {=IFERROR(INDEX('CAC EPDs'!$F$2:$F$1007,SMALL(IF('CAC EPDs'!$E$2:$E$1007=Lists!AH$6,ROW('CAC EPDs'!$E$2:$E$1007)),ROW(58:58))-1,1),"")} | ... BZ64: {=IFERROR(INDEX('CAC EPDs'!$F$2:$F$1007,SMALL(IF('CAC EPDs'!$E$2:$E$1007=Lists!BZ$6,ROW('CAC EPDs'!$E$2:$E$1007)),ROW(58:58))-1,1),"")}
Y65: Manitoba,32,Yes | AA65: {=IFERROR(INDEX('CAC EPDs'!$F$2:$F$1007,SMALL(IF('CAC EPDs'!$E$2:$E$1007=Lists!AA$6,ROW('CAC EPDs'!$E$2:$E$1007)),ROW(59:59))-1,1),"")} | AB65: {=IFERROR(INDEX('CAC EPDs'!$F$2:$F$1007,SMALL(IF('CAC EPDs'!$E$2:$E$1007=Lists!AB$6,ROW('CAC EPDs'!$E$2:$E$1007)),ROW(59:59))-1,1),"")} | AC65: {=IFERROR(INDEX('CAC EPDs'!$F$2:$F$1007,SMALL(IF('CAC EPDs'!$E$2:$E$1007=Lists!AC$6,ROW('CAC EPDs'!$E$2:$E$1007)),ROW(59:59))-1,1),"")} | AD65: {=IFERROR(INDEX('CAC EPDs'!$F$2:$F$1007,SMALL(IF('CAC EPDs'!$E$2:$E$1007=Lists!AD$6,ROW('CAC EPDs'!$E$2:$E$1007)),ROW(59:59))-1,1),"")} | AE65: {=IFERROR(INDEX('CAC EPDs'!$F$2:$F$1007,SMALL(IF('CAC EPDs'!$E$2:$E$1007=Lists!AE$6,ROW('CAC EPDs'!$E$2:$E$1007)),ROW(59:59))-1,1),"")} | AF65: {=IFERROR(INDEX('CAC EPDs'!$F$2:$F$1007,SMALL(IF('CAC EPDs'!$E$2:$E$1007=Lists!AF$6,ROW('CAC EPDs'!$E$2:$E$1007)),ROW(59:59))-1,1),"")} | AG65: {=IFERROR(INDEX('CAC EPDs'!$F$2:$F$1007,SMALL(IF('CAC EPDs'!$E$2:$E$1007=Lists!AG$6,ROW('CAC EPDs'!$E$2:$E$1007)),ROW(59:59))-1,1),"")} | AH65: {=IFERROR(INDEX('CAC EPDs'!$F$2:$F$1007,SMALL(IF('CAC EPDs'!$E$2:$E$1007=Lists!AH$6,ROW('CAC EPDs'!$E$2:$E$1007)),ROW(59:59))-1,1),"")} | ... BZ65: {=IFERROR(INDEX('CAC EPDs'!$F$2:$F$1007,SMALL(IF('CAC EPDs'!$E$2:$E$1007=Lists!BZ$6,ROW('CAC EPDs'!$E$2:$E$1007)),ROW(59:59))-1,1),"")}
Y66: Manitoba,35,No | AA66: {=IFERROR(INDEX('CAC EPDs'!$F$2:$F$1007,SMALL(IF('CAC EPDs'!$E$2:$E$1007=Lists!AA$6,ROW('CAC EPDs'!$E$2:$E$1007)),ROW(60:60))-1,1),"")} | AB66: {=IFERROR(INDEX('CAC EPDs'!$F$2:$F$1007,SMALL(IF('CAC EPDs'!$E$2:$E$1007=Lists!AB$6,ROW('CAC EPDs'!$E$2:$E$1007)),ROW(60:60))-1,1),"")} | AC66: {=IFERROR(INDEX('CAC EPDs'!$F$2:$F$1007,SMALL(IF('CAC EPDs'!$E$2:$E$1007=Lists!AC$6,ROW('CAC EPDs'!$E$2:$E$1007)),ROW(60:60))-1,1),"")} | AD66: {=IFERROR(INDEX('CAC EPDs'!$F$2:$F$1007,SMALL(IF('CAC EPDs'!$E$2:$E$1007=Lists!AD$6,ROW('CAC EPDs'!$E$2:$E$1007)),ROW(60:60))-1,1),"")} | AE66: {=IFERROR(INDEX('CAC EPDs'!$F$2:$F$1007,SMALL(IF('CAC EPDs'!$E$2:$E$1007=Lists!AE$6,ROW('CAC EPDs'!$E$2:$E$1007)),ROW(60:60))-1,1),"")} | AF66: {=IFERROR(INDEX('CAC EPDs'!$F$2:$F$1007,SMALL(IF('CAC EPDs'!$E$2:$E$1007=Lists!AF$6,ROW('CAC EPDs'!$E$2:$E$1007)),ROW(60:60))-1,1),"")} | AG66: {=IFERROR(INDEX('CAC EPDs'!$F$2:$F$1007,SMALL(IF('CAC EPDs'!$E$2:$E$1007=Lists!AG$6,ROW('CAC EPDs'!$E$2:$E$1007)),ROW(60:60))-1,1),"")} | AH66: {=IFERROR(INDEX('CAC EPDs'!$F$2:$F$1007,SMALL(IF('CAC EPDs'!$E$2:$E$1007=Lists!AH$6,ROW('CAC EPDs'!$E$2:$E$1007)),ROW(60:60))-1,1),"")} | ... BZ66: {=IFERROR(INDEX('CAC EPDs'!$F$2:$F$1007,SMALL(IF('CAC EPDs'!$E$2:$E$1007=Lists!BZ$6,ROW('CAC EPDs'!$E$2:$E$1007)),ROW(60:60))-1,1),"")}
Y67: Manitoba,35,Yes | AA67: {=IFERROR(INDEX('CAC EPDs'!$F$2:$F$1007,SMALL(IF('CAC EPDs'!$E$2:$E$1007=Lists!AA$6,ROW('CAC EPDs'!$E$2:$E$1007)),ROW(61:61))-1,1),"")} | AB67: {=IFERROR(INDEX('CAC EPDs'!$F$2:$F$1007,SMALL(IF('CAC EPDs'!$E$2:$E$1007=Lists!AB$6,ROW('CAC EPDs'!$E$2:$E$1007)),ROW(61:61))-1,1),"")} | AC67: {=IFERROR(INDEX('CAC EPDs'!$F$2:$F$1007,SMALL(IF('CAC EPDs'!$E$2:$E$1007=Lists!AC$6,ROW('CAC EPDs'!$E$2:$E$1007)),ROW(61:61))-1,1),"")} | AD67: {=IFERROR(INDEX('CAC EPDs'!$F$2:$F$1007,SMALL(IF('CAC EPDs'!$E$2:$E$1007=Lists!AD$6,ROW('CAC EPDs'!$E$2:$E$1007)),ROW(61:61))-1,1),"")} | AE67: {=IFERROR(INDEX('CAC EPDs'!$F$2:$F$1007,SMALL(IF('CAC EPDs'!$E$2:$E$1007=Lists!AE$6,ROW('CAC EPDs'!$E$2:$E$1007)),ROW(61:61))-1,1),"")} | AF67: {=IFERROR(INDEX('CAC EPDs'!$F$2:$F$1007,SMALL(IF('CAC EPDs'!$E$2:$E$1007=Lists!AF$6,ROW('CAC EPDs'!$E$2:$E$1007)),ROW(61:61))-1,1),"")} | AG67: {=IFERROR(INDEX('CAC EPDs'!$F$2:$F$1007,SMALL(IF('CAC EPDs'!$E$2:$E$1007=Lists!AG$6,ROW('CAC EPDs'!$E$2:$E$1007)),ROW(61:61))-1,1),"")} | AH67: {=IFERROR(INDEX('CAC EPDs'!$F$2:$F$1007,SMALL(IF('CAC EPDs'!$E$2:$E$1007=Lists!AH$6,ROW('CAC EPDs'!$E$2:$E$1007)),ROW(61:61))-1,1),"")} | ... BZ67: {=IFERROR(INDEX('CAC EPDs'!$F$2:$F$1007,SMALL(IF('CAC EPDs'!$E$2:$E$1007=Lists!BZ$6,ROW('CAC EPDs'!$E$2:$E$1007)),ROW(61:61))-1,1),"")}
Y68: Manitoba,40,No | AA68: {=IFERROR(INDEX('CAC EPDs'!$F$2:$F$1007,SMALL(IF('CAC EPDs'!$E$2:$E$1007=Lists!AA$6,ROW('CAC EPDs'!$E$2:$E$1007)),ROW(62:62))-1,1),"")} | AB68: {=IFERROR(INDEX('CAC EPDs'!$F$2:$F$1007,SMALL(IF('CAC EPDs'!$E$2:$E$1007=Lists!AB$6,ROW('CAC EPDs'!$E$2:$E$1007)),ROW(62:62))-1,1),"")} | AC68: {=IFERROR(INDEX('CAC EPDs'!$F$2:$F$1007,SMALL(IF('CAC EPDs'!$E$2:$E$1007=Lists!AC$6,ROW('CAC EPDs'!$E$2:$E$1007)),ROW(62:62))-1,1),"")} | AD68: {=IFERROR(INDEX('CAC EPDs'!$F$2:$F$1007,SMALL(IF('CAC EPDs'!$E$2:$E$1007=Lists!AD$6,ROW('CAC EPDs'!$E$2:$E$1007)),ROW(62:62))-1,1),"")} | AE68: {=IFERROR(INDEX('CAC EPDs'!$F$2:$F$1007,SMALL(IF('CAC EPDs'!$E$2:$E$1007=Lists!AE$6,ROW('CAC EPDs'!$E$2:$E$1007)),ROW(62:62))-1,1),"")} | AF68: {=IFERROR(INDEX('CAC EPDs'!$F$2:$F$1007,SMALL(IF('CAC EPDs'!$E$2:$E$1007=Lists!AF$6,ROW('CAC EPDs'!$E$2:$E$1007)),ROW(62:62))-1,1),"")} | AG68: {=IFERROR(INDEX('CAC EPDs'!$F$2:$F$1007,SMALL(IF('CAC EPDs'!$E$2:$E$1007=Lists!AG$6,ROW('CAC EPDs'!$E$2:$E$1007)),ROW(62:62))-1,1),"")} | AH68: {=IFERROR(INDEX('CAC EPDs'!$F$2:$F$1007,SMALL(IF('CAC EPDs'!$E$2:$E$1007=Lists!AH$6,ROW('CAC EPDs'!$E$2:$E$1007)),ROW(62:62))-1,1),"")} | ... BZ68: {=IFERROR(INDEX('CAC EPDs'!$F$2:$F$1007,SMALL(IF('CAC EPDs'!$E$2:$E$1007=Lists!BZ$6,ROW('CAC EPDs'!$E$2:$E$1007)),ROW(62:62))-1,1),"")}
Y69: Manitoba,40,Yes | AA69: {=IFERROR(INDEX('CAC EPDs'!$F$2:$F$1007,SMALL(IF('CAC EPDs'!$E$2:$E$1007=Lists!AA$6,ROW('CAC EPDs'!$E$2:$E$1007)),ROW(63:63))-1,1),"")} | AB69: {=IFERROR(INDEX('CAC EPDs'!$F$2:$F$1007,SMALL(IF('CAC EPDs'!$E$2:$E$1007=Lists!AB$6,ROW('CAC EPDs'!$E$2:$E$1007)),ROW(63:63))-1,1),"")} | AC69: {=IFERROR(INDEX('CAC EPDs'!$F$2:$F$1007,SMALL(IF('CAC EPDs'!$E$2:$E$1007=Lists!AC$6,ROW('CAC EPDs'!$E$2:$E$1007)),ROW(63:63))-1,1),"")} | AD69: {=IFERROR(INDEX('CAC EPDs'!$F$2:$F$1007,SMALL(IF('CAC EPDs'!$E$2:$E$1007=Lists!AD$6,ROW('CAC EPDs'!$E$2:$E$1007)),ROW(63:63))-1,1),"")} | AE69: {=IFERROR(INDEX('CAC EPDs'!$F$2:$F$1007,SMALL(IF('CAC EPDs'!$E$2:$E$1007=Lists!AE$6,ROW('CAC EPDs'!$E$2:$E$1007)),ROW(63:63))-1,1),"")} | AF69: {=IFERROR(INDEX('CAC EPDs'!$F$2:$F$1007,SMALL(IF('CAC EPDs'!$E$2:$E$1007=Lists!AF$6,ROW('CAC EPDs'!$E$2:$E$1007)),ROW(63:63))-1,1),"")} | AG69: {=IFERROR(INDEX('CAC EPDs'!$F$2:$F$1007,SMALL(IF('CAC EPDs'!$E$2:$E$1007=Lists!AG$6,ROW('CAC EPDs'!$E$2:$E$1007)),ROW(63:63))-1,1),"")} | AH69: {=IFERROR(INDEX('CAC EPDs'!$F$2:$F$1007,SMALL(IF('CAC EPDs'!$E$2:$E$1007=Lists!AH$6,ROW('CAC EPDs'!$E$2:$E$1007)),ROW(63:63))-1,1),"")} | ... BZ69: {=IFERROR(INDEX('CAC EPDs'!$F$2:$F$1007,SMALL(IF('CAC EPDs'!$E$2:$E$1007=Lists!BZ$6,ROW('CAC EPDs'!$E$2:$E$1007)),ROW(63:63))-1,1),"")}
Y70: Manitoba,45,No | AA70: {=IFERROR(INDEX('CAC EPDs'!$F$2:$F$1007,SMALL(IF('CAC EPDs'!$E$2:$E$1007=Lists!AA$6,ROW('CAC EPDs'!$E$2:$E$1007)),ROW(64:64))-1,1),"")} | AB70: {=IFERROR(INDEX('CAC EPDs'!$F$2:$F$1007,SMALL(IF('CAC EPDs'!$E$2:$E$1007=Lists!AB$6,ROW('CAC EPDs'!$E$2:$E$1007)),ROW(64:64))-1,1),"")} | AC70: {=IFERROR(INDEX('CAC EPDs'!$F$2:$F$1007,SMALL(IF('CAC EPDs'!$E$2:$E$1007=Lists!AC$6,ROW('CAC EPDs'!$E$2:$E$1007)),ROW(64:64))-1,1),"")} | AD70: {=IFERROR(INDEX('CAC EPDs'!$F$2:$F$1007,SMALL(IF('CAC EPDs'!$E$2:$E$1007=Lists!AD$6,ROW('CAC EPDs'!$E$2:$E$1007)),ROW(64:64))-1,1),"")} | AE70: {=IFERROR(INDEX('CAC EPDs'!$F$2:$F$1007,SMALL(IF('CAC EPDs'!$E$2:$E$1007=Lists!AE$6,ROW('CAC EPDs'!$E$2:$E$1007)),ROW(64:64))-1,1),"")} | AF70: {=IFERROR(INDEX('CAC EPDs'!$F$2:$F$1007,SMALL(IF('CAC EPDs'!$E$2:$E$1007=Lists!AF$6,ROW('CAC EPDs'!$E$2:$E$1007)),ROW(64:64))-1,1),"")} | AG70: {=IFERROR(INDEX('CAC EPDs'!$F$2:$F$1007,SMALL(IF('CAC EPDs'!$E$2:$E$1007=Lists!AG$6,ROW('CAC EPDs'!$E$2:$E$1007)),ROW(64:64))-1,1),"")} | AH70: {=IFERROR(INDEX('CAC EPDs'!$F$2:$F$1007,SMALL(IF('CAC EPDs'!$E$2:$E$1007=Lists!AH$6,ROW('CAC EPDs'!$E$2:$E$1007)),ROW(64:64))-1,1),"")} | ... BZ70: {=IFERROR(INDEX('CAC EPDs'!$F$2:$F$1007,SMALL(IF('CAC EPDs'!$E$2:$E$1007=Lists!BZ$6,ROW('CAC EPDs'!$E$2:$E$1007)),ROW(64:64))-1,1),"")}
Y71: Manitoba,45,Yes | AA71: {=IFERROR(INDEX('CAC EPDs'!$F$2:$F$1007,SMALL(IF('CAC EPDs'!$E$2:$E$1007=Lists!AA$6,ROW('CAC EPDs'!$E$2:$E$1007)),ROW(65:65))-1,1),"")} | AB71: {=IFERROR(INDEX('CAC EPDs'!$F$2:$F$1007,SMALL(IF('CAC EPDs'!$E$2:$E$1007=Lists!AB$6,ROW('CAC EPDs'!$E$2:$E$1007)),ROW(65:65))-1,1),"")} | AC71: {=IFERROR(INDEX('CAC EPDs'!$F$2:$F$1007,SMALL(IF('CAC EPDs'!$E$2:$E$1007=Lists!AC$6,ROW('CAC EPDs'!$E$2:$E$1007)),ROW(65:65))-1,1),"")} | AD71: {=IFERROR(INDEX('CAC EPDs'!$F$2:$F$1007,SMALL(IF('CAC EPDs'!$E$2:$E$1007=Lists!AD$6,ROW('CAC EPDs'!$E$2:$E$1007)),ROW(65:65))-1,1),"")} | AE71: {=IFERROR(INDEX('CAC EPDs'!$F$2:$F$1007,SMALL(IF('CAC EPDs'!$E$2:$E$1007=Lists!AE$6,ROW('CAC EPDs'!$E$2:$E$1007)),ROW(65:65))-1,1),"")} | AF71: {=IFERROR(INDEX('CAC EPDs'!$F$2:$F$1007,SMALL(IF('CAC EPDs'!$E$2:$E$1007=Lists!AF$6,ROW('CAC EPDs'!$E$2:$E$1007)),ROW(65:65))-1,1),"")} | AG71: {=IFERROR(INDEX('CAC EPDs'!$F$2:$F$1007,SMALL(IF('CAC EPDs'!$E$2:$E$1007=Lists!AG$6,ROW('CAC EPDs'!$E$2:$E$1007)),ROW(65:65))-1,1),"")} | AH71: {=IFERROR(INDEX('CAC EPDs'!$F$2:$F$1007,SMALL(IF('CAC EPDs'!$E$2:$E$1007=Lists!AH$6,ROW('CAC EPDs'!$E$2:$E$1007)),ROW(65:65))-1,1),"")} | ... BZ71: {=IFERROR(INDEX('CAC EPDs'!$F$2:$F$1007,SMALL(IF('CAC EPDs'!$E$2:$E$1007=Lists!BZ$6,ROW('CAC EPDs'!$E$2:$E$1007)),ROW(65:65))-1,1),"")}
Y72: Manitoba,50,No | AA72: {=IFERROR(INDEX('CAC EPDs'!$F$2:$F$1007,SMALL(IF('CAC EPDs'!$E$2:$E$1007=Lists!AA$6,ROW('CAC EPDs'!$E$2:$E$1007)),ROW(66:66))-1,1),"")} | AB72: {=IFERROR(INDEX('CAC EPDs'!$F$2:$F$1007,SMALL(IF('CAC EPDs'!$E$2:$E$1007=Lists!AB$6,ROW('CAC EPDs'!$E$2:$E$1007)),ROW(66:66))-1,1),"")} | AC72: {=IFERROR(INDEX('CAC EPDs'!$F$2:$F$1007,SMALL(IF('CAC EPDs'!$E$2:$E$1007=Lists!AC$6,ROW('CAC EPDs'!$E$2:$E$1007)),ROW(66:66))-1,1),"")} | AD72: {=IFERROR(INDEX('CAC EPDs'!$F$2:$F$1007,SMALL(IF('CAC EPDs'!$E$2:$E$1007=Lists!AD$6,ROW('CAC EPDs'!$E$2:$E$1007)),ROW(66:66))-1,1),"")} | AE72: {=IFERROR(INDEX('CAC EPDs'!$F$2:$F$1007,SMALL(IF('CAC EPDs'!$E$2:$E$1007=Lists!AE$6,ROW('CAC EPDs'!$E$2:$E$1007)),ROW(66:66))-1,1),"")} | AF72: {=IFERROR(INDEX('CAC EPDs'!$F$2:$F$1007,SMALL(IF('CAC EPDs'!$E$2:$E$1007=Lists!AF$6,ROW('CAC EPDs'!$E$2:$E$1007)),ROW(66:66))-1,1),"")} | AG72: {=IFERROR(INDEX('CAC EPDs'!$F$2:$F$1007,SMALL(IF('CAC EPDs'!$E$2:$E$1007=Lists!AG$6,ROW('CAC EPDs'!$E$2:$E$1007)),ROW(66:66))-1,1),"")} | AH72: {=IFERROR(INDEX('CAC EPDs'!$F$2:$F$1007,SMALL(IF('CAC EPDs'!$E$2:$E$1007=Lists!AH$6,ROW('CAC EPDs'!$E$2:$E$1007)),ROW(66:66))-1,1),"")} | ... BZ72: {=IFERROR(INDEX('CAC EPDs'!$F$2:$F$1007,SMALL(IF('CAC EPDs'!$E$2:$E$1007=Lists!BZ$6,ROW('CAC EPDs'!$E$2:$E$1007)),ROW(66:66))-1,1),"")}
Y73: Manitoba,50,Yes | AA73: {=IFERROR(INDEX('CAC EPDs'!$F$2:$F$1007,SMALL(IF('CAC EPDs'!$E$2:$E$1007=Lists!AA$6,ROW('CAC EPDs'!$E$2:$E$1007)),ROW(67:67))-1,1),"")} | AB73: {=IFERROR(INDEX('CAC EPDs'!$F$2:$F$1007,SMALL(IF('CAC EPDs'!$E$2:$E$1007=Lists!AB$6,ROW('CAC EPDs'!$E$2:$E$1007)),ROW(67:67))-1,1),"")} | AC73: {=IFERROR(INDEX('CAC EPDs'!$F$2:$F$1007,SMALL(IF('CAC EPDs'!$E$2:$E$1007=Lists!AC$6,ROW('CAC EPDs'!$E$2:$E$1007)),ROW(67:67))-1,1),"")} | AD73: {=IFERROR(INDEX('CAC EPDs'!$F$2:$F$1007,SMALL(IF('CAC EPDs'!$E$2:$E$1007=Lists!AD$6,ROW('CAC EPDs'!$E$2:$E$1007)),ROW(67:67))-1,1),"")} | AE73: {=IFERROR(INDEX('CAC EPDs'!$F$2:$F$1007,SMALL(IF('CAC EPDs'!$E$2:$E$1007=Lists!AE$6,ROW('CAC EPDs'!$E$2:$E$1007)),ROW(67:67))-1,1),"")} | AF73: {=IFERROR(INDEX('CAC EPDs'!$F$2:$F$1007,SMALL(IF('CAC EPDs'!$E$2:$E$1007=Lists!AF$6,ROW('CAC EPDs'!$E$2:$E$1007)),ROW(67:67))-1,1),"")} | AG73: {=IFERROR(INDEX('CAC EPDs'!$F$2:$F$1007,SMALL(IF('CAC EPDs'!$E$2:$E$1007=Lists!AG$6,ROW('CAC EPDs'!$E$2:$E$1007)),ROW(67:67))-1,1),"")} | AH73: {=IFERROR(INDEX('CAC EPDs'!$F$2:$F$1007,SMALL(IF('CAC EPDs'!$E$2:$E$1007=Lists!AH$6,ROW('CAC EPDs'!$E$2:$E$1007)),ROW(67:67))-1,1),"")} | ... BZ73: {=IFERROR(INDEX('CAC EPDs'!$F$2:$F$1007,SMALL(IF('CAC EPDs'!$E$2:$E$1007=Lists!BZ$6,ROW('CAC EPDs'!$E$2:$E$1007)),ROW(67:67))-1,1),"")}
Y74: Alberta,20,Yes | AA74: {=IFERROR(INDEX('CAC EPDs'!$F$2:$F$1007,SMALL(IF('CAC EPDs'!$E$2:$E$1007=Lists!AA$6,ROW('CAC EPDs'!$E$2:$E$1007)),ROW(68:68))-1,1),"")} | AB74: {=IFERROR(INDEX('CAC EPDs'!$F$2:$F$1007,SMALL(IF('CAC EPDs'!$E$2:$E$1007=Lists!AB$6,ROW('CAC EPDs'!$E$2:$E$1007)),ROW(68:68))-1,1),"")} | AC74: {=IFERROR(INDEX('CAC EPDs'!$F$2:$F$1007,SMALL(IF('CAC EPDs'!$E$2:$E$1007=Lists!AC$6,ROW('CAC EPDs'!$E$2:$E$1007)),ROW(68:68))-1,1),"")} | AD74: {=IFERROR(INDEX('CAC EPDs'!$F$2:$F$1007,SMALL(IF('CAC EPDs'!$E$2:$E$1007=Lists!AD$6,ROW('CAC EPDs'!$E$2:$E$1007)),ROW(68:68))-1,1),"")} | AE74: {=IFERROR(INDEX('CAC EPDs'!$F$2:$F$1007,SMALL(IF('CAC EPDs'!$E$2:$E$1007=Lists!AE$6,ROW('CAC EPDs'!$E$2:$E$1007)),ROW(68:68))-1,1),"")} | AF74: {=IFERROR(INDEX('CAC EPDs'!$F$2:$F$1007,SMALL(IF('CAC EPDs'!$E$2:$E$1007=Lists!AF$6,ROW('CAC EPDs'!$E$2:$E$1007)),ROW(68:68))-1,1),"")} | AG74: {=IFERROR(INDEX('CAC EPDs'!$F$2:$F$1007,SMALL(IF('CAC EPDs'!$E$2:$E$1007=Lists!AG$6,ROW('CAC EPDs'!$E$2:$E$1007)),ROW(68:68))-1,1),"")} | AH74: {=IFERROR(INDEX('CAC EPDs'!$F$2:$F$1007,SMALL(IF('CAC EPDs'!$E$2:$E$1007=Lists!AH$6,ROW('CAC EPDs'!$E$2:$E$1007)),ROW(68:68))-1,1),"")} | ... BZ74: {=IFERROR(INDEX('CAC EPDs'!$F$2:$F$1007,SMALL(IF('CAC EPDs'!$E$2:$E$1007=Lists!BZ$6,ROW('CAC EPDs'!$E$2:$E$1007)),ROW(68:68))-1,1),"")}
